BEGIN:VCALENDAR
VERSION:2.0
PRODID:-//Rødt Bergen Ressurser - ECPv6.15.20//NONSGML v1.0//EN
CALSCALE:GREGORIAN
METHOD:PUBLISH
X-ORIGINAL-URL:https://roedtbergen.no
X-WR-CALDESC:Arrangement for Rødt Bergen Ressurser
REFRESH-INTERVAL;VALUE=DURATION:PT1H
X-Robots-Tag:noindex
X-PUBLISHED-TTL:PT1H
BEGIN:VTIMEZONE
TZID:Europe/Oslo
BEGIN:DAYLIGHT
TZOFFSETFROM:+0100
TZOFFSETTO:+0200
TZNAME:CEST
DTSTART:20240331T010000
END:DAYLIGHT
BEGIN:STANDARD
TZOFFSETFROM:+0200
TZOFFSETTO:+0100
TZNAME:CET
DTSTART:20241027T010000
END:STANDARD
BEGIN:DAYLIGHT
TZOFFSETFROM:+0100
TZOFFSETTO:+0200
TZNAME:CEST
DTSTART:20250330T010000
END:DAYLIGHT
BEGIN:STANDARD
TZOFFSETFROM:+0200
TZOFFSETTO:+0100
TZNAME:CET
DTSTART:20251026T010000
END:STANDARD
BEGIN:DAYLIGHT
TZOFFSETFROM:+0100
TZOFFSETTO:+0200
TZNAME:CEST
DTSTART:20260329T010000
END:DAYLIGHT
BEGIN:STANDARD
TZOFFSETFROM:+0200
TZOFFSETTO:+0100
TZNAME:CET
DTSTART:20261025T010000
END:STANDARD
END:VTIMEZONE
BEGIN:VEVENT
DTSTART;TZID=Europe/Oslo:20250520T060000
DTEND;TZID=Europe/Oslo:20250520T073000
DTSTAMP:20260425T152517
CREATED:20250516T074619Z
LAST-MODIFIED:20250516T074714Z
UID:10000375-1747720800-1747726200@roedtbergen.no
SUMMARY:Morgenutdeling på Bybanen til Fyllingsdalen
DESCRIPTION:Vi tar Bybanen fra Byparken til Oasen og takker de som går på jobb. Når vi har tatt runden i vognen hopper vi av og tar neste bane. Bli med på hele turen eller en av strekningene \nFra Byparken 06:09 \nFra Fløen 06:25 \nFra Mindemyren 06:40 \nUtdeling på Fyllingsdalen terminal fra 06:45-07:30 \n  \n 
URL:https://roedtbergen.no/aktivitet/morgenutdeling-pa-bybanen-til-fyllingsdalen/
LOCATION:Byparken\, Norge
END:VEVENT
BEGIN:VEVENT
DTSTART;TZID=Europe/Oslo:20250520T060000
DTEND;TZID=Europe/Oslo:20250520T080000
DTSTAMP:20260425T152517
CREATED:20250516T092524Z
LAST-MODIFIED:20250516T102422Z
UID:10000376-1747720800-1747728000@roedtbergen.no
SUMMARY:Morgenutdeling ved brofestet til Puddefjordsbroen
DESCRIPTION:Vi møtes og deler ut løpesedler og snacks til arbeidsfolk som går av og på bussen på Møhlenprissiden av brofestet til Puddefjordsbroen.
URL:https://roedtbergen.no/aktivitet/morgenutdeling-ved-brofestet-til-puddefjordsbroen/
LOCATION:Industrihuset\, Bredalsmarken 15\, Bergen\, 5836\, Norway
ORGANIZER;CN="Raudt Hordaland":MAILTO:hordaland@raudt.no
END:VEVENT
BEGIN:VEVENT
DTSTART;TZID=Europe/Oslo:20250520T073000
DTEND;TZID=Europe/Oslo:20250520T090000
DTSTAMP:20260425T152517
CREATED:20250515T125647Z
LAST-MODIFIED:20250518T140749Z
UID:10000366-1747726200-1747731600@roedtbergen.no
SUMMARY:Morgenutdeling Byparken
DESCRIPTION:Morgenutdeling i Byparken fra 8-9
URL:https://roedtbergen.no/aktivitet/morgenutdeling-byparken/
LOCATION:Byparken\, Norge
ORGANIZER;CN="R%C3%B8dt Bergen Sentrum":MAILTO:per.arne@roedt.no
END:VEVENT
BEGIN:VEVENT
DTSTART;TZID=Europe/Oslo:20250520T074500
DTEND;TZID=Europe/Oslo:20250520T090000
DTSTAMP:20260425T152517
CREATED:20250515T125809Z
LAST-MODIFIED:20250519T064552Z
UID:10000367-1747727100-1747731600@roedtbergen.no
SUMMARY:Morgenutdeling Nesttun Terminal
DESCRIPTION:Morgenutdeling på Nesttun terminal fra 07.45-9
URL:https://roedtbergen.no/aktivitet/morgenutdeling-nesttun-terminal-2/
LOCATION:Nesttun terminal
ORGANIZER;CN="R%C3%B8dt Bergen Fana":MAILTO:styret-rdt-fana@googlegroups.com
END:VEVENT
END:VCALENDAR