BEGIN:VCALENDAR
VERSION:2.0
PRODID:-//Rødt Bergen Ressurser - ECPv6.15.20//NONSGML v1.0//EN
CALSCALE:GREGORIAN
METHOD:PUBLISH
X-WR-CALNAME:Rødt Bergen Ressurser
X-ORIGINAL-URL:https://roedtbergen.no
X-WR-CALDESC:Arrangement for Rødt Bergen Ressurser
REFRESH-INTERVAL;VALUE=DURATION:PT1H
X-Robots-Tag:noindex
X-PUBLISHED-TTL:PT1H
BEGIN:VTIMEZONE
TZID:Europe/Oslo
BEGIN:DAYLIGHT
TZOFFSETFROM:+0100
TZOFFSETTO:+0200
TZNAME:CEST
DTSTART:20240331T010000
END:DAYLIGHT
BEGIN:STANDARD
TZOFFSETFROM:+0200
TZOFFSETTO:+0100
TZNAME:CET
DTSTART:20241027T010000
END:STANDARD
BEGIN:DAYLIGHT
TZOFFSETFROM:+0100
TZOFFSETTO:+0200
TZNAME:CEST
DTSTART:20250330T010000
END:DAYLIGHT
BEGIN:STANDARD
TZOFFSETFROM:+0200
TZOFFSETTO:+0100
TZNAME:CET
DTSTART:20251026T010000
END:STANDARD
BEGIN:DAYLIGHT
TZOFFSETFROM:+0100
TZOFFSETTO:+0200
TZNAME:CEST
DTSTART:20260329T010000
END:DAYLIGHT
BEGIN:STANDARD
TZOFFSETFROM:+0200
TZOFFSETTO:+0100
TZNAME:CET
DTSTART:20261025T010000
END:STANDARD
END:VTIMEZONE
BEGIN:VEVENT
DTSTART;TZID=Europe/Oslo:20250521T063000
DTEND;TZID=Europe/Oslo:20250521T083000
DTSTAMP:20260426T050109
CREATED:20250516T103029Z
LAST-MODIFIED:20250516T103029Z
UID:10000377-1747809000-1747816200@roedtbergen.no
SUMMARY:Morgenutdeling på Haukeland
DESCRIPTION:Vi deler ut løpesedler og takker alle som får Hordalands største arbeidsplass til å gå rundt. Vi står på Bybanestoppet på Haukeland
URL:https://roedtbergen.no/aktivitet/morgenutdeling-pa-haukeland/
LOCATION:Haukeland sykehus
ORGANIZER;CN="Raudt Hordaland":MAILTO:hordaland@raudt.no
END:VEVENT
BEGIN:VEVENT
DTSTART;TZID=Europe/Oslo:20250521T080000
DTEND;TZID=Europe/Oslo:20250521T093000
DTSTAMP:20260426T050109
CREATED:20250515T190330Z
LAST-MODIFIED:20250515T190330Z
UID:10000368-1747814400-1747819800@roedtbergen.no
SUMMARY:Morgenutdeling Danmarks Plass
DESCRIPTION:Morgenutdeling på Danmarks plass (Bybanestoppet) fra klokken 8
URL:https://roedtbergen.no/aktivitet/morgenutdeling-danmarks-plass/
LOCATION:Danmarks Plass\, Danmarks Plass\, Bergen\, Norway
ORGANIZER;CN="R%C3%B8dt Bergen %C3%85rstad":MAILTO:eir_bakke@hotmail.com
END:VEVENT
END:VCALENDAR