BEGIN:VCALENDAR
VERSION:2.0
PRODID:-//Rødt Bergen Ressurser - ECPv6.15.20//NONSGML v1.0//EN
CALSCALE:GREGORIAN
METHOD:PUBLISH
X-WR-CALNAME:Rødt Bergen Ressurser
X-ORIGINAL-URL:https://roedtbergen.no
X-WR-CALDESC:Arrangement for Rødt Bergen Ressurser
REFRESH-INTERVAL;VALUE=DURATION:PT1H
X-Robots-Tag:noindex
X-PUBLISHED-TTL:PT1H
BEGIN:VTIMEZONE
TZID:Europe/Oslo
BEGIN:DAYLIGHT
TZOFFSETFROM:+0100
TZOFFSETTO:+0200
TZNAME:CEST
DTSTART:20240331T010000
END:DAYLIGHT
BEGIN:STANDARD
TZOFFSETFROM:+0200
TZOFFSETTO:+0100
TZNAME:CET
DTSTART:20241027T010000
END:STANDARD
BEGIN:DAYLIGHT
TZOFFSETFROM:+0100
TZOFFSETTO:+0200
TZNAME:CEST
DTSTART:20250330T010000
END:DAYLIGHT
BEGIN:STANDARD
TZOFFSETFROM:+0200
TZOFFSETTO:+0100
TZNAME:CET
DTSTART:20251026T010000
END:STANDARD
BEGIN:DAYLIGHT
TZOFFSETFROM:+0100
TZOFFSETTO:+0200
TZNAME:CEST
DTSTART:20260329T010000
END:DAYLIGHT
BEGIN:STANDARD
TZOFFSETFROM:+0200
TZOFFSETTO:+0100
TZNAME:CET
DTSTART:20261025T010000
END:STANDARD
END:VTIMEZONE
BEGIN:VEVENT
DTSTART;TZID=Europe/Oslo:20250523T060000
DTEND;TZID=Europe/Oslo:20250523T083000
DTSTAMP:20260425T202753
CREATED:20250515T190957Z
LAST-MODIFIED:20250515T190957Z
UID:10000372-1747980000-1747989000@roedtbergen.no
SUMMARY:Morgenutdeling på Åsane Terminal
DESCRIPTION:Fra klokken 6
URL:https://roedtbergen.no/aktivitet/morgenutdeling-pa-asane-terminal-2/
LOCATION:Åsane Terminal
ORGANIZER;CN="Raudt Bergen Arna og %C3%85sane":MAILTO:torsteintopp@hotmail.com
END:VEVENT
BEGIN:VEVENT
DTSTART;TZID=Europe/Oslo:20250523T064000
DTEND;TZID=Europe/Oslo:20250523T080000
DTSTAMP:20260425T202753
CREATED:20250515T191314Z
LAST-MODIFIED:20250515T191314Z
UID:10000373-1747982400-1747987200@roedtbergen.no
SUMMARY:Morgenutdeling på Austevollsfergen
DESCRIPTION:Sofie Marhaug med følge  tar morgenfergen 0640 fra Krokeide til Hufthamar og fergen tilbake. På fergen takker vi folk for innsatsen og snakker om viktigheten av gratisferge.
URL:https://roedtbergen.no/aktivitet/morgenutdeling-pa-austevollsfergen/
LOCATION:Krokeide fergekai
ORGANIZER;CN="Raudt Hordaland":MAILTO:hordaland@raudt.no
END:VEVENT
END:VCALENDAR