BEGIN:VCALENDAR
VERSION:2.0
PRODID:-//Rødt Bergen Ressurser - ECPv6.15.20//NONSGML v1.0//EN
CALSCALE:GREGORIAN
METHOD:PUBLISH
X-ORIGINAL-URL:https://roedtbergen.no
X-WR-CALDESC:Arrangement for Rødt Bergen Ressurser
REFRESH-INTERVAL;VALUE=DURATION:PT1H
X-Robots-Tag:noindex
X-PUBLISHED-TTL:PT1H
BEGIN:VTIMEZONE
TZID:Europe/Oslo
BEGIN:DAYLIGHT
TZOFFSETFROM:+0100
TZOFFSETTO:+0200
TZNAME:CEST
DTSTART:20240331T010000
END:DAYLIGHT
BEGIN:STANDARD
TZOFFSETFROM:+0200
TZOFFSETTO:+0100
TZNAME:CET
DTSTART:20241027T010000
END:STANDARD
BEGIN:DAYLIGHT
TZOFFSETFROM:+0100
TZOFFSETTO:+0200
TZNAME:CEST
DTSTART:20250330T010000
END:DAYLIGHT
BEGIN:STANDARD
TZOFFSETFROM:+0200
TZOFFSETTO:+0100
TZNAME:CET
DTSTART:20251026T010000
END:STANDARD
BEGIN:DAYLIGHT
TZOFFSETFROM:+0100
TZOFFSETTO:+0200
TZNAME:CEST
DTSTART:20260329T010000
END:DAYLIGHT
BEGIN:STANDARD
TZOFFSETFROM:+0200
TZOFFSETTO:+0100
TZNAME:CET
DTSTART:20261025T010000
END:STANDARD
END:VTIMEZONE
BEGIN:VEVENT
DTSTART;TZID=Europe/Oslo:20250703T150000
DTEND;TZID=Europe/Oslo:20250703T163000
DTSTAMP:20260425T134431
CREATED:20250701T114321Z
LAST-MODIFIED:20250701T114321Z
UID:10000385-1751554800-1751560200@roedtbergen.no
SUMMARY:Løpeseddelutdeling Laksevåg senter
DESCRIPTION:Rødt Laksevåg og Loddefjord har utdeling av materiell på Laksevåg senter (ring 90555069 om du ikke finner oss) torsdag 3.juli. Etterpå kan de som ønsker være med på Baker Brun for valgkampkafè.
URL:https://roedtbergen.no/aktivitet/lopeseddelutdeling-laksevag-senter/
LOCATION:Laksevåg Senter\, Kringsjåveien 89\, Laksevåg\, 5163\, Norge
END:VEVENT
BEGIN:VEVENT
DTSTART;TZID=Europe/Oslo:20250703T160000
DTEND;TZID=Europe/Oslo:20250703T170000
DTSTAMP:20260425T134431
CREATED:20250624T071311Z
LAST-MODIFIED:20250624T071311Z
UID:10000384-1751558400-1751562000@roedtbergen.no
SUMMARY:Løpeseddelutdeling Nonneseter Bybanestopp
DESCRIPTION:
URL:https://roedtbergen.no/aktivitet/lopeseddelutdeling-nonneseter-bybanestopp/
LOCATION:Nonneseter Bybanestopp\, Kaigaten 1B\, Bergen\, 5015
ORGANIZER;CN="R%C3%B8dt Bergen %C3%85rstad":MAILTO:eir_bakke@hotmail.com
END:VEVENT
END:VCALENDAR