BEGIN:VCALENDAR
VERSION:2.0
PRODID:-//Rødt Bergen Ressurser - ECPv6.15.20//NONSGML v1.0//EN
CALSCALE:GREGORIAN
METHOD:PUBLISH
X-WR-CALNAME:Rødt Bergen Ressurser
X-ORIGINAL-URL:https://roedtbergen.no
X-WR-CALDESC:Arrangement for Rødt Bergen Ressurser
REFRESH-INTERVAL;VALUE=DURATION:PT1H
X-Robots-Tag:noindex
X-PUBLISHED-TTL:PT1H
BEGIN:VTIMEZONE
TZID:Europe/Oslo
BEGIN:DAYLIGHT
TZOFFSETFROM:+0100
TZOFFSETTO:+0200
TZNAME:CEST
DTSTART:20240331T010000
END:DAYLIGHT
BEGIN:STANDARD
TZOFFSETFROM:+0200
TZOFFSETTO:+0100
TZNAME:CET
DTSTART:20241027T010000
END:STANDARD
BEGIN:DAYLIGHT
TZOFFSETFROM:+0100
TZOFFSETTO:+0200
TZNAME:CEST
DTSTART:20250330T010000
END:DAYLIGHT
BEGIN:STANDARD
TZOFFSETFROM:+0200
TZOFFSETTO:+0100
TZNAME:CET
DTSTART:20251026T010000
END:STANDARD
BEGIN:DAYLIGHT
TZOFFSETFROM:+0100
TZOFFSETTO:+0200
TZNAME:CEST
DTSTART:20260329T010000
END:DAYLIGHT
BEGIN:STANDARD
TZOFFSETFROM:+0200
TZOFFSETTO:+0100
TZNAME:CET
DTSTART:20261025T010000
END:STANDARD
END:VTIMEZONE
BEGIN:VEVENT
DTSTART;TZID=Europe/Oslo:20250706T150000
DTEND;TZID=Europe/Oslo:20250706T163000
DTSTAMP:20260425T121758
CREATED:20250701T114732Z
LAST-MODIFIED:20250702T164525Z
UID:10000387-1751814000-1751819400@roedtbergen.no
SUMMARY:Postkasseutdeling sentrum
DESCRIPTION:Bli med på postkasseutdeling i Sentrum. Vi møtes på Rødt-kontoret i Hans Tanks gate 17\, og dekker deler av sentrumsområdet. Postkasseutdeling passer fint for deg som vil gå en tur sammen med andre Rødt-folk og gjøre en viktig jobb i valgkampen.
URL:https://roedtbergen.no/aktivitet/postkasseutdeling-sentrum-2/
LOCATION:Rødt Bergen\, Hans Tanks Gate 17\, Bergen\, 5008\, Norge
ORGANIZER;CN="R%C3%B8dt Bergen Sentrum":MAILTO:per.arne@roedt.no
END:VEVENT
END:VCALENDAR