BEGIN:VCALENDAR
VERSION:2.0
PRODID:-//Rødt Bergen Ressurser - ECPv6.15.20//NONSGML v1.0//EN
CALSCALE:GREGORIAN
METHOD:PUBLISH
X-WR-CALNAME:Rødt Bergen Ressurser
X-ORIGINAL-URL:https://roedtbergen.no
X-WR-CALDESC:Arrangement for Rødt Bergen Ressurser
REFRESH-INTERVAL;VALUE=DURATION:PT1H
X-Robots-Tag:noindex
X-PUBLISHED-TTL:PT1H
BEGIN:VTIMEZONE
TZID:Europe/Oslo
BEGIN:DAYLIGHT
TZOFFSETFROM:+0100
TZOFFSETTO:+0200
TZNAME:CEST
DTSTART:20240331T010000
END:DAYLIGHT
BEGIN:STANDARD
TZOFFSETFROM:+0200
TZOFFSETTO:+0100
TZNAME:CET
DTSTART:20241027T010000
END:STANDARD
BEGIN:DAYLIGHT
TZOFFSETFROM:+0100
TZOFFSETTO:+0200
TZNAME:CEST
DTSTART:20250330T010000
END:DAYLIGHT
BEGIN:STANDARD
TZOFFSETFROM:+0200
TZOFFSETTO:+0100
TZNAME:CET
DTSTART:20251026T010000
END:STANDARD
BEGIN:DAYLIGHT
TZOFFSETFROM:+0100
TZOFFSETTO:+0200
TZNAME:CEST
DTSTART:20260329T010000
END:DAYLIGHT
BEGIN:STANDARD
TZOFFSETFROM:+0200
TZOFFSETTO:+0100
TZNAME:CET
DTSTART:20261025T010000
END:STANDARD
END:VTIMEZONE
BEGIN:VEVENT
DTSTART;TZID=Europe/Oslo:20250806T110000
DTEND;TZID=Europe/Oslo:20250806T140000
DTSTAMP:20260425T024120
CREATED:20250804T111644Z
LAST-MODIFIED:20250804T111644Z
UID:10000471-1754478000-1754488800@roedtbergen.no
SUMMARY:Stand på Høyden
DESCRIPTION:Studentlaget har stand på Høyden ved HF biblioteket kl11-14. Oppmøte 10:30 på Rødt kontoret (Hans Tanks gate 17).
URL:https://roedtbergen.no/aktivitet/stand-pa-hoyden/
LOCATION:HF biblioteket\, Haakons Shetlings plass 7\, Bergen\, 5007\, Norway
END:VEVENT
BEGIN:VEVENT
DTSTART;TZID=Europe/Oslo:20250806T180000
DTEND;TZID=Europe/Oslo:20250806T200000
DTSTAMP:20260425T024120
CREATED:20250801T085442Z
LAST-MODIFIED:20250806T105831Z
UID:10000465-1754503200-1754510400@roedtbergen.no
SUMMARY:Allmøte Live - Sammen
DESCRIPTION:Onsdag 6. august er det Rødts nasjonale Allmøte Live der. Vi møtes på partikontoret og ser sammen\, og girer hverandre opp til den lange valgkampen. Rødt stiller med Popcorn\, brus og pizza. Meld deg på! \nNå er det fullt. Men følg gjerne Allmøte Live hjemmefra. Der må du også melde deg på for å få lenken.
URL:https://roedtbergen.no/aktivitet/allmote-live-sammen/
LOCATION:Rødt Bergen\, Hans Tanks Gate 17\, Bergen\, 5008\, Norge
ORGANIZER;CN="Raudt Hordaland":MAILTO:hordaland@raudt.no
END:VEVENT
END:VCALENDAR