BEGIN:VCALENDAR
VERSION:2.0
PRODID:-//Rødt Bergen Ressurser - ECPv6.15.20//NONSGML v1.0//EN
CALSCALE:GREGORIAN
METHOD:PUBLISH
X-WR-CALNAME:Rødt Bergen Ressurser
X-ORIGINAL-URL:https://roedtbergen.no
X-WR-CALDESC:Arrangement for Rødt Bergen Ressurser
REFRESH-INTERVAL;VALUE=DURATION:PT1H
X-Robots-Tag:noindex
X-PUBLISHED-TTL:PT1H
BEGIN:VTIMEZONE
TZID:Europe/Oslo
BEGIN:DAYLIGHT
TZOFFSETFROM:+0100
TZOFFSETTO:+0200
TZNAME:CEST
DTSTART:20240331T010000
END:DAYLIGHT
BEGIN:STANDARD
TZOFFSETFROM:+0200
TZOFFSETTO:+0100
TZNAME:CET
DTSTART:20241027T010000
END:STANDARD
BEGIN:DAYLIGHT
TZOFFSETFROM:+0100
TZOFFSETTO:+0200
TZNAME:CEST
DTSTART:20250330T010000
END:DAYLIGHT
BEGIN:STANDARD
TZOFFSETFROM:+0200
TZOFFSETTO:+0100
TZNAME:CET
DTSTART:20251026T010000
END:STANDARD
BEGIN:DAYLIGHT
TZOFFSETFROM:+0100
TZOFFSETTO:+0200
TZNAME:CEST
DTSTART:20260329T010000
END:DAYLIGHT
BEGIN:STANDARD
TZOFFSETFROM:+0200
TZOFFSETTO:+0100
TZNAME:CET
DTSTART:20261025T010000
END:STANDARD
END:VTIMEZONE
BEGIN:VEVENT
DTSTART;TZID=Europe/Oslo:20250820T073000
DTEND;TZID=Europe/Oslo:20250820T090000
DTSTAMP:20260425T144437
CREATED:20250817T093651Z
LAST-MODIFIED:20250817T093651Z
UID:10000514-1755675000-1755680400@roedtbergen.no
SUMMARY:Morgenutdeling Nonneseter
DESCRIPTION:Vi møter folk morgenen etter TV2-debatten fra Bergen på bybanestoppet på Nonneseter.
URL:https://roedtbergen.no/aktivitet/morgenutdeling-nonneseter/
LOCATION:Nonneseter Bybanestopp\, Kaigaten 1B\, Bergen\, 5015
ORGANIZER;CN="R%C3%B8dt Bergen Sentrum":MAILTO:per.arne@roedt.no
END:VEVENT
BEGIN:VEVENT
DTSTART;TZID=Europe/Oslo:20250820T120000
DTEND;TZID=Europe/Oslo:20250820T140000
DTSTAMP:20260425T144437
CREATED:20250729T075946Z
LAST-MODIFIED:20250729T075946Z
UID:10000416-1755691200-1755698400@roedtbergen.no
SUMMARY:Valgbod
DESCRIPTION:Vi har åpen valgbod hver dag unntatt søndag fra 12-18 mellom 15. august og 7. september. Valgboden er stengt på søndager. I valgboden står vi alltid minst to personer\, prater med folk om Rødt og deler ut materiell. Øktene i valgboden er på to timer.
URL:https://roedtbergen.no/aktivitet/valgbod-3/2025-08-20/
LOCATION:Torgallmeningen\, Torgallmeningen 1\, Bergen\, Vestland\, 5000\, Norge
ORGANIZER;CN="Raudt Hordaland":MAILTO:hordaland@raudt.no
END:VEVENT
BEGIN:VEVENT
DTSTART;TZID=Europe/Oslo:20250820T140000
DTEND;TZID=Europe/Oslo:20250820T160000
DTSTAMP:20260425T144437
CREATED:20250729T075820Z
LAST-MODIFIED:20250729T075820Z
UID:10000397-1755698400-1755705600@roedtbergen.no
SUMMARY:Valgbod
DESCRIPTION:Vi har åpen valgbod hver dag unntatt søndag fra 12-18 mellom 15. august og 7. september. Valgboden er stengt på søndager. I valgboden står vi alltid minst to personer\, prater med folk om Rødt og deler ut materiell. Øktene i valgboden er på to timer.
URL:https://roedtbergen.no/aktivitet/valgbod-2/2025-08-20/
LOCATION:Torgallmeningen\, Torgallmeningen 1\, Bergen\, Vestland\, 5000\, Norge
ORGANIZER;CN="Raudt Hordaland":MAILTO:hordaland@raudt.no
END:VEVENT
BEGIN:VEVENT
DTSTART;TZID=Europe/Oslo:20250820T160000
DTEND;TZID=Europe/Oslo:20250820T180000
DTSTAMP:20260425T144437
CREATED:20250729T080056Z
LAST-MODIFIED:20250729T080056Z
UID:10000436-1755705600-1755712800@roedtbergen.no
SUMMARY:Valgbod
DESCRIPTION:Vi har åpen valgbod hver dag unntatt søndag fra 12-18 mellom 15. august og 7. september. Valgboden er stengt på søndager. I valgboden står vi alltid minst to personer\, prater med folk om Rødt og deler ut materiell. Øktene i valgboden er på to timer.
URL:https://roedtbergen.no/aktivitet/valgbod-4/2025-08-20/
LOCATION:Torgallmeningen\, Torgallmeningen 1\, Bergen\, Vestland\, 5000\, Norge
ORGANIZER;CN="Raudt Hordaland":MAILTO:hordaland@raudt.no
END:VEVENT
END:VCALENDAR