BEGIN:VCALENDAR
VERSION:2.0
PRODID:-//Rødt Bergen Ressurser - ECPv6.15.20//NONSGML v1.0//EN
CALSCALE:GREGORIAN
METHOD:PUBLISH
X-ORIGINAL-URL:https://roedtbergen.no
X-WR-CALDESC:Arrangement for Rødt Bergen Ressurser
REFRESH-INTERVAL;VALUE=DURATION:PT1H
X-Robots-Tag:noindex
X-PUBLISHED-TTL:PT1H
BEGIN:VTIMEZONE
TZID:Europe/Oslo
BEGIN:DAYLIGHT
TZOFFSETFROM:+0100
TZOFFSETTO:+0200
TZNAME:CEST
DTSTART:20240331T010000
END:DAYLIGHT
BEGIN:STANDARD
TZOFFSETFROM:+0200
TZOFFSETTO:+0100
TZNAME:CET
DTSTART:20241027T010000
END:STANDARD
BEGIN:DAYLIGHT
TZOFFSETFROM:+0100
TZOFFSETTO:+0200
TZNAME:CEST
DTSTART:20250330T010000
END:DAYLIGHT
BEGIN:STANDARD
TZOFFSETFROM:+0200
TZOFFSETTO:+0100
TZNAME:CET
DTSTART:20251026T010000
END:STANDARD
BEGIN:DAYLIGHT
TZOFFSETFROM:+0100
TZOFFSETTO:+0200
TZNAME:CEST
DTSTART:20260329T010000
END:DAYLIGHT
BEGIN:STANDARD
TZOFFSETFROM:+0200
TZOFFSETTO:+0100
TZNAME:CET
DTSTART:20261025T010000
END:STANDARD
END:VTIMEZONE
BEGIN:VEVENT
DTSTART;TZID=Europe/Oslo:20250905T073000
DTEND;TZID=Europe/Oslo:20250905T083000
DTSTAMP:20260425T130156
CREATED:20250831T155942Z
LAST-MODIFIED:20250831T155942Z
UID:10000537-1757057400-1757061000@roedtbergen.no
SUMMARY:Morgenutdeling Danmarks Plass
DESCRIPTION:Årstad kjører en morgenutdeling på Danmarks plass fredag 5.sept\, v bybanen\, kl 7.30-8.30. Mailiss er kontaktperson og nås på tlfnr: 98890063.
URL:https://roedtbergen.no/aktivitet/morgenutdeling-danmarks-plass-3/
LOCATION:Danmarks Plass\, Danmarks Plass\, Bergen\, Norway
ORGANIZER;CN="R%C3%B8dt Bergen %C3%85rstad":MAILTO:eir_bakke@hotmail.com
END:VEVENT
BEGIN:VEVENT
DTSTART;TZID=Europe/Oslo:20250905T110000
DTEND;TZID=Europe/Oslo:20250905T130000
DTSTAMP:20260425T130156
CREATED:20250902T085302Z
LAST-MODIFIED:20250902T090010Z
UID:10000540-1757070000-1757077200@roedtbergen.no
SUMMARY:Utdeling Nygårdshøyden (oppmøte HF-biblioteket)
DESCRIPTION:Kontaktperson Eirik Furuberg: 950 05 882
URL:https://roedtbergen.no/aktivitet/utdeling-nygardshoyden/
LOCATION:Nygårdshøyden
END:VEVENT
BEGIN:VEVENT
DTSTART;TZID=Europe/Oslo:20250905T113000
DTEND;TZID=Europe/Oslo:20250905T123000
DTSTAMP:20260425T130156
CREATED:20250904T130854Z
LAST-MODIFIED:20250904T130854Z
UID:10000542-1757071800-1757075400@roedtbergen.no
SUMMARY:Lunsjutdeling Matkroken\, Blekenberg
DESCRIPTION:
URL:https://roedtbergen.no/aktivitet/lunsjutdeling-matkroken-blekenberg/
LOCATION:Matkroken\, Blekenberg\, Blekenberg 6-10\, Bergen\, 5055\, Norway
ORGANIZER;CN="R%C3%B8dt Bergen %C3%85rstad":MAILTO:eir_bakke@hotmail.com
END:VEVENT
BEGIN:VEVENT
DTSTART;TZID=Europe/Oslo:20250905T120000
DTEND;TZID=Europe/Oslo:20250905T140000
DTSTAMP:20260425T130156
CREATED:20250729T075946Z
LAST-MODIFIED:20250729T075946Z
UID:10000430-1757073600-1757080800@roedtbergen.no
SUMMARY:Valgbod
DESCRIPTION:Vi har åpen valgbod hver dag unntatt søndag fra 12-18 mellom 15. august og 7. september. Valgboden er stengt på søndager. I valgboden står vi alltid minst to personer\, prater med folk om Rødt og deler ut materiell. Øktene i valgboden er på to timer.
URL:https://roedtbergen.no/aktivitet/valgbod-3/2025-09-05/
LOCATION:Torgallmeningen\, Torgallmeningen 1\, Bergen\, Vestland\, 5000\, Norge
ORGANIZER;CN="Raudt Hordaland":MAILTO:hordaland@raudt.no
END:VEVENT
BEGIN:VEVENT
DTSTART;TZID=Europe/Oslo:20250905T140000
DTEND;TZID=Europe/Oslo:20250905T160000
DTSTAMP:20260425T130156
CREATED:20250729T075820Z
LAST-MODIFIED:20250729T075820Z
UID:10000411-1757080800-1757088000@roedtbergen.no
SUMMARY:Valgbod
DESCRIPTION:Vi har åpen valgbod hver dag unntatt søndag fra 12-18 mellom 15. august og 7. september. Valgboden er stengt på søndager. I valgboden står vi alltid minst to personer\, prater med folk om Rødt og deler ut materiell. Øktene i valgboden er på to timer.
URL:https://roedtbergen.no/aktivitet/valgbod-2/2025-09-05/
LOCATION:Torgallmeningen\, Torgallmeningen 1\, Bergen\, Vestland\, 5000\, Norge
ORGANIZER;CN="Raudt Hordaland":MAILTO:hordaland@raudt.no
END:VEVENT
BEGIN:VEVENT
DTSTART;TZID=Europe/Oslo:20250905T143000
DTEND;TZID=Europe/Oslo:20250905T173000
DTSTAMP:20260425T130156
CREATED:20250730T132220Z
LAST-MODIFIED:20250730T132220Z
UID:10000455-1757082600-1757093400@roedtbergen.no
SUMMARY:Stand på Øyrane Torg
DESCRIPTION:Raudt Bergen Arna og Åsane har stand på Øyrane Torg. Oppmøte ved Hjelle Bakeri. Se etter hyggelige folk med Rødt-vester
URL:https://roedtbergen.no/aktivitet/stand-pa-oyrane-torg-4/
LOCATION:Øyrane Torg
ORGANIZER;CN="Raudt Bergen Arna og %C3%85sane":MAILTO:torsteintopp@hotmail.com
END:VEVENT
BEGIN:VEVENT
DTSTART;TZID=Europe/Oslo:20250905T160000
DTEND;TZID=Europe/Oslo:20250905T180000
DTSTAMP:20260425T130156
CREATED:20250729T080056Z
LAST-MODIFIED:20250729T080056Z
UID:10000450-1757088000-1757095200@roedtbergen.no
SUMMARY:Valgbod
DESCRIPTION:Vi har åpen valgbod hver dag unntatt søndag fra 12-18 mellom 15. august og 7. september. Valgboden er stengt på søndager. I valgboden står vi alltid minst to personer\, prater med folk om Rødt og deler ut materiell. Øktene i valgboden er på to timer.
URL:https://roedtbergen.no/aktivitet/valgbod-4/2025-09-05/
LOCATION:Torgallmeningen\, Torgallmeningen 1\, Bergen\, Vestland\, 5000\, Norge
ORGANIZER;CN="Raudt Hordaland":MAILTO:hordaland@raudt.no
END:VEVENT
END:VCALENDAR