BEGIN:VCALENDAR
VERSION:2.0
PRODID:-//Rødt Bergen Ressurser - ECPv6.15.20//NONSGML v1.0//EN
CALSCALE:GREGORIAN
METHOD:PUBLISH
X-ORIGINAL-URL:https://roedtbergen.no
X-WR-CALDESC:Arrangement for Rødt Bergen Ressurser
REFRESH-INTERVAL;VALUE=DURATION:PT1H
X-Robots-Tag:noindex
X-PUBLISHED-TTL:PT1H
BEGIN:VTIMEZONE
TZID:Europe/Oslo
BEGIN:DAYLIGHT
TZOFFSETFROM:+0100
TZOFFSETTO:+0200
TZNAME:CEST
DTSTART:20240331T010000
END:DAYLIGHT
BEGIN:STANDARD
TZOFFSETFROM:+0200
TZOFFSETTO:+0100
TZNAME:CET
DTSTART:20241027T010000
END:STANDARD
BEGIN:DAYLIGHT
TZOFFSETFROM:+0100
TZOFFSETTO:+0200
TZNAME:CEST
DTSTART:20250330T010000
END:DAYLIGHT
BEGIN:STANDARD
TZOFFSETFROM:+0200
TZOFFSETTO:+0100
TZNAME:CET
DTSTART:20251026T010000
END:STANDARD
BEGIN:DAYLIGHT
TZOFFSETFROM:+0100
TZOFFSETTO:+0200
TZNAME:CEST
DTSTART:20260329T010000
END:DAYLIGHT
BEGIN:STANDARD
TZOFFSETFROM:+0200
TZOFFSETTO:+0100
TZNAME:CET
DTSTART:20261025T010000
END:STANDARD
END:VTIMEZONE
BEGIN:VEVENT
DTSTART;TZID=Europe/Oslo:20250908T180000
DTEND;TZID=Europe/Oslo:20250909T020000
DTSTAMP:20260425T182235
CREATED:20250829T170031Z
LAST-MODIFIED:20250905T065635Z
UID:10000533-1757354400-1757383200@roedtbergen.no
SUMMARY:Valgvake!
DESCRIPTION:Årets valgvake i Bergen blir på Bergen Kjøtt. Det blir spenning\, musikk\, kultur\, bar\, quiz\, kandidater\, aktivister og god stemning! \nVær med oss å feire fellesskapet\, valgkampen og forhåpentligvis ett historisk godt Rødt-valg. \nArrangementet er gratis og åpent for alle over 18 år (på grunn av bar)
URL:https://roedtbergen.no/aktivitet/valgvake/
LOCATION:Bergen Kjøtt\, Skutevikstorget 1\, Bergen\, 5032\, Norway
ATTACH;FMTTYPE=image/png:https://roedtbergen.no/wp-content/uploads/2025/08/valvake.png
ORGANIZER;CN="Raudt Hordaland":MAILTO:hordaland@raudt.no
END:VEVENT
END:VCALENDAR