BEGIN:VCALENDAR
VERSION:2.0
PRODID:-//Rødt Bergen Ressurser - ECPv6.15.20//NONSGML v1.0//EN
CALSCALE:GREGORIAN
METHOD:PUBLISH
X-ORIGINAL-URL:https://roedtbergen.no
X-WR-CALDESC:Arrangement for Rødt Bergen Ressurser
REFRESH-INTERVAL;VALUE=DURATION:PT1H
X-Robots-Tag:noindex
X-PUBLISHED-TTL:PT1H
BEGIN:VTIMEZONE
TZID:Europe/Oslo
BEGIN:DAYLIGHT
TZOFFSETFROM:+0100
TZOFFSETTO:+0200
TZNAME:CEST
DTSTART:20240331T010000
END:DAYLIGHT
BEGIN:STANDARD
TZOFFSETFROM:+0200
TZOFFSETTO:+0100
TZNAME:CET
DTSTART:20241027T010000
END:STANDARD
BEGIN:DAYLIGHT
TZOFFSETFROM:+0100
TZOFFSETTO:+0200
TZNAME:CEST
DTSTART:20250330T010000
END:DAYLIGHT
BEGIN:STANDARD
TZOFFSETFROM:+0200
TZOFFSETTO:+0100
TZNAME:CET
DTSTART:20251026T010000
END:STANDARD
BEGIN:DAYLIGHT
TZOFFSETFROM:+0100
TZOFFSETTO:+0200
TZNAME:CEST
DTSTART:20260329T010000
END:DAYLIGHT
BEGIN:STANDARD
TZOFFSETFROM:+0200
TZOFFSETTO:+0100
TZNAME:CET
DTSTART:20261025T010000
END:STANDARD
END:VTIMEZONE
BEGIN:VEVENT
DTSTART;TZID=Europe/Oslo:20250201T120000
DTEND;TZID=Europe/Oslo:20250201T160000
DTSTAMP:20260426T050739
CREATED:20250123T113441Z
LAST-MODIFIED:20250123T121042Z
UID:10000357-1738411200-1738425600@roedtbergen.no
SUMMARY:Årsmøte Rødt Bergen Fana
DESCRIPTION:
URL:https://roedtbergen.no/aktivitet/arsmote-rodt-bergen-fana/
LOCATION:Fana Kulturhus\, Østre Nesttunvegen 18\, Bergen\, 5221\, Norway
CATEGORIES:Årsmøte
ORGANIZER;CN="R%C3%B8dt Bergen Fana":MAILTO:styret-rdt-fana@googlegroups.com
END:VEVENT
BEGIN:VEVENT
DTSTART;TZID=Europe/Oslo:20250213T163000
DTEND;TZID=Europe/Oslo:20250213T190000
DTSTAMP:20260426T050739
CREATED:20250108T125826Z
LAST-MODIFIED:20250108T142653Z
UID:10000352-1739464200-1739473200@roedtbergen.no
SUMMARY:Gruppemøte
DESCRIPTION:
URL:https://roedtbergen.no/aktivitet/gruppemote-2/
END:VEVENT
BEGIN:VEVENT
DTSTART;TZID=Europe/Oslo:20250213T191500
DTEND;TZID=Europe/Oslo:20250213T210000
DTSTAMP:20260426T050739
CREATED:20250123T113736Z
LAST-MODIFIED:20250123T113736Z
UID:10000359-1739474100-1739480400@roedtbergen.no
SUMMARY:Årsmøte Rødt Bergen Laksevåg og Loddefjord
DESCRIPTION:
URL:https://roedtbergen.no/aktivitet/arsmote-rodt-bergen-laksevag-og-loddefjord/
CATEGORIES:Årsmøte
END:VEVENT
BEGIN:VEVENT
DTSTART;TZID=Europe/Oslo:20250218T190000
DTEND;TZID=Europe/Oslo:20250218T210000
DTSTAMP:20260426T050739
CREATED:20250201T184304Z
LAST-MODIFIED:20250201T184304Z
UID:10000363-1739905200-1739912400@roedtbergen.no
SUMMARY:Venstresiden inviterer til foredrag: forstå Ukraina
DESCRIPTION:Fana og Ytrebygda Arbeiderpartilag\, Fana og Ytrebygda SV og Rødt Fana inviterer til foredrag om Ukraina. Vi får besøk av professor i russisk ved Universitetet i Bergen\, Ingunn Lunde\, som skal snakke om Ukrainas historie og om forholdet mellom Russland og Ukraina i historisk perspektiv. \n\nArrangementet vil foregå i kultursalen i Fana kulturhus.
URL:https://roedtbergen.no/aktivitet/venstresiden-inviterer-til-foredrag-forsta-ukraina/
LOCATION:Fana Kulturhus\, Østre Nesttunvegen 18\, Bergen\, 5221\, Norway
ORGANIZER;CN="R%C3%B8dt Bergen Fana":MAILTO:styret-rdt-fana@googlegroups.com
END:VEVENT
BEGIN:VEVENT
DTSTART;VALUE=DATE:20250219
DTEND;VALUE=DATE:20250220
DTSTAMP:20260426T050739
CREATED:20250108T124241Z
LAST-MODIFIED:20250108T142644Z
UID:10000342-1739923200-1740009599@roedtbergen.no
SUMMARY:Bystyremøte
DESCRIPTION:
URL:https://roedtbergen.no/aktivitet/bystyremote-2/
END:VEVENT
BEGIN:VEVENT
DTSTART;TZID=Europe/Oslo:20250220T180000
DTEND;TZID=Europe/Oslo:20250220T200000
DTSTAMP:20260426T050739
CREATED:20250124T105626Z
LAST-MODIFIED:20250124T105626Z
UID:10000362-1740074400-1740081600@roedtbergen.no
SUMMARY:Årsmøte Rødt Bergen Møhlenpris
DESCRIPTION:
URL:https://roedtbergen.no/aktivitet/arsmote-rodt-bergen-mohlenpris/
LOCATION:Manufakturhuset\, Peter Motzfeldts gate 2\, Bergen\, 5016\, Norway
CATEGORIES:Årsmøte
ORGANIZER;CN="R%C3%B8dt Bergen M%C3%B8hlenpris":MAILTO:asmundroy@gmail.com
END:VEVENT
BEGIN:VEVENT
DTSTART;TZID=Europe/Oslo:20250220T180000
DTEND;TZID=Europe/Oslo:20250220T213000
DTSTAMP:20260426T050739
CREATED:20250123T113245Z
LAST-MODIFIED:20250123T121248Z
UID:10000360-1740074400-1740087000@roedtbergen.no
SUMMARY:Årsmøte Raudt Bergen Arna og Åsane
DESCRIPTION:
URL:https://roedtbergen.no/aktivitet/arsmote-raudt-bergen-arna-og-asane/
LOCATION:Åsane kulturhus\, Åsane Senter 52\, Bergen\, 5116\, Norge
CATEGORIES:Årsmøte
ORGANIZER;CN="Raudt Bergen Arna og %C3%85sane":MAILTO:torsteintopp@hotmail.com
END:VEVENT
BEGIN:VEVENT
DTSTART;TZID=Europe/Oslo:20250220T190000
DTEND;TZID=Europe/Oslo:20250220T203000
DTSTAMP:20260426T050739
CREATED:20250123T113624Z
LAST-MODIFIED:20250123T120942Z
UID:10000358-1740078000-1740083400@roedtbergen.no
SUMMARY:Årsmøte Rødt Bergen Fyllingsdalen
DESCRIPTION:
URL:https://roedtbergen.no/aktivitet/arsmote-rodt-bergen-fyllingsdalen/
LOCATION:Oasen\, Folke Bernadottes vei 52\, Bergen\, 5147\, Norway
CATEGORIES:Årsmøte
ORGANIZER;CN="R%C3%B8dt  Bergen Fyllingsdalen":MAILTO:sirituftlundemoen@gmail.com
END:VEVENT
BEGIN:VEVENT
DTSTART;TZID=Europe/Oslo:20250225T180000
DTEND;TZID=Europe/Oslo:20250225T200000
DTSTAMP:20260426T050739
CREATED:20250123T121153Z
LAST-MODIFIED:20250123T121153Z
UID:10000361-1740506400-1740513600@roedtbergen.no
SUMMARY:Årsmøte Rødt Bergen Sentrum
DESCRIPTION:
URL:https://roedtbergen.no/aktivitet/arsmote-rodt-bergen-sentrum/
LOCATION:Rødt Bergen\, Hans Tanks Gate 17\, Bergen\, 5008\, Norge
CATEGORIES:Årsmøte
ORGANIZER;CN="R%C3%B8dt Bergen Sentrum":MAILTO:per.arne@roedt.no
END:VEVENT
END:VCALENDAR