BEGIN:VCALENDAR
VERSION:2.0
PRODID:-//Rødt Bergen Ressurser - ECPv6.15.20//NONSGML v1.0//EN
CALSCALE:GREGORIAN
METHOD:PUBLISH
X-WR-CALNAME:Rødt Bergen Ressurser
X-ORIGINAL-URL:https://roedtbergen.no
X-WR-CALDESC:Arrangement for Rødt Bergen Ressurser
REFRESH-INTERVAL;VALUE=DURATION:PT1H
X-Robots-Tag:noindex
X-PUBLISHED-TTL:PT1H
BEGIN:VTIMEZONE
TZID:Europe/Oslo
BEGIN:DAYLIGHT
TZOFFSETFROM:+0100
TZOFFSETTO:+0200
TZNAME:CEST
DTSTART:20240331T010000
END:DAYLIGHT
BEGIN:STANDARD
TZOFFSETFROM:+0200
TZOFFSETTO:+0100
TZNAME:CET
DTSTART:20241027T010000
END:STANDARD
BEGIN:DAYLIGHT
TZOFFSETFROM:+0100
TZOFFSETTO:+0200
TZNAME:CEST
DTSTART:20250330T010000
END:DAYLIGHT
BEGIN:STANDARD
TZOFFSETFROM:+0200
TZOFFSETTO:+0100
TZNAME:CET
DTSTART:20251026T010000
END:STANDARD
BEGIN:DAYLIGHT
TZOFFSETFROM:+0100
TZOFFSETTO:+0200
TZNAME:CEST
DTSTART:20260329T010000
END:DAYLIGHT
BEGIN:STANDARD
TZOFFSETFROM:+0200
TZOFFSETTO:+0100
TZNAME:CET
DTSTART:20261025T010000
END:STANDARD
END:VTIMEZONE
BEGIN:VEVENT
DTSTART;TZID=Europe/Oslo:20250810T130000
DTEND;TZID=Europe/Oslo:20250810T150000
DTSTAMP:20260425T122811
CREATED:20250807T082318Z
LAST-MODIFIED:20250807T092202Z
UID:10000491-1754830800-1754838000@roedtbergen.no
SUMMARY:Plakat- og postkasseaksjon Årstad
DESCRIPTION:Vi henger opp plakater og deler ut i postkasser. Dette er en lavterskelaktivitet som passer for absolutt alle om man er erfaren eller helt fersk\, om man liker å snakke med folk eller ikke. \nVi møtes ved Bybanestoppet på Danmarks Plass.
URL:https://roedtbergen.no/aktivitet/plakat-og-postkasseaksjon-arstad-2/
LOCATION:Danmarks Plass\, Danmarks Plass\, Bergen\, Norway
ORGANIZER;CN="R%C3%B8dt Bergen %C3%85rstad":MAILTO:eir_bakke@hotmail.com
END:VEVENT
BEGIN:VEVENT
DTSTART;TZID=Europe/Oslo:20250810T180000
DTEND;TZID=Europe/Oslo:20250810T200000
DTSTAMP:20260425T122811
CREATED:20250802T102837Z
LAST-MODIFIED:20250802T102837Z
UID:10000470-1754848800-1754856000@roedtbergen.no
SUMMARY:Plakataksjon - Bergen Sentrum
DESCRIPTION:Dagen før forhåndsstemmingen åpner\, er vi ute og får opp Rødt-plakater i Bergen Sentrum. Oppmøte ved Sjøfartsmonumentet.
URL:https://roedtbergen.no/aktivitet/plakataksjon-bergen-sentrum/
LOCATION:Torgallmeningen\, Torgallmeningen 1\, Bergen\, Vestland\, 5000\, Norge
ORGANIZER;CN="R%C3%B8dt Bergen Sentrum":MAILTO:per.arne@roedt.no
END:VEVENT
BEGIN:VEVENT
DTSTART;TZID=Europe/Oslo:20250811T073000
DTEND;TZID=Europe/Oslo:20250811T090000
DTSTAMP:20260425T122811
CREATED:20250801T085731Z
LAST-MODIFIED:20250801T085801Z
UID:10000466-1754897400-1754902800@roedtbergen.no
SUMMARY:Morgenutdeling Byparken
DESCRIPTION:11. august åpner forhåndsstemmingen. Vi markerer starten med morgenaksjon i Byparken. Oppmøte ved Bybanestoppet i Byparken.
URL:https://roedtbergen.no/aktivitet/morgenutdeling-byparken-2/
LOCATION:Byparken\, Norge
ORGANIZER;CN="R%C3%B8dt Bergen Sentrum":MAILTO:per.arne@roedt.no
END:VEVENT
BEGIN:VEVENT
DTSTART;TZID=Europe/Oslo:20250812T070000
DTEND;TZID=Europe/Oslo:20250812T080000
DTSTAMP:20260425T122811
CREATED:20250811T121820Z
LAST-MODIFIED:20250811T121820Z
UID:10000500-1754982000-1754985600@roedtbergen.no
SUMMARY:Morgenutdeling på Oasen
DESCRIPTION:Vi deler ut løpesedler på bybanestoppet og bussterminalen på Oasen.
URL:https://roedtbergen.no/aktivitet/morgenutdeling-pa-oasen/
LOCATION:Bybanestoppet ved Oasen\, Folke Bernadottes vei 52\, Fyllingsdalen\, 5147\, Norge
ORGANIZER;CN="R%C3%B8dt  Bergen Fyllingsdalen":MAILTO:sirituftlundemoen@gmail.com
END:VEVENT
BEGIN:VEVENT
DTSTART;TZID=Europe/Oslo:20250812T073000
DTEND;TZID=Europe/Oslo:20250812T083000
DTSTAMP:20260425T122811
CREATED:20250810T154022Z
LAST-MODIFIED:20250810T154022Z
UID:10000496-1754983800-1754987400@roedtbergen.no
SUMMARY:Morgenutdeling Danmarks Plass
DESCRIPTION:Vi møter reisende på Danmarks Plass morgenen etter partilederdebatten. Oppmøte på Bybanestoppet
URL:https://roedtbergen.no/aktivitet/morgenutdeling-danmarks-plass-2/
LOCATION:Danmarks Plass\, Danmarks Plass\, Bergen\, Norway
ORGANIZER;CN="R%C3%B8dt Bergen %C3%85rstad":MAILTO:eir_bakke@hotmail.com
END:VEVENT
BEGIN:VEVENT
DTSTART;TZID=Europe/Oslo:20250812T150000
DTEND;TZID=Europe/Oslo:20250812T160000
DTSTAMP:20260425T122811
CREATED:20250811T122049Z
LAST-MODIFIED:20250811T122049Z
UID:10000501-1755010800-1755014400@roedtbergen.no
SUMMARY:Ettermiddagsutdeling ved Oasen
DESCRIPTION:Vi deler ut løpesedler på og ved busstoppet og bybanestoppet ved Oasen.
URL:https://roedtbergen.no/aktivitet/ettermiddagsutdeling-ved-oasen/
LOCATION:Bybanestoppet ved Oasen\, Folke Bernadottes vei 52\, Fyllingsdalen\, 5147\, Norge
ORGANIZER;CN="R%C3%B8dt  Bergen Fyllingsdalen":MAILTO:sirituftlundemoen@gmail.com
END:VEVENT
BEGIN:VEVENT
DTSTART;TZID=Europe/Oslo:20250814T100000
DTEND;TZID=Europe/Oslo:20250814T160000
DTSTAMP:20260425T122811
CREATED:20250811T105749Z
LAST-MODIFIED:20250811T105749Z
UID:10000497-1755165600-1755187200@roedtbergen.no
SUMMARY:Stand på studenttorget i Grieghallen
DESCRIPTION:Torsdag 14. august er det studenttorg i Grieghallen\, der spesielt mange nye studenter i Bergen er innom. Kom og stå med oss for å prate om Rødts politikk. Det er til stor hjelp om du står bare en time også.
URL:https://roedtbergen.no/aktivitet/stand-pa-studenttorget-i-grieghallen/
LOCATION:Grieghallen\, Edvard Griegs Plass 1\, Bergen\, 5015\, Norway
END:VEVENT
BEGIN:VEVENT
DTSTART;TZID=Europe/Oslo:20250814T140000
DTEND;TZID=Europe/Oslo:20250814T170000
DTSTAMP:20260425T122811
CREATED:20250811T135749Z
LAST-MODIFIED:20250811T135749Z
UID:10000504-1755180000-1755190800@roedtbergen.no
SUMMARY:Stand på Åsane senter
DESCRIPTION:Vi står på Stand ved Ark-butikken på Åsane senter
URL:https://roedtbergen.no/aktivitet/stand-pa-asane-senter/
LOCATION:Åsane Senter\, Åsane Storsenter 42\, Ulset\, 5116\, Norway
ORGANIZER;CN="Raudt Bergen Arna og %C3%85sane":MAILTO:torsteintopp@hotmail.com
END:VEVENT
BEGIN:VEVENT
DTSTART;TZID=Europe/Oslo:20250814T173000
DTEND;TZID=Europe/Oslo:20250814T190000
DTSTAMP:20260425T122811
CREATED:20250811T110425Z
LAST-MODIFIED:20250811T110425Z
UID:10000499-1755192600-1755198000@roedtbergen.no
SUMMARY:Løpeseddelutdeling før Brannkamp
DESCRIPTION:Superviktig Brannkamp med fulle tribuner. Vi møtes utenfor Fanzone ved inngang 9 (Frydenbøtribunen).
URL:https://roedtbergen.no/aktivitet/lopeseddelutdeling-for-brannkamp/
LOCATION:Brann Stadion\, Kniksens Plass 1\, Bergen\, 5063\, Norway
ORGANIZER;CN="Raudt Bergen Arna og %C3%85sane":MAILTO:torsteintopp@hotmail.com
END:VEVENT
BEGIN:VEVENT
DTSTART;TZID=Europe/Oslo:20250815T073000
DTEND;TZID=Europe/Oslo:20250815T100000
DTSTAMP:20260425T122811
CREATED:20250811T125533Z
LAST-MODIFIED:20250811T125533Z
UID:10000502-1755243000-1755252000@roedtbergen.no
SUMMARY:Morgenutdeling med Rødt Årstad og Rødt Bergen studentlag
DESCRIPTION:Vi møtes ved Rema 1000 Viken kl. 7.30 og deler ut løpesedler til reisende til jobb. Deretter forflytter vi oss til busstoppet i Lotheveien med oppmøte kl. 8.45\, og fortsetter å dele ut løpesedler nær studentboligene i området. Hvis du reiser kollektivt\, stopper buss nr. 13 begge stedene. Når vi er ferdige tar vi en felles kopp kaffe på Godt Brød Fløttmanns plass for dem som vil være med. \nKontaktperson: Mailiss\, tlfnr: 98890063
URL:https://roedtbergen.no/aktivitet/morgenutdeling-med-rodt-arstad-og-rodt-bergen-studentlag/
LOCATION:Rema 1000 Viken\, Damsgårdsveien 35\, Bergen\, 5058\, Norway
ORGANIZER;CN="R%C3%B8dt Bergen %C3%85rstad":MAILTO:eir_bakke@hotmail.com
END:VEVENT
BEGIN:VEVENT
DTSTART;TZID=Europe/Oslo:20250815T120000
DTEND;TZID=Europe/Oslo:20250815T140000
DTSTAMP:20260425T122811
CREATED:20250729T075445Z
LAST-MODIFIED:20250811T110457Z
UID:10000392-1755259200-1755266400@roedtbergen.no
SUMMARY:Valgbodåpning
DESCRIPTION:Åpning av valbodene på Torgallmenningen
URL:https://roedtbergen.no/aktivitet/valbodapning/
LOCATION:Torgallmeningen\, Torgallmeningen 1\, Bergen\, Vestland\, 5000\, Norge
ORGANIZER;CN="Raudt Hordaland":MAILTO:hordaland@raudt.no
END:VEVENT
BEGIN:VEVENT
DTSTART;TZID=Europe/Oslo:20250815T140000
DTEND;TZID=Europe/Oslo:20250815T160000
DTSTAMP:20260425T122811
CREATED:20250729T075820Z
LAST-MODIFIED:20250729T075820Z
UID:10000393-1755266400-1755273600@roedtbergen.no
SUMMARY:Valgbod
DESCRIPTION:Vi har åpen valgbod hver dag unntatt søndag fra 12-18 mellom 15. august og 7. september. Valgboden er stengt på søndager. I valgboden står vi alltid minst to personer\, prater med folk om Rødt og deler ut materiell. Øktene i valgboden er på to timer.
URL:https://roedtbergen.no/aktivitet/valgbod-2/2025-08-15/
LOCATION:Torgallmeningen\, Torgallmeningen 1\, Bergen\, Vestland\, 5000\, Norge
ORGANIZER;CN="Raudt Hordaland":MAILTO:hordaland@raudt.no
END:VEVENT
BEGIN:VEVENT
DTSTART;TZID=Europe/Oslo:20250815T160000
DTEND;TZID=Europe/Oslo:20250815T180000
DTSTAMP:20260425T122811
CREATED:20250729T080056Z
LAST-MODIFIED:20250729T080056Z
UID:10000432-1755273600-1755280800@roedtbergen.no
SUMMARY:Valgbod
DESCRIPTION:Vi har åpen valgbod hver dag unntatt søndag fra 12-18 mellom 15. august og 7. september. Valgboden er stengt på søndager. I valgboden står vi alltid minst to personer\, prater med folk om Rødt og deler ut materiell. Øktene i valgboden er på to timer.
URL:https://roedtbergen.no/aktivitet/valgbod-4/2025-08-15/
LOCATION:Torgallmeningen\, Torgallmeningen 1\, Bergen\, Vestland\, 5000\, Norge
ORGANIZER;CN="Raudt Hordaland":MAILTO:hordaland@raudt.no
END:VEVENT
BEGIN:VEVENT
DTSTART;TZID=Europe/Oslo:20250816T110000
DTEND;TZID=Europe/Oslo:20250816T130000
DTSTAMP:20260425T122811
CREATED:20250804T181415Z
LAST-MODIFIED:20250804T181415Z
UID:10000474-1755342000-1755349200@roedtbergen.no
SUMMARY:Stand på Sletten Senter
DESCRIPTION:Rødt bergen Årstad har stand på/ved Sletten senter hver lørdag fram til valget.
URL:https://roedtbergen.no/aktivitet/stand-pa-sletten-senter/2025-08-16/
LOCATION:Sletten Senter\, Vilhelm Bjerknes' vei 4\, Bergen\, 5081\, Norge
ORGANIZER;CN="R%C3%B8dt Bergen %C3%85rstad":MAILTO:eir_bakke@hotmail.com
END:VEVENT
BEGIN:VEVENT
DTSTART;TZID=Europe/Oslo:20250816T113000
DTEND;TZID=Europe/Oslo:20250816T133000
DTSTAMP:20260425T122811
CREATED:20250814T100658Z
LAST-MODIFIED:20250814T100658Z
UID:10000506-1755343800-1755351000@roedtbergen.no
SUMMARY:Stand på Sydnes
DESCRIPTION:Vi har stand og deler ut nye løpesedler på Sydnes på plassen foran kolonialen der. Kontakt er Dag Inge: 451 57 764
URL:https://roedtbergen.no/aktivitet/stand-pa-sydnes/
LOCATION:Sydneshaugen\, Sydneshaugen 11\, Bergen\, 5007\, Norway
ORGANIZER;CN="R%C3%B8dt Bergen M%C3%B8hlenpris":MAILTO:asmundroy@gmail.com
END:VEVENT
BEGIN:VEVENT
DTSTART;TZID=Europe/Oslo:20250816T120000
DTEND;TZID=Europe/Oslo:20250816T140000
DTSTAMP:20260425T122811
CREATED:20250729T075946Z
LAST-MODIFIED:20250729T075946Z
UID:10000413-1755345600-1755352800@roedtbergen.no
SUMMARY:Valgbod
DESCRIPTION:Vi har åpen valgbod hver dag unntatt søndag fra 12-18 mellom 15. august og 7. september. Valgboden er stengt på søndager. I valgboden står vi alltid minst to personer\, prater med folk om Rødt og deler ut materiell. Øktene i valgboden er på to timer.
URL:https://roedtbergen.no/aktivitet/valgbod-3/2025-08-16/
LOCATION:Torgallmeningen\, Torgallmeningen 1\, Bergen\, Vestland\, 5000\, Norge
ORGANIZER;CN="Raudt Hordaland":MAILTO:hordaland@raudt.no
END:VEVENT
BEGIN:VEVENT
DTSTART;TZID=Europe/Oslo:20250816T120000
DTEND;TZID=Europe/Oslo:20250816T150000
DTSTAMP:20260425T122811
CREATED:20250816T065736Z
LAST-MODIFIED:20250816T065736Z
UID:10000508-1755345600-1755356400@roedtbergen.no
SUMMARY:Stand på Oasen
DESCRIPTION:Vi har stand på Torget inne på Oasen senter
URL:https://roedtbergen.no/aktivitet/stand-pa-oasen-3/
LOCATION:Oasen\, Folke Bernadottes vei 52\, Bergen\, 5147\, Norway
ORGANIZER;CN="R%C3%B8dt  Bergen Fyllingsdalen":MAILTO:sirituftlundemoen@gmail.com
END:VEVENT
BEGIN:VEVENT
DTSTART;TZID=Europe/Oslo:20250816T130000
DTEND;TZID=Europe/Oslo:20250816T150000
DTSTAMP:20260425T122811
CREATED:20250806T102107Z
LAST-MODIFIED:20250806T102107Z
UID:10000479-1755349200-1755356400@roedtbergen.no
SUMMARY:Stand og utdeling på Vitalitetssenteret
DESCRIPTION:
URL:https://roedtbergen.no/aktivitet/stand-og-utdeling-pa-vitalitetssenteret/2025-08-16/
LOCATION:Vitalitetssenteret\, Wolfs Gate 12\, Bergen\, Norge
ORGANIZER;CN="R%C3%B8dt Bergen M%C3%B8hlenpris":MAILTO:asmundroy@gmail.com
END:VEVENT
BEGIN:VEVENT
DTSTART;TZID=Europe/Oslo:20250816T140000
DTEND;TZID=Europe/Oslo:20250816T153000
DTSTAMP:20260425T122811
CREATED:20250814T100832Z
LAST-MODIFIED:20250814T100832Z
UID:10000507-1755352800-1755358200@roedtbergen.no
SUMMARY:Stand før Brann-Vålerengen
DESCRIPTION:Stå på stand sammen med tredjekandidat Jeanette Syversen utenfor Brann Stadion før toppkampen mot Vålerengen. Møteplass ved Fanzone utenfor Frydenbøsvingen
URL:https://roedtbergen.no/aktivitet/stand-for-brann-valerengen/
LOCATION:Brann Stadion\, Kniksens Plass 1\, Bergen\, 5063\, Norway
ORGANIZER;CN="Raudt Hordaland":MAILTO:hordaland@raudt.no
END:VEVENT
BEGIN:VEVENT
DTSTART;TZID=Europe/Oslo:20250816T140000
DTEND;TZID=Europe/Oslo:20250816T160000
DTSTAMP:20260425T122811
CREATED:20250729T075820Z
LAST-MODIFIED:20250729T075820Z
UID:10000394-1755352800-1755360000@roedtbergen.no
SUMMARY:Valgbod
DESCRIPTION:Vi har åpen valgbod hver dag unntatt søndag fra 12-18 mellom 15. august og 7. september. Valgboden er stengt på søndager. I valgboden står vi alltid minst to personer\, prater med folk om Rødt og deler ut materiell. Øktene i valgboden er på to timer.
URL:https://roedtbergen.no/aktivitet/valgbod-2/2025-08-16/
LOCATION:Torgallmeningen\, Torgallmeningen 1\, Bergen\, Vestland\, 5000\, Norge
ORGANIZER;CN="Raudt Hordaland":MAILTO:hordaland@raudt.no
END:VEVENT
BEGIN:VEVENT
DTSTART;TZID=Europe/Oslo:20250816T160000
DTEND;TZID=Europe/Oslo:20250816T180000
DTSTAMP:20260425T122811
CREATED:20250729T080056Z
LAST-MODIFIED:20250729T080056Z
UID:10000433-1755360000-1755367200@roedtbergen.no
SUMMARY:Valgbod
DESCRIPTION:Vi har åpen valgbod hver dag unntatt søndag fra 12-18 mellom 15. august og 7. september. Valgboden er stengt på søndager. I valgboden står vi alltid minst to personer\, prater med folk om Rødt og deler ut materiell. Øktene i valgboden er på to timer.
URL:https://roedtbergen.no/aktivitet/valgbod-4/2025-08-16/
LOCATION:Torgallmeningen\, Torgallmeningen 1\, Bergen\, Vestland\, 5000\, Norge
ORGANIZER;CN="Raudt Hordaland":MAILTO:hordaland@raudt.no
END:VEVENT
BEGIN:VEVENT
DTSTART;TZID=Europe/Oslo:20250817T110000
DTEND;TZID=Europe/Oslo:20250817T130000
DTSTAMP:20260425T122811
CREATED:20250810T084322Z
LAST-MODIFIED:20250810T084322Z
UID:10000492-1755428400-1755435600@roedtbergen.no
SUMMARY:Postkasseaksjon Nesttun/Øvsttun/Kaland
DESCRIPTION:Det vil bli gjennomført postkasseaksjon på Nesttun og mot Kaland søndag 17. august kl. 1100-1300. Lagsleder Rasmus stiller med bil.
URL:https://roedtbergen.no/aktivitet/postkasseaksjon-nesttun-ovsttun-kaland/
ORGANIZER;CN="R%C3%B8dt Bergen Fana":MAILTO:styret-rdt-fana@googlegroups.com
END:VEVENT
BEGIN:VEVENT
DTSTART;TZID=Europe/Oslo:20250817T120000
DTEND;TZID=Europe/Oslo:20250817T140000
DTSTAMP:20260425T122811
CREATED:20250811T125817Z
LAST-MODIFIED:20250811T125817Z
UID:10000503-1755432000-1755439200@roedtbergen.no
SUMMARY:Formiddagstur i Løvstien
DESCRIPTION:Vi hilser på turgåere og deler ut løpesedler og boller. \nOppmøte kl. 12.00 ved parkeringsplassen som på Google Maps som "Start Løvstakken nær Danmarksplass"\, som ligger nær Solheimslien Barnehage. \nHar vi løpesedler igjen når vi er ferdige\, putter vi dem i postkasser på veien hjem. Kontaktperson: Mailiss\, tlfnr: 98890063.
URL:https://roedtbergen.no/aktivitet/formiddagstur-i-lovstien/
LOCATION:Startpunkt Løvstien\, Løvstakkveien 46\, Bergen\, 5055\, Norway
ORGANIZER;CN="R%C3%B8dt Bergen %C3%85rstad":MAILTO:eir_bakke@hotmail.com
END:VEVENT
BEGIN:VEVENT
DTSTART;TZID=Europe/Oslo:20250818T120000
DTEND;TZID=Europe/Oslo:20250818T140000
DTSTAMP:20260425T122811
CREATED:20250729T075946Z
LAST-MODIFIED:20250729T075946Z
UID:10000414-1755518400-1755525600@roedtbergen.no
SUMMARY:Valgbod
DESCRIPTION:Vi har åpen valgbod hver dag unntatt søndag fra 12-18 mellom 15. august og 7. september. Valgboden er stengt på søndager. I valgboden står vi alltid minst to personer\, prater med folk om Rødt og deler ut materiell. Øktene i valgboden er på to timer.
URL:https://roedtbergen.no/aktivitet/valgbod-3/2025-08-18/
LOCATION:Torgallmeningen\, Torgallmeningen 1\, Bergen\, Vestland\, 5000\, Norge
ORGANIZER;CN="Raudt Hordaland":MAILTO:hordaland@raudt.no
END:VEVENT
BEGIN:VEVENT
DTSTART;TZID=Europe/Oslo:20250818T140000
DTEND;TZID=Europe/Oslo:20250818T160000
DTSTAMP:20260425T122811
CREATED:20250729T075820Z
LAST-MODIFIED:20250729T075820Z
UID:10000395-1755525600-1755532800@roedtbergen.no
SUMMARY:Valgbod
DESCRIPTION:Vi har åpen valgbod hver dag unntatt søndag fra 12-18 mellom 15. august og 7. september. Valgboden er stengt på søndager. I valgboden står vi alltid minst to personer\, prater med folk om Rødt og deler ut materiell. Øktene i valgboden er på to timer.
URL:https://roedtbergen.no/aktivitet/valgbod-2/2025-08-18/
LOCATION:Torgallmeningen\, Torgallmeningen 1\, Bergen\, Vestland\, 5000\, Norge
ORGANIZER;CN="Raudt Hordaland":MAILTO:hordaland@raudt.no
END:VEVENT
BEGIN:VEVENT
DTSTART;TZID=Europe/Oslo:20250818T160000
DTEND;TZID=Europe/Oslo:20250818T180000
DTSTAMP:20260425T122811
CREATED:20250729T080056Z
LAST-MODIFIED:20250729T080056Z
UID:10000434-1755532800-1755540000@roedtbergen.no
SUMMARY:Valgbod
DESCRIPTION:Vi har åpen valgbod hver dag unntatt søndag fra 12-18 mellom 15. august og 7. september. Valgboden er stengt på søndager. I valgboden står vi alltid minst to personer\, prater med folk om Rødt og deler ut materiell. Øktene i valgboden er på to timer.
URL:https://roedtbergen.no/aktivitet/valgbod-4/2025-08-18/
LOCATION:Torgallmeningen\, Torgallmeningen 1\, Bergen\, Vestland\, 5000\, Norge
ORGANIZER;CN="Raudt Hordaland":MAILTO:hordaland@raudt.no
END:VEVENT
BEGIN:VEVENT
DTSTART;TZID=Europe/Oslo:20250818T161500
DTEND;TZID=Europe/Oslo:20250818T170000
DTSTAMP:20260425T122811
CREATED:20250817T093429Z
LAST-MODIFIED:20250817T093429Z
UID:10000513-1755533700-1755536400@roedtbergen.no
SUMMARY:Ettermiddagsutdeling Danmarks Plass
DESCRIPTION:Vi tar en kort ettermiddagsutdeling på bybanestoppet på Danmarks Plass.
URL:https://roedtbergen.no/aktivitet/ettermiddagsutdeling-danmarks-plass/
LOCATION:Danmarks Plass\, Danmarks Plass\, Bergen\, Norway
ORGANIZER;CN="R%C3%B8dt Bergen %C3%85rstad":MAILTO:eir_bakke@hotmail.com
END:VEVENT
BEGIN:VEVENT
DTSTART;TZID=Europe/Oslo:20250819T080000
DTEND;TZID=Europe/Oslo:20250819T090000
DTSTAMP:20260425T122811
CREATED:20250806T102221Z
LAST-MODIFIED:20250806T102221Z
UID:10000483-1755590400-1755594000@roedtbergen.no
SUMMARY:Morgenutdeling Møhlenpris
DESCRIPTION:Morgenutdeling på busstoppene ved Møhlenprissiden av Puddefjordsbroen
URL:https://roedtbergen.no/aktivitet/morgenutdeling-mohlenpris/
LOCATION:Industrihuset\, Bredalsmarken 15\, Bergen\, 5836\, Norway
ORGANIZER;CN="R%C3%B8dt Bergen M%C3%B8hlenpris":MAILTO:asmundroy@gmail.com
END:VEVENT
BEGIN:VEVENT
DTSTART;TZID=Europe/Oslo:20250819T120000
DTEND;TZID=Europe/Oslo:20250819T140000
DTSTAMP:20260425T122811
CREATED:20250729T075946Z
LAST-MODIFIED:20250729T075946Z
UID:10000415-1755604800-1755612000@roedtbergen.no
SUMMARY:Valgbod
DESCRIPTION:Vi har åpen valgbod hver dag unntatt søndag fra 12-18 mellom 15. august og 7. september. Valgboden er stengt på søndager. I valgboden står vi alltid minst to personer\, prater med folk om Rødt og deler ut materiell. Øktene i valgboden er på to timer.
URL:https://roedtbergen.no/aktivitet/valgbod-3/2025-08-19/
LOCATION:Torgallmeningen\, Torgallmeningen 1\, Bergen\, Vestland\, 5000\, Norge
ORGANIZER;CN="Raudt Hordaland":MAILTO:hordaland@raudt.no
END:VEVENT
BEGIN:VEVENT
DTSTART;TZID=Europe/Oslo:20250819T140000
DTEND;TZID=Europe/Oslo:20250819T160000
DTSTAMP:20260425T122811
CREATED:20250729T075820Z
LAST-MODIFIED:20250729T075820Z
UID:10000396-1755612000-1755619200@roedtbergen.no
SUMMARY:Valgbod
DESCRIPTION:Vi har åpen valgbod hver dag unntatt søndag fra 12-18 mellom 15. august og 7. september. Valgboden er stengt på søndager. I valgboden står vi alltid minst to personer\, prater med folk om Rødt og deler ut materiell. Øktene i valgboden er på to timer.
URL:https://roedtbergen.no/aktivitet/valgbod-2/2025-08-19/
LOCATION:Torgallmeningen\, Torgallmeningen 1\, Bergen\, Vestland\, 5000\, Norge
ORGANIZER;CN="Raudt Hordaland":MAILTO:hordaland@raudt.no
END:VEVENT
END:VCALENDAR