BEGIN:VCALENDAR
VERSION:2.0
PRODID:-//Rødt Bergen Ressurser - ECPv6.15.20//NONSGML v1.0//EN
CALSCALE:GREGORIAN
METHOD:PUBLISH
X-WR-CALNAME:Rødt Bergen Ressurser
X-ORIGINAL-URL:https://roedtbergen.no
X-WR-CALDESC:Arrangement for Rødt Bergen Ressurser
REFRESH-INTERVAL;VALUE=DURATION:PT1H
X-Robots-Tag:noindex
X-PUBLISHED-TTL:PT1H
BEGIN:VTIMEZONE
TZID:Europe/Oslo
BEGIN:DAYLIGHT
TZOFFSETFROM:+0100
TZOFFSETTO:+0200
TZNAME:CEST
DTSTART:20240331T010000
END:DAYLIGHT
BEGIN:STANDARD
TZOFFSETFROM:+0200
TZOFFSETTO:+0100
TZNAME:CET
DTSTART:20241027T010000
END:STANDARD
BEGIN:DAYLIGHT
TZOFFSETFROM:+0100
TZOFFSETTO:+0200
TZNAME:CEST
DTSTART:20250330T010000
END:DAYLIGHT
BEGIN:STANDARD
TZOFFSETFROM:+0200
TZOFFSETTO:+0100
TZNAME:CET
DTSTART:20251026T010000
END:STANDARD
BEGIN:DAYLIGHT
TZOFFSETFROM:+0100
TZOFFSETTO:+0200
TZNAME:CEST
DTSTART:20260329T010000
END:DAYLIGHT
BEGIN:STANDARD
TZOFFSETFROM:+0200
TZOFFSETTO:+0100
TZNAME:CET
DTSTART:20261025T010000
END:STANDARD
END:VTIMEZONE
BEGIN:VEVENT
DTSTART;TZID=Europe/Oslo:20250908T180000
DTEND;TZID=Europe/Oslo:20250909T020000
DTSTAMP:20260425T174630
CREATED:20250829T170031Z
LAST-MODIFIED:20250905T065635Z
UID:10000533-1757354400-1757383200@roedtbergen.no
SUMMARY:Valgvake!
DESCRIPTION:Årets valgvake i Bergen blir på Bergen Kjøtt. Det blir spenning\, musikk\, kultur\, bar\, quiz\, kandidater\, aktivister og god stemning! \nVær med oss å feire fellesskapet\, valgkampen og forhåpentligvis ett historisk godt Rødt-valg. \nArrangementet er gratis og åpent for alle over 18 år (på grunn av bar)
URL:https://roedtbergen.no/aktivitet/valgvake/
LOCATION:Bergen Kjøtt\, Skutevikstorget 1\, Bergen\, 5032\, Norway
ATTACH;FMTTYPE=image/png:https://roedtbergen.no/wp-content/uploads/2025/08/valvake.png
ORGANIZER;CN="Raudt Hordaland":MAILTO:hordaland@raudt.no
END:VEVENT
BEGIN:VEVENT
DTSTART;TZID=Europe/Oslo:20250907T180000
DTEND;TZID=Europe/Oslo:20250907T200000
DTSTAMP:20260425T174630
CREATED:20250902T085938Z
LAST-MODIFIED:20250902T085938Z
UID:10000541-1757268000-1757275200@roedtbergen.no
SUMMARY:Plakataksjon
DESCRIPTION:Oppmøte på kontoret i Hans Tanks gate 17. \nKontaktperson Eirik Furuberg: 950 05 882
URL:https://roedtbergen.no/aktivitet/plakataksjon/
LOCATION:Hans tanks gate 17
END:VEVENT
BEGIN:VEVENT
DTSTART;TZID=Europe/Oslo:20250907T173000
DTEND;TZID=Europe/Oslo:20250907T190000
DTSTAMP:20260425T174630
CREATED:20250904T130943Z
LAST-MODIFIED:20250904T130943Z
UID:10000543-1757266200-1757271600@roedtbergen.no
SUMMARY:Dørbank Løvstakksiden
DESCRIPTION:
URL:https://roedtbergen.no/aktivitet/dorbank-lovstakksiden/
ORGANIZER;CN="R%C3%B8dt Bergen %C3%85rstad":MAILTO:eir_bakke@hotmail.com
END:VEVENT
BEGIN:VEVENT
DTSTART;TZID=Europe/Oslo:20250906T160000
DTEND;TZID=Europe/Oslo:20250906T180000
DTSTAMP:20260425T174630
CREATED:20250729T080056Z
LAST-MODIFIED:20250729T080056Z
UID:10000451-1757174400-1757181600@roedtbergen.no
SUMMARY:Valgbod
DESCRIPTION:Vi har åpen valgbod hver dag unntatt søndag fra 12-18 mellom 15. august og 7. september. Valgboden er stengt på søndager. I valgboden står vi alltid minst to personer\, prater med folk om Rødt og deler ut materiell. Øktene i valgboden er på to timer.
URL:https://roedtbergen.no/aktivitet/valgbod-4/2025-09-06/
LOCATION:Torgallmeningen\, Torgallmeningen 1\, Bergen\, Vestland\, 5000\, Norge
ORGANIZER;CN="Raudt Hordaland":MAILTO:hordaland@raudt.no
END:VEVENT
BEGIN:VEVENT
DTSTART;TZID=Europe/Oslo:20250906T140000
DTEND;TZID=Europe/Oslo:20250906T160000
DTSTAMP:20260425T174630
CREATED:20250729T075820Z
LAST-MODIFIED:20250729T075820Z
UID:10000412-1757167200-1757174400@roedtbergen.no
SUMMARY:Valgbod
DESCRIPTION:Vi har åpen valgbod hver dag unntatt søndag fra 12-18 mellom 15. august og 7. september. Valgboden er stengt på søndager. I valgboden står vi alltid minst to personer\, prater med folk om Rødt og deler ut materiell. Øktene i valgboden er på to timer.
URL:https://roedtbergen.no/aktivitet/valgbod-2/2025-09-06/
LOCATION:Torgallmeningen\, Torgallmeningen 1\, Bergen\, Vestland\, 5000\, Norge
ORGANIZER;CN="Raudt Hordaland":MAILTO:hordaland@raudt.no
END:VEVENT
BEGIN:VEVENT
DTSTART;TZID=Europe/Oslo:20250906T140000
DTEND;TZID=Europe/Oslo:20250906T150000
DTSTAMP:20260425T174630
CREATED:20250816T070000Z
LAST-MODIFIED:20250816T070000Z
UID:10000511-1757167200-1757170800@roedtbergen.no
SUMMARY:Stand på Bybanestoppet og bussterminalen Oasen
DESCRIPTION:
URL:https://roedtbergen.no/aktivitet/stand-pa-bybanestoppet-og-bussterminalen-oasen/2025-09-06/
LOCATION:Bybanestoppet ved Oasen\, Folke Bernadottes vei 52\, Fyllingsdalen\, 5147\, Norge
ORGANIZER;CN="R%C3%B8dt  Bergen Fyllingsdalen":MAILTO:sirituftlundemoen@gmail.com
END:VEVENT
BEGIN:VEVENT
DTSTART;TZID=Europe/Oslo:20250906T130000
DTEND;TZID=Europe/Oslo:20250906T150000
DTSTAMP:20260425T174630
CREATED:20250820T155559Z
LAST-MODIFIED:20250820T155704Z
UID:10000520-1757163600-1757170800@roedtbergen.no
SUMMARY:Stand i Strandgaten
DESCRIPTION:Vi møtes ved Coop Extra i Strandgaten og markerer slutten av valgkampen.
URL:https://roedtbergen.no/aktivitet/stand-i-strandgaten/
LOCATION:Gågaten\, Strandgaten 10\, Bergen\, 5004\, Norge
ORGANIZER;CN="R%C3%B8dt Bergen Sentrum":MAILTO:per.arne@roedt.no
END:VEVENT
BEGIN:VEVENT
DTSTART;TZID=Europe/Oslo:20250906T130000
DTEND;TZID=Europe/Oslo:20250906T150000
DTSTAMP:20260425T174630
CREATED:20250806T102107Z
LAST-MODIFIED:20250806T102107Z
UID:10000482-1757163600-1757170800@roedtbergen.no
SUMMARY:Stand og utdeling på Vitalitetssenteret
DESCRIPTION:
URL:https://roedtbergen.no/aktivitet/stand-og-utdeling-pa-vitalitetssenteret/2025-09-06/
LOCATION:Vitalitetssenteret\, Wolfs Gate 12\, Bergen\, Norge
ORGANIZER;CN="R%C3%B8dt Bergen M%C3%B8hlenpris":MAILTO:asmundroy@gmail.com
END:VEVENT
BEGIN:VEVENT
DTSTART;TZID=Europe/Oslo:20250906T130000
DTEND;TZID=Europe/Oslo:20250906T140000
DTSTAMP:20260425T174630
CREATED:20250905T093856Z
LAST-MODIFIED:20250905T093856Z
UID:10000544-1757163600-1757167200@roedtbergen.no
SUMMARY:Utdeling Fyllingsdalen
DESCRIPTION:Vi i Fyllingen skal ha utdeling ved Bybanestoppet/Bussterminalen ved Oasen\, i morgen fra klokken 13-14 hvis det er  mye folk\,blir vi stående lenger.
URL:https://roedtbergen.no/aktivitet/utdeling-fyllingsdalen/
LOCATION:Bybanestoppet ved Oasen\, Folke Bernadottes vei 52\, Fyllingsdalen\, 5147\, Norge
ORGANIZER;CN="R%C3%B8dt  Bergen Fyllingsdalen":MAILTO:sirituftlundemoen@gmail.com
END:VEVENT
BEGIN:VEVENT
DTSTART;TZID=Europe/Oslo:20250906T120000
DTEND;TZID=Europe/Oslo:20250906T140000
DTSTAMP:20260425T174630
CREATED:20250827T110216Z
LAST-MODIFIED:20250829T181144Z
UID:10000527-1757160000-1757167200@roedtbergen.no
SUMMARY:Stand/utdeling Støletorget
DESCRIPTION:Kontaktperson er Marte Teigen (m. 472 94 650)
URL:https://roedtbergen.no/aktivitet/stand-utdeling-stoletorget-2/
LOCATION:Støletorget\, Støletorget 1\, Bergen\, Norge
END:VEVENT
BEGIN:VEVENT
DTSTART;TZID=Europe/Oslo:20250906T120000
DTEND;TZID=Europe/Oslo:20250906T140000
DTSTAMP:20260425T174630
CREATED:20250729T075946Z
LAST-MODIFIED:20250729T075946Z
UID:10000431-1757160000-1757167200@roedtbergen.no
SUMMARY:Valgbod
DESCRIPTION:Vi har åpen valgbod hver dag unntatt søndag fra 12-18 mellom 15. august og 7. september. Valgboden er stengt på søndager. I valgboden står vi alltid minst to personer\, prater med folk om Rødt og deler ut materiell. Øktene i valgboden er på to timer.
URL:https://roedtbergen.no/aktivitet/valgbod-3/2025-09-06/
LOCATION:Torgallmeningen\, Torgallmeningen 1\, Bergen\, Vestland\, 5000\, Norge
ORGANIZER;CN="Raudt Hordaland":MAILTO:hordaland@raudt.no
END:VEVENT
BEGIN:VEVENT
DTSTART;TZID=Europe/Oslo:20250906T110000
DTEND;TZID=Europe/Oslo:20250906T150000
DTSTAMP:20260425T174630
CREATED:20250731T191403Z
LAST-MODIFIED:20250731T191403Z
UID:10000458-1757156400-1757170800@roedtbergen.no
SUMMARY:Stand på Horisont
DESCRIPTION:
URL:https://roedtbergen.no/aktivitet/stand-pa-horisont-2/
LOCATION:Horisont senter
ORGANIZER;CN="Raudt Bergen Arna og %C3%85sane":MAILTO:torsteintopp@hotmail.com
END:VEVENT
BEGIN:VEVENT
DTSTART;TZID=Europe/Oslo:20250906T110000
DTEND;TZID=Europe/Oslo:20250906T130000
DTSTAMP:20260425T174630
CREATED:20250804T181415Z
LAST-MODIFIED:20250804T181415Z
UID:10000477-1757156400-1757163600@roedtbergen.no
SUMMARY:Stand på Sletten Senter
DESCRIPTION:Rødt bergen Årstad har stand på/ved Sletten senter hver lørdag fram til valget.
URL:https://roedtbergen.no/aktivitet/stand-pa-sletten-senter/2025-09-06/
LOCATION:Sletten Senter\, Vilhelm Bjerknes' vei 4\, Bergen\, 5081\, Norge
ORGANIZER;CN="R%C3%B8dt Bergen %C3%85rstad":MAILTO:eir_bakke@hotmail.com
END:VEVENT
BEGIN:VEVENT
DTSTART;TZID=Europe/Oslo:20250906T090000
DTEND;TZID=Europe/Oslo:20250906T103000
DTSTAMP:20260425T174630
CREATED:20250829T133814Z
LAST-MODIFIED:20250829T171958Z
UID:10000532-1757149200-1757154600@roedtbergen.no
SUMMARY:Sosialt! Aktivistfrokost
DESCRIPTION:Den siste valgkamphelgen og siste mulighet til å påvirke valgresultatet. Vi møtes til frokost på partikontoret før vi drar i gang med valgkampaktiviteter i hele byen. Påmelding nødvendig.
URL:https://roedtbergen.no/aktivitet/aktivistfrokost/
LOCATION:Rødt Bergen\, Hans Tanks Gate 17\, Bergen\, 5008\, Norge
ORGANIZER;CN="Raudt Hordaland":MAILTO:hordaland@raudt.no
END:VEVENT
BEGIN:VEVENT
DTSTART;TZID=Europe/Oslo:20250905T160000
DTEND;TZID=Europe/Oslo:20250905T180000
DTSTAMP:20260425T174630
CREATED:20250729T080056Z
LAST-MODIFIED:20250729T080056Z
UID:10000450-1757088000-1757095200@roedtbergen.no
SUMMARY:Valgbod
DESCRIPTION:Vi har åpen valgbod hver dag unntatt søndag fra 12-18 mellom 15. august og 7. september. Valgboden er stengt på søndager. I valgboden står vi alltid minst to personer\, prater med folk om Rødt og deler ut materiell. Øktene i valgboden er på to timer.
URL:https://roedtbergen.no/aktivitet/valgbod-4/2025-09-05/
LOCATION:Torgallmeningen\, Torgallmeningen 1\, Bergen\, Vestland\, 5000\, Norge
ORGANIZER;CN="Raudt Hordaland":MAILTO:hordaland@raudt.no
END:VEVENT
BEGIN:VEVENT
DTSTART;TZID=Europe/Oslo:20250905T143000
DTEND;TZID=Europe/Oslo:20250905T173000
DTSTAMP:20260425T174630
CREATED:20250730T132220Z
LAST-MODIFIED:20250730T132220Z
UID:10000455-1757082600-1757093400@roedtbergen.no
SUMMARY:Stand på Øyrane Torg
DESCRIPTION:Raudt Bergen Arna og Åsane har stand på Øyrane Torg. Oppmøte ved Hjelle Bakeri. Se etter hyggelige folk med Rødt-vester
URL:https://roedtbergen.no/aktivitet/stand-pa-oyrane-torg-4/
LOCATION:Øyrane Torg
ORGANIZER;CN="Raudt Bergen Arna og %C3%85sane":MAILTO:torsteintopp@hotmail.com
END:VEVENT
BEGIN:VEVENT
DTSTART;TZID=Europe/Oslo:20250905T140000
DTEND;TZID=Europe/Oslo:20250905T160000
DTSTAMP:20260425T174630
CREATED:20250729T075820Z
LAST-MODIFIED:20250729T075820Z
UID:10000411-1757080800-1757088000@roedtbergen.no
SUMMARY:Valgbod
DESCRIPTION:Vi har åpen valgbod hver dag unntatt søndag fra 12-18 mellom 15. august og 7. september. Valgboden er stengt på søndager. I valgboden står vi alltid minst to personer\, prater med folk om Rødt og deler ut materiell. Øktene i valgboden er på to timer.
URL:https://roedtbergen.no/aktivitet/valgbod-2/2025-09-05/
LOCATION:Torgallmeningen\, Torgallmeningen 1\, Bergen\, Vestland\, 5000\, Norge
ORGANIZER;CN="Raudt Hordaland":MAILTO:hordaland@raudt.no
END:VEVENT
BEGIN:VEVENT
DTSTART;TZID=Europe/Oslo:20250905T120000
DTEND;TZID=Europe/Oslo:20250905T140000
DTSTAMP:20260425T174630
CREATED:20250729T075946Z
LAST-MODIFIED:20250729T075946Z
UID:10000430-1757073600-1757080800@roedtbergen.no
SUMMARY:Valgbod
DESCRIPTION:Vi har åpen valgbod hver dag unntatt søndag fra 12-18 mellom 15. august og 7. september. Valgboden er stengt på søndager. I valgboden står vi alltid minst to personer\, prater med folk om Rødt og deler ut materiell. Øktene i valgboden er på to timer.
URL:https://roedtbergen.no/aktivitet/valgbod-3/2025-09-05/
LOCATION:Torgallmeningen\, Torgallmeningen 1\, Bergen\, Vestland\, 5000\, Norge
ORGANIZER;CN="Raudt Hordaland":MAILTO:hordaland@raudt.no
END:VEVENT
BEGIN:VEVENT
DTSTART;TZID=Europe/Oslo:20250905T113000
DTEND;TZID=Europe/Oslo:20250905T123000
DTSTAMP:20260425T174630
CREATED:20250904T130854Z
LAST-MODIFIED:20250904T130854Z
UID:10000542-1757071800-1757075400@roedtbergen.no
SUMMARY:Lunsjutdeling Matkroken\, Blekenberg
DESCRIPTION:
URL:https://roedtbergen.no/aktivitet/lunsjutdeling-matkroken-blekenberg/
LOCATION:Matkroken\, Blekenberg\, Blekenberg 6-10\, Bergen\, 5055\, Norway
ORGANIZER;CN="R%C3%B8dt Bergen %C3%85rstad":MAILTO:eir_bakke@hotmail.com
END:VEVENT
BEGIN:VEVENT
DTSTART;TZID=Europe/Oslo:20250905T110000
DTEND;TZID=Europe/Oslo:20250905T130000
DTSTAMP:20260425T174630
CREATED:20250902T085302Z
LAST-MODIFIED:20250902T090010Z
UID:10000540-1757070000-1757077200@roedtbergen.no
SUMMARY:Utdeling Nygårdshøyden (oppmøte HF-biblioteket)
DESCRIPTION:Kontaktperson Eirik Furuberg: 950 05 882
URL:https://roedtbergen.no/aktivitet/utdeling-nygardshoyden/
LOCATION:Nygårdshøyden
END:VEVENT
BEGIN:VEVENT
DTSTART;TZID=Europe/Oslo:20250905T073000
DTEND;TZID=Europe/Oslo:20250905T083000
DTSTAMP:20260425T174630
CREATED:20250831T155942Z
LAST-MODIFIED:20250831T155942Z
UID:10000537-1757057400-1757061000@roedtbergen.no
SUMMARY:Morgenutdeling Danmarks Plass
DESCRIPTION:Årstad kjører en morgenutdeling på Danmarks plass fredag 5.sept\, v bybanen\, kl 7.30-8.30. Mailiss er kontaktperson og nås på tlfnr: 98890063.
URL:https://roedtbergen.no/aktivitet/morgenutdeling-danmarks-plass-3/
LOCATION:Danmarks Plass\, Danmarks Plass\, Bergen\, Norway
ORGANIZER;CN="R%C3%B8dt Bergen %C3%85rstad":MAILTO:eir_bakke@hotmail.com
END:VEVENT
BEGIN:VEVENT
DTSTART;TZID=Europe/Oslo:20250904T160000
DTEND;TZID=Europe/Oslo:20250904T180000
DTSTAMP:20260425T174630
CREATED:20250806T103003Z
LAST-MODIFIED:20250806T103003Z
UID:10000488-1757001600-1757008800@roedtbergen.no
SUMMARY:Ettermiddagsutdeling busstoppene på Møhlenpris
DESCRIPTION:Løpeseddelutdeling på Busstoppene ved Møhlenprissiden av Puddefjordsbroen
URL:https://roedtbergen.no/aktivitet/ettermiddagsutdeling-busstoppene-pa-mohlenpris-2/
LOCATION:Industrihuset\, Bredalsmarken 15\, Bergen\, 5836\, Norway
ORGANIZER;CN="R%C3%B8dt Bergen M%C3%B8hlenpris":MAILTO:asmundroy@gmail.com
END:VEVENT
BEGIN:VEVENT
DTSTART;TZID=Europe/Oslo:20250904T160000
DTEND;TZID=Europe/Oslo:20250904T180000
DTSTAMP:20260425T174630
CREATED:20250729T080056Z
LAST-MODIFIED:20250729T080056Z
UID:10000449-1757001600-1757008800@roedtbergen.no
SUMMARY:Valgbod
DESCRIPTION:Vi har åpen valgbod hver dag unntatt søndag fra 12-18 mellom 15. august og 7. september. Valgboden er stengt på søndager. I valgboden står vi alltid minst to personer\, prater med folk om Rødt og deler ut materiell. Øktene i valgboden er på to timer.
URL:https://roedtbergen.no/aktivitet/valgbod-4/2025-09-04/
LOCATION:Torgallmeningen\, Torgallmeningen 1\, Bergen\, Vestland\, 5000\, Norge
ORGANIZER;CN="Raudt Hordaland":MAILTO:hordaland@raudt.no
END:VEVENT
BEGIN:VEVENT
DTSTART;TZID=Europe/Oslo:20250904T140000
DTEND;TZID=Europe/Oslo:20250904T160000
DTSTAMP:20260425T174630
CREATED:20250729T075820Z
LAST-MODIFIED:20250729T075820Z
UID:10000410-1756994400-1757001600@roedtbergen.no
SUMMARY:Valgbod
DESCRIPTION:Vi har åpen valgbod hver dag unntatt søndag fra 12-18 mellom 15. august og 7. september. Valgboden er stengt på søndager. I valgboden står vi alltid minst to personer\, prater med folk om Rødt og deler ut materiell. Øktene i valgboden er på to timer.
URL:https://roedtbergen.no/aktivitet/valgbod-2/2025-09-04/
LOCATION:Torgallmeningen\, Torgallmeningen 1\, Bergen\, Vestland\, 5000\, Norge
ORGANIZER;CN="Raudt Hordaland":MAILTO:hordaland@raudt.no
END:VEVENT
BEGIN:VEVENT
DTSTART;TZID=Europe/Oslo:20250904T120000
DTEND;TZID=Europe/Oslo:20250904T140000
DTSTAMP:20260425T174630
CREATED:20250729T075946Z
LAST-MODIFIED:20250729T075946Z
UID:10000429-1756987200-1756994400@roedtbergen.no
SUMMARY:Valgbod
DESCRIPTION:Vi har åpen valgbod hver dag unntatt søndag fra 12-18 mellom 15. august og 7. september. Valgboden er stengt på søndager. I valgboden står vi alltid minst to personer\, prater med folk om Rødt og deler ut materiell. Øktene i valgboden er på to timer.
URL:https://roedtbergen.no/aktivitet/valgbod-3/2025-09-04/
LOCATION:Torgallmeningen\, Torgallmeningen 1\, Bergen\, Vestland\, 5000\, Norge
ORGANIZER;CN="Raudt Hordaland":MAILTO:hordaland@raudt.no
END:VEVENT
BEGIN:VEVENT
DTSTART;TZID=Europe/Oslo:20250903T183000
DTEND;TZID=Europe/Oslo:20250903T210000
DTSTAMP:20260425T174630
CREATED:20250829T133634Z
LAST-MODIFIED:20250829T171945Z
UID:10000531-1756924200-1756933200@roedtbergen.no
SUMMARY:Sosialt! Pizza\, chill og prat
DESCRIPTION:Takk for innsatsen så langt i valgkampen. Vi inviterer alle aktivister til pizza\, brus\, prat og uformell prat på kontoret. Påmelding er nødvendig så vi kjøper inn nok pizza
URL:https://roedtbergen.no/aktivitet/pizza-chill-og-prat/
LOCATION:Rødt Bergen\, Hans Tanks Gate 17\, Bergen\, 5008\, Norge
ORGANIZER;CN="Raudt Hordaland":MAILTO:hordaland@raudt.no
END:VEVENT
BEGIN:VEVENT
DTSTART;TZID=Europe/Oslo:20250903T160000
DTEND;TZID=Europe/Oslo:20250903T180000
DTSTAMP:20260425T174630
CREATED:20250729T080056Z
LAST-MODIFIED:20250729T080056Z
UID:10000448-1756915200-1756922400@roedtbergen.no
SUMMARY:Valgbod
DESCRIPTION:Vi har åpen valgbod hver dag unntatt søndag fra 12-18 mellom 15. august og 7. september. Valgboden er stengt på søndager. I valgboden står vi alltid minst to personer\, prater med folk om Rødt og deler ut materiell. Øktene i valgboden er på to timer.
URL:https://roedtbergen.no/aktivitet/valgbod-4/2025-09-03/
LOCATION:Torgallmeningen\, Torgallmeningen 1\, Bergen\, Vestland\, 5000\, Norge
ORGANIZER;CN="Raudt Hordaland":MAILTO:hordaland@raudt.no
END:VEVENT
BEGIN:VEVENT
DTSTART;TZID=Europe/Oslo:20250903T160000
DTEND;TZID=Europe/Oslo:20250903T170000
DTSTAMP:20260425T174630
CREATED:20250902T084825Z
LAST-MODIFIED:20250902T084825Z
UID:10000538-1756915200-1756918800@roedtbergen.no
SUMMARY:Utdeling ved Matkroken på Blekenberg
DESCRIPTION:Vi deler ut løpesedler og prater med folk. Kontaktperson er Mailiss: 988 90 063
URL:https://roedtbergen.no/aktivitet/utdeling-ved-matkroken-pa-blekenberg/
LOCATION:Matkroken\, Blekenberg\, Blekenberg 6-10\, Bergen\, 5055\, Norway
ORGANIZER;CN="R%C3%B8dt Bergen %C3%85rstad":MAILTO:eir_bakke@hotmail.com
END:VEVENT
BEGIN:VEVENT
DTSTART;TZID=Europe/Oslo:20250903T140000
DTEND;TZID=Europe/Oslo:20250903T160000
DTSTAMP:20260425T174630
CREATED:20250729T075820Z
LAST-MODIFIED:20250729T075820Z
UID:10000409-1756908000-1756915200@roedtbergen.no
SUMMARY:Valgbod
DESCRIPTION:Vi har åpen valgbod hver dag unntatt søndag fra 12-18 mellom 15. august og 7. september. Valgboden er stengt på søndager. I valgboden står vi alltid minst to personer\, prater med folk om Rødt og deler ut materiell. Øktene i valgboden er på to timer.
URL:https://roedtbergen.no/aktivitet/valgbod-2/2025-09-03/
LOCATION:Torgallmeningen\, Torgallmeningen 1\, Bergen\, Vestland\, 5000\, Norge
ORGANIZER;CN="Raudt Hordaland":MAILTO:hordaland@raudt.no
END:VEVENT
BEGIN:VEVENT
DTSTART;TZID=Europe/Oslo:20250903T120000
DTEND;TZID=Europe/Oslo:20250903T140000
DTSTAMP:20260425T174630
CREATED:20250729T075946Z
LAST-MODIFIED:20250729T075946Z
UID:10000428-1756900800-1756908000@roedtbergen.no
SUMMARY:Valgbod
DESCRIPTION:Vi har åpen valgbod hver dag unntatt søndag fra 12-18 mellom 15. august og 7. september. Valgboden er stengt på søndager. I valgboden står vi alltid minst to personer\, prater med folk om Rødt og deler ut materiell. Øktene i valgboden er på to timer.
URL:https://roedtbergen.no/aktivitet/valgbod-3/2025-09-03/
LOCATION:Torgallmeningen\, Torgallmeningen 1\, Bergen\, Vestland\, 5000\, Norge
ORGANIZER;CN="Raudt Hordaland":MAILTO:hordaland@raudt.no
END:VEVENT
END:VCALENDAR