BEGIN:VCALENDAR
VERSION:2.0
PRODID:-//Rødt Bergen Ressurser - ECPv6.15.20//NONSGML v1.0//EN
CALSCALE:GREGORIAN
METHOD:PUBLISH
X-WR-CALNAME:Rødt Bergen Ressurser
X-ORIGINAL-URL:https://roedtbergen.no
X-WR-CALDESC:Arrangement for Rødt Bergen Ressurser
REFRESH-INTERVAL;VALUE=DURATION:PT1H
X-Robots-Tag:noindex
X-PUBLISHED-TTL:PT1H
BEGIN:VTIMEZONE
TZID:UTC
BEGIN:STANDARD
TZOFFSETFROM:+0000
TZOFFSETTO:+0000
TZNAME:UTC
DTSTART:20220101T000000
END:STANDARD
END:VTIMEZONE
BEGIN:VTIMEZONE
TZID:Europe/Oslo
BEGIN:DAYLIGHT
TZOFFSETFROM:+0100
TZOFFSETTO:+0200
TZNAME:CEST
DTSTART:20220327T010000
END:DAYLIGHT
BEGIN:STANDARD
TZOFFSETFROM:+0200
TZOFFSETTO:+0100
TZNAME:CET
DTSTART:20221030T010000
END:STANDARD
BEGIN:DAYLIGHT
TZOFFSETFROM:+0100
TZOFFSETTO:+0200
TZNAME:CEST
DTSTART:20230326T010000
END:DAYLIGHT
BEGIN:STANDARD
TZOFFSETFROM:+0200
TZOFFSETTO:+0100
TZNAME:CET
DTSTART:20231029T010000
END:STANDARD
BEGIN:DAYLIGHT
TZOFFSETFROM:+0100
TZOFFSETTO:+0200
TZNAME:CEST
DTSTART:20240331T010000
END:DAYLIGHT
BEGIN:STANDARD
TZOFFSETFROM:+0200
TZOFFSETTO:+0100
TZNAME:CET
DTSTART:20241027T010000
END:STANDARD
END:VTIMEZONE
BEGIN:VEVENT
DTSTART;TZID=UTC:20230804T150000
DTEND;TZID=UTC:20230804T160000
DTSTAMP:20260425T231926
CREATED:20230801T105834Z
LAST-MODIFIED:20230801T105834Z
UID:10000030-1691161200-1691164800@roedtbergen.no
SUMMARY:Samling for frivillige i Rødt
DESCRIPTION:Rødt trenger frivillige til valgkampen. Har du lyst? Vi tilbyr opplæring\, spennende diskusjoner\, aksjoner\, møte nye folk og å være med å gjøre Bergen mer rettferdig og fargerik. Nett nå trenger vi folk til å være med å organisere parkdag og Fest For Folk Flest lørdag 5 august. Velkommen til allmøte for frivillige fredag 4 august kl 15 på Rødt kontoret
URL:https://roedtbergen.no/aktivitet/samling-for-frivillige-i-rodt/
END:VEVENT
BEGIN:VEVENT
DTSTART;TZID=UTC:20230803T180000
DTEND;TZID=UTC:20230803T200000
DTSTAMP:20260425T231926
CREATED:20230802T083144Z
LAST-MODIFIED:20230802T083144Z
UID:10000031-1691085600-1691092800@roedtbergen.no
SUMMARY:Ringedugnad på kontoret
DESCRIPTION:Vi møtes og blir kjent med Ringesentralen\, ringer medlemmer og mobiliserer til valgkampåpningen på lørdag.
URL:https://roedtbergen.no/aktivitet/ringedugnad-pa-kontoret/
LOCATION:Rødt Bergen\, Hans Tanks Gate 17\, Bergen\, 5008\, Norge
ORGANIZER;CN="R%C3%B8dt Bergen":MAILTO:bergen@roedt.no
END:VEVENT
BEGIN:VEVENT
DTSTART;TZID=Europe/Oslo:20230802T140000
DTEND;TZID=Europe/Oslo:20230802T180000
DTSTAMP:20260425T231926
CREATED:20230824T091004Z
LAST-MODIFIED:20230824T092909Z
UID:10000309-1690984800-1690999200@roedtbergen.no
SUMMARY:Stand på Gullgruven
DESCRIPTION:Vi står på stand på Gullgruven senter. Bli med!
URL:https://roedtbergen.no/aktivitet/stand-pa-gullgruven-2/2023-08-02/
LOCATION:Gullgruven senter
END:VEVENT
BEGIN:VEVENT
DTSTART;TZID=UTC:20230731T190000
DTEND;TZID=UTC:20230731T210000
DTSTAMP:20260425T231926
CREATED:20230719T074411Z
LAST-MODIFIED:20230724T062218Z
UID:10000026-1690830000-1690837200@roedtbergen.no
SUMMARY:Valgkampskolering: Hvordan stå på stand/i valgbod
DESCRIPTION:Det nærmer seg innspurten i valget\, og vi skal både stå på stand og i valgbod. Hvordan er det egentlig? Og hva gjør man når det kommer vanskelige spørsmål? Dette skal Sofie Marhaug fra stortingsgruppen hjelpe oss å forberede oss på. Bli med! \nInnleder: Sofie Marhaug \nPåmelding er ikke nødvendig for å delta\, men meld deg gjerne på likevel så vi får estimert antall gjester.
URL:https://roedtbergen.no/aktivitet/valgkampskolering-hvordan-sta-pa-stand-i-valgbod/
LOCATION:Partikontoret\, Hans Tanks Gate 17
END:VEVENT
END:VCALENDAR