BEGIN:VCALENDAR
VERSION:2.0
PRODID:-//Rødt Bergen Ressurser - ECPv6.15.20//NONSGML v1.0//EN
CALSCALE:GREGORIAN
METHOD:PUBLISH
X-WR-CALNAME:Rødt Bergen Ressurser
X-ORIGINAL-URL:https://roedtbergen.no
X-WR-CALDESC:Arrangement for Rødt Bergen Ressurser
REFRESH-INTERVAL;VALUE=DURATION:PT1H
X-Robots-Tag:noindex
X-PUBLISHED-TTL:PT1H
BEGIN:VTIMEZONE
TZID:Europe/Oslo
BEGIN:DAYLIGHT
TZOFFSETFROM:+0100
TZOFFSETTO:+0200
TZNAME:CEST
DTSTART:20220327T010000
END:DAYLIGHT
BEGIN:STANDARD
TZOFFSETFROM:+0200
TZOFFSETTO:+0100
TZNAME:CET
DTSTART:20221030T010000
END:STANDARD
BEGIN:DAYLIGHT
TZOFFSETFROM:+0100
TZOFFSETTO:+0200
TZNAME:CEST
DTSTART:20230326T010000
END:DAYLIGHT
BEGIN:STANDARD
TZOFFSETFROM:+0200
TZOFFSETTO:+0100
TZNAME:CET
DTSTART:20231029T010000
END:STANDARD
BEGIN:DAYLIGHT
TZOFFSETFROM:+0100
TZOFFSETTO:+0200
TZNAME:CEST
DTSTART:20240331T010000
END:DAYLIGHT
BEGIN:STANDARD
TZOFFSETFROM:+0200
TZOFFSETTO:+0100
TZNAME:CET
DTSTART:20241027T010000
END:STANDARD
END:VTIMEZONE
BEGIN:VEVENT
DTSTART;TZID=Europe/Oslo:20230823T140000
DTEND;TZID=Europe/Oslo:20230823T160000
DTSTAMP:20260425T180908
CREATED:20230815T123925Z
LAST-MODIFIED:20230826T150545Z
UID:10000245-1692799200-1692806400@roedtbergen.no
SUMMARY:Valgbod på Torgallmeningen\, 14.00 til 16.00
DESCRIPTION:Valgboden til Rødt Bergen holder åpen hver dag mellom 12.00 og 18.00\, fra fredag den 18. august til 10. september. \nHer kan du melde deg som vaktansvarlig eller frivillig på skiftet som varer fra 14.00 til 16.00. Det er viktig at man er punktlig\, sånn at deltakerne på forrige skift slipper å stå for lenge. Hvis valgboden må stenge tidlig\, sørger vaktansvarlig for at rutinene for stenging følges og at nøkkelen leveres tilbake. Mer informasjon om dette kommer i bekreftelseseposten når man melder seg på. \nVel møtt!
URL:https://roedtbergen.no/aktivitet/valgbod-pa-torgallmeningen-14-00-til-16-00/2023-08-23/
LOCATION:Torgallmeningen\, Torgallmeningen 1\, Bergen\, Vestland\, 5000\, Norge
ORGANIZER;CN="R%C3%B8dt Bergen":MAILTO:bergen@roedt.no
END:VEVENT
BEGIN:VEVENT
DTSTART;TZID=Europe/Oslo:20230823T120000
DTEND;TZID=Europe/Oslo:20230823T140000
DTSTAMP:20260425T180908
CREATED:20230823T134407Z
LAST-MODIFIED:20230823T134407Z
UID:10000298-1692792000-1692799200@roedtbergen.no
SUMMARY:Stand på Vestkanten
DESCRIPTION:Vi deler ut løpesedler på Vestkanten i 1. etasje. Bli med!
URL:https://roedtbergen.no/aktivitet/stand-pa-vestkanten-2/
END:VEVENT
BEGIN:VEVENT
DTSTART;TZID=Europe/Oslo:20230823T120000
DTEND;TZID=Europe/Oslo:20230823T140000
DTSTAMP:20260425T180908
CREATED:20230823T134154Z
LAST-MODIFIED:20230823T134154Z
UID:10000297-1692792000-1692799200@roedtbergen.no
SUMMARY:Stand på Støletorget
DESCRIPTION:Vi deler ut løpesedler til forbigående på Støletorget. Bli med!
URL:https://roedtbergen.no/aktivitet/stand-pa-stoletorget-2/
LOCATION:Støletorget\, Støletorget 1\, Bergen\, Norge
END:VEVENT
BEGIN:VEVENT
DTSTART;TZID=Europe/Oslo:20230823T120000
DTEND;TZID=Europe/Oslo:20230823T140000
DTSTAMP:20260425T180908
CREATED:20230719T070808Z
LAST-MODIFIED:20230826T150632Z
UID:10000167-1692792000-1692799200@roedtbergen.no
SUMMARY:Valgbod på Torgallmeningen\, 12.00 til 14.00
DESCRIPTION:Valgboden til Rødt Bergen holder åpen hver dag mellom 12.00 og 18.00\, fra fredag den 18. august til 10. september. \nHer kan du melde deg som vaktansvarlig eller frivillig på skiftet som varer fra 12.00 til 14.00. Vaktansvarlig henter nøkkelen og sørger for at rutinene for åpning av valgboden følges. Denne informasjonen kommer i bekreftelseseposten når man melder seg på. For at valgboden skal kunne være åpen innen 12.00 er det viktig at alle møter opp i god tid\, kl. 11.45. \nVel møtt!
URL:https://roedtbergen.no/aktivitet/valgbod/2023-08-23/
LOCATION:Torgallmeningen\, Torgallmeningen 1\, Bergen\, Vestland\, 5000\, Norge
ORGANIZER;CN="R%C3%B8dt Bergen":MAILTO:bergen@roedt.no
END:VEVENT
BEGIN:VEVENT
DTSTART;TZID=Europe/Oslo:20230822T160000
DTEND;TZID=Europe/Oslo:20230822T180000
DTSTAMP:20260425T180908
CREATED:20230815T124000Z
LAST-MODIFIED:20230826T150517Z
UID:10000268-1692720000-1692727200@roedtbergen.no
SUMMARY:Valgbod på Torgallmeningen\, 16.00 til 18.00
DESCRIPTION:Valgboden til Rødt Bergen holder åpen hver dag mellom 12.00 og 18.00\, fra fredag den 18. august til 10. september. \nHer kan du melde deg som vaktansvarlig eller frivillig på skiftet som varer fra 16.00 til 18.00. Det er viktig at man er punktlig\, sånn at deltakerne på forrige skift slipper å stå for lenge. Vaktansvarlig sørger for at rutinene for stenging følges og at nøkkelen leveres tilbake. Mer informasjon om dette kommer i bekreftelseseposten når man melder seg på. \nVel møtt!
URL:https://roedtbergen.no/aktivitet/valgbod-pa-torgallmeningen-16-00-til-18-00/2023-08-22/
LOCATION:Torgallmeningen\, Torgallmeningen 1\, Bergen\, Vestland\, 5000\, Norge
ORGANIZER;CN="R%C3%B8dt Bergen":MAILTO:bergen@roedt.no
END:VEVENT
BEGIN:VEVENT
DTSTART;TZID=Europe/Oslo:20230822T140000
DTEND;TZID=Europe/Oslo:20230822T160000
DTSTAMP:20260425T180908
CREATED:20230815T123925Z
LAST-MODIFIED:20230826T150545Z
UID:10000244-1692712800-1692720000@roedtbergen.no
SUMMARY:Valgbod på Torgallmeningen\, 14.00 til 16.00
DESCRIPTION:Valgboden til Rødt Bergen holder åpen hver dag mellom 12.00 og 18.00\, fra fredag den 18. august til 10. september. \nHer kan du melde deg som vaktansvarlig eller frivillig på skiftet som varer fra 14.00 til 16.00. Det er viktig at man er punktlig\, sånn at deltakerne på forrige skift slipper å stå for lenge. Hvis valgboden må stenge tidlig\, sørger vaktansvarlig for at rutinene for stenging følges og at nøkkelen leveres tilbake. Mer informasjon om dette kommer i bekreftelseseposten når man melder seg på. \nVel møtt!
URL:https://roedtbergen.no/aktivitet/valgbod-pa-torgallmeningen-14-00-til-16-00/2023-08-22/
LOCATION:Torgallmeningen\, Torgallmeningen 1\, Bergen\, Vestland\, 5000\, Norge
ORGANIZER;CN="R%C3%B8dt Bergen":MAILTO:bergen@roedt.no
END:VEVENT
BEGIN:VEVENT
DTSTART;TZID=Europe/Oslo:20230822T120000
DTEND;TZID=Europe/Oslo:20230822T140000
DTSTAMP:20260425T180908
CREATED:20230719T070808Z
LAST-MODIFIED:20230826T150632Z
UID:10000166-1692705600-1692712800@roedtbergen.no
SUMMARY:Valgbod på Torgallmeningen\, 12.00 til 14.00
DESCRIPTION:Valgboden til Rødt Bergen holder åpen hver dag mellom 12.00 og 18.00\, fra fredag den 18. august til 10. september. \nHer kan du melde deg som vaktansvarlig eller frivillig på skiftet som varer fra 12.00 til 14.00. Vaktansvarlig henter nøkkelen og sørger for at rutinene for åpning av valgboden følges. Denne informasjonen kommer i bekreftelseseposten når man melder seg på. For at valgboden skal kunne være åpen innen 12.00 er det viktig at alle møter opp i god tid\, kl. 11.45. \nVel møtt!
URL:https://roedtbergen.no/aktivitet/valgbod/2023-08-22/
LOCATION:Torgallmeningen\, Torgallmeningen 1\, Bergen\, Vestland\, 5000\, Norge
ORGANIZER;CN="R%C3%B8dt Bergen":MAILTO:bergen@roedt.no
END:VEVENT
BEGIN:VEVENT
DTSTART;TZID=Europe/Oslo:20230822T080000
DTEND;TZID=Europe/Oslo:20230822T090000
DTSTAMP:20260425T180908
CREATED:20230808T040402Z
LAST-MODIFIED:20230808T062726Z
UID:10000107-1692691200-1692694800@roedtbergen.no
SUMMARY:Morgenutdeling ved busstoppet ved Puddefjordsbroen
DESCRIPTION:Vi sørger for en hyggelig morgen for de som tar bussen fra Puddefjordsbroen
URL:https://roedtbergen.no/aktivitet/morgenutdeling-ved-busstoppet-ved-puddefjordsbroen/
LOCATION:Møhlenpris Busstopp\, Bredalsmarken 17\, Bergen\, 5006\, Norge
ORGANIZER;CN="R%C3%B8dt Bergen M%C3%B8hlenpris":MAILTO:asmundroy@gmail.com
END:VEVENT
BEGIN:VEVENT
DTSTART;TZID=Europe/Oslo:20230821T170000
DTEND;TZID=Europe/Oslo:20230821T180000
DTSTAMP:20260425T180908
CREATED:20230805T041938Z
LAST-MODIFIED:20230808T063446Z
UID:10000159-1692637200-1692640800@roedtbergen.no
SUMMARY:Åpent hus for frivillige
DESCRIPTION:Gode frivillige.\nTusen takk for super innsats i helga. Vi trenger dere og vi trenger enda fler. Har du spørsmål\, lyst på kaffe\, forslag til aksjoner\, lysten på en diskusjon\,\, lurer på hva som skjer; kom på allmøte for frivillige helt frivillig hver mandag på Rødt kontoret.\nMøt andre valgkampaktivister til planlegging av uken og hyggelig samvær hver mandag klokken 17
URL:https://roedtbergen.no/aktivitet/aktivistsamling/2023-08-21/
LOCATION:Rødt Bergen\, Hans Tanks Gate 17\, Bergen\, 5008\, Norge
ORGANIZER;CN="R%C3%B8dt Bergen":MAILTO:bergen@roedt.no
END:VEVENT
BEGIN:VEVENT
DTSTART;TZID=Europe/Oslo:20230821T160000
DTEND;TZID=Europe/Oslo:20230821T180000
DTSTAMP:20260425T180908
CREATED:20230815T124000Z
LAST-MODIFIED:20230826T150517Z
UID:10000267-1692633600-1692640800@roedtbergen.no
SUMMARY:Valgbod på Torgallmeningen\, 16.00 til 18.00
DESCRIPTION:Valgboden til Rødt Bergen holder åpen hver dag mellom 12.00 og 18.00\, fra fredag den 18. august til 10. september. \nHer kan du melde deg som vaktansvarlig eller frivillig på skiftet som varer fra 16.00 til 18.00. Det er viktig at man er punktlig\, sånn at deltakerne på forrige skift slipper å stå for lenge. Vaktansvarlig sørger for at rutinene for stenging følges og at nøkkelen leveres tilbake. Mer informasjon om dette kommer i bekreftelseseposten når man melder seg på. \nVel møtt!
URL:https://roedtbergen.no/aktivitet/valgbod-pa-torgallmeningen-16-00-til-18-00/2023-08-21/
LOCATION:Torgallmeningen\, Torgallmeningen 1\, Bergen\, Vestland\, 5000\, Norge
ORGANIZER;CN="R%C3%B8dt Bergen":MAILTO:bergen@roedt.no
END:VEVENT
BEGIN:VEVENT
DTSTART;TZID=Europe/Oslo:20230821T140000
DTEND;TZID=Europe/Oslo:20230821T160000
DTSTAMP:20260425T180908
CREATED:20230815T123925Z
LAST-MODIFIED:20230826T150545Z
UID:10000243-1692626400-1692633600@roedtbergen.no
SUMMARY:Valgbod på Torgallmeningen\, 14.00 til 16.00
DESCRIPTION:Valgboden til Rødt Bergen holder åpen hver dag mellom 12.00 og 18.00\, fra fredag den 18. august til 10. september. \nHer kan du melde deg som vaktansvarlig eller frivillig på skiftet som varer fra 14.00 til 16.00. Det er viktig at man er punktlig\, sånn at deltakerne på forrige skift slipper å stå for lenge. Hvis valgboden må stenge tidlig\, sørger vaktansvarlig for at rutinene for stenging følges og at nøkkelen leveres tilbake. Mer informasjon om dette kommer i bekreftelseseposten når man melder seg på. \nVel møtt!
URL:https://roedtbergen.no/aktivitet/valgbod-pa-torgallmeningen-14-00-til-16-00/2023-08-21/
LOCATION:Torgallmeningen\, Torgallmeningen 1\, Bergen\, Vestland\, 5000\, Norge
ORGANIZER;CN="R%C3%B8dt Bergen":MAILTO:bergen@roedt.no
END:VEVENT
BEGIN:VEVENT
DTSTART;TZID=Europe/Oslo:20230821T120000
DTEND;TZID=Europe/Oslo:20230821T140000
DTSTAMP:20260425T180908
CREATED:20230719T070808Z
LAST-MODIFIED:20230826T150632Z
UID:10000165-1692619200-1692626400@roedtbergen.no
SUMMARY:Valgbod på Torgallmeningen\, 12.00 til 14.00
DESCRIPTION:Valgboden til Rødt Bergen holder åpen hver dag mellom 12.00 og 18.00\, fra fredag den 18. august til 10. september. \nHer kan du melde deg som vaktansvarlig eller frivillig på skiftet som varer fra 12.00 til 14.00. Vaktansvarlig henter nøkkelen og sørger for at rutinene for åpning av valgboden følges. Denne informasjonen kommer i bekreftelseseposten når man melder seg på. For at valgboden skal kunne være åpen innen 12.00 er det viktig at alle møter opp i god tid\, kl. 11.45. \nVel møtt!
URL:https://roedtbergen.no/aktivitet/valgbod/2023-08-21/
LOCATION:Torgallmeningen\, Torgallmeningen 1\, Bergen\, Vestland\, 5000\, Norge
ORGANIZER;CN="R%C3%B8dt Bergen":MAILTO:bergen@roedt.no
END:VEVENT
BEGIN:VEVENT
DTSTART;TZID=Europe/Oslo:20230820T160000
DTEND;TZID=Europe/Oslo:20230820T180000
DTSTAMP:20260425T180908
CREATED:20230815T124000Z
LAST-MODIFIED:20230826T150517Z
UID:10000266-1692547200-1692554400@roedtbergen.no
SUMMARY:Valgbod på Torgallmeningen\, 16.00 til 18.00
DESCRIPTION:Valgboden til Rødt Bergen holder åpen hver dag mellom 12.00 og 18.00\, fra fredag den 18. august til 10. september. \nHer kan du melde deg som vaktansvarlig eller frivillig på skiftet som varer fra 16.00 til 18.00. Det er viktig at man er punktlig\, sånn at deltakerne på forrige skift slipper å stå for lenge. Vaktansvarlig sørger for at rutinene for stenging følges og at nøkkelen leveres tilbake. Mer informasjon om dette kommer i bekreftelseseposten når man melder seg på. \nVel møtt!
URL:https://roedtbergen.no/aktivitet/valgbod-pa-torgallmeningen-16-00-til-18-00/2023-08-20/
LOCATION:Torgallmeningen\, Torgallmeningen 1\, Bergen\, Vestland\, 5000\, Norge
ORGANIZER;CN="R%C3%B8dt Bergen":MAILTO:bergen@roedt.no
END:VEVENT
BEGIN:VEVENT
DTSTART;TZID=Europe/Oslo:20230820T140000
DTEND;TZID=Europe/Oslo:20230820T160000
DTSTAMP:20260425T180908
CREATED:20230815T123925Z
LAST-MODIFIED:20230826T150545Z
UID:10000242-1692540000-1692547200@roedtbergen.no
SUMMARY:Valgbod på Torgallmeningen\, 14.00 til 16.00
DESCRIPTION:Valgboden til Rødt Bergen holder åpen hver dag mellom 12.00 og 18.00\, fra fredag den 18. august til 10. september. \nHer kan du melde deg som vaktansvarlig eller frivillig på skiftet som varer fra 14.00 til 16.00. Det er viktig at man er punktlig\, sånn at deltakerne på forrige skift slipper å stå for lenge. Hvis valgboden må stenge tidlig\, sørger vaktansvarlig for at rutinene for stenging følges og at nøkkelen leveres tilbake. Mer informasjon om dette kommer i bekreftelseseposten når man melder seg på. \nVel møtt!
URL:https://roedtbergen.no/aktivitet/valgbod-pa-torgallmeningen-14-00-til-16-00/2023-08-20/
LOCATION:Torgallmeningen\, Torgallmeningen 1\, Bergen\, Vestland\, 5000\, Norge
ORGANIZER;CN="R%C3%B8dt Bergen":MAILTO:bergen@roedt.no
END:VEVENT
BEGIN:VEVENT
DTSTART;TZID=Europe/Oslo:20230820T120000
DTEND;TZID=Europe/Oslo:20230820T140000
DTSTAMP:20260425T180908
CREATED:20230719T070808Z
LAST-MODIFIED:20230826T150632Z
UID:10000164-1692532800-1692540000@roedtbergen.no
SUMMARY:Valgbod på Torgallmeningen\, 12.00 til 14.00
DESCRIPTION:Valgboden til Rødt Bergen holder åpen hver dag mellom 12.00 og 18.00\, fra fredag den 18. august til 10. september. \nHer kan du melde deg som vaktansvarlig eller frivillig på skiftet som varer fra 12.00 til 14.00. Vaktansvarlig henter nøkkelen og sørger for at rutinene for åpning av valgboden følges. Denne informasjonen kommer i bekreftelseseposten når man melder seg på. For at valgboden skal kunne være åpen innen 12.00 er det viktig at alle møter opp i god tid\, kl. 11.45. \nVel møtt!
URL:https://roedtbergen.no/aktivitet/valgbod/2023-08-20/
LOCATION:Torgallmeningen\, Torgallmeningen 1\, Bergen\, Vestland\, 5000\, Norge
ORGANIZER;CN="R%C3%B8dt Bergen":MAILTO:bergen@roedt.no
END:VEVENT
BEGIN:VEVENT
DTSTART;TZID=Europe/Oslo:20230819T160000
DTEND;TZID=Europe/Oslo:20230819T180000
DTSTAMP:20260425T180908
CREATED:20230815T124000Z
LAST-MODIFIED:20230826T150517Z
UID:10000265-1692460800-1692468000@roedtbergen.no
SUMMARY:Valgbod på Torgallmeningen\, 16.00 til 18.00
DESCRIPTION:Valgboden til Rødt Bergen holder åpen hver dag mellom 12.00 og 18.00\, fra fredag den 18. august til 10. september. \nHer kan du melde deg som vaktansvarlig eller frivillig på skiftet som varer fra 16.00 til 18.00. Det er viktig at man er punktlig\, sånn at deltakerne på forrige skift slipper å stå for lenge. Vaktansvarlig sørger for at rutinene for stenging følges og at nøkkelen leveres tilbake. Mer informasjon om dette kommer i bekreftelseseposten når man melder seg på. \nVel møtt!
URL:https://roedtbergen.no/aktivitet/valgbod-pa-torgallmeningen-16-00-til-18-00/2023-08-19/
LOCATION:Torgallmeningen\, Torgallmeningen 1\, Bergen\, Vestland\, 5000\, Norge
ORGANIZER;CN="R%C3%B8dt Bergen":MAILTO:bergen@roedt.no
END:VEVENT
BEGIN:VEVENT
DTSTART;TZID=Europe/Oslo:20230819T140000
DTEND;TZID=Europe/Oslo:20230819T160000
DTSTAMP:20260425T180908
CREATED:20230815T123925Z
LAST-MODIFIED:20230826T150545Z
UID:10000241-1692453600-1692460800@roedtbergen.no
SUMMARY:Valgbod på Torgallmeningen\, 14.00 til 16.00
DESCRIPTION:Valgboden til Rødt Bergen holder åpen hver dag mellom 12.00 og 18.00\, fra fredag den 18. august til 10. september. \nHer kan du melde deg som vaktansvarlig eller frivillig på skiftet som varer fra 14.00 til 16.00. Det er viktig at man er punktlig\, sånn at deltakerne på forrige skift slipper å stå for lenge. Hvis valgboden må stenge tidlig\, sørger vaktansvarlig for at rutinene for stenging følges og at nøkkelen leveres tilbake. Mer informasjon om dette kommer i bekreftelseseposten når man melder seg på. \nVel møtt!
URL:https://roedtbergen.no/aktivitet/valgbod-pa-torgallmeningen-14-00-til-16-00/2023-08-19/
LOCATION:Torgallmeningen\, Torgallmeningen 1\, Bergen\, Vestland\, 5000\, Norge
ORGANIZER;CN="R%C3%B8dt Bergen":MAILTO:bergen@roedt.no
END:VEVENT
BEGIN:VEVENT
DTSTART;TZID=Europe/Oslo:20230819T123000
DTEND;TZID=Europe/Oslo:20230819T150000
DTSTAMP:20260425T180908
CREATED:20230818T082453Z
LAST-MODIFIED:20230818T082453Z
UID:10000289-1692448200-1692457200@roedtbergen.no
SUMMARY:Stand i sentrum
DESCRIPTION:Rødt Bergen Sentrum har stand og utdeling i sentrum. Oppmøte ved den Blå Steinen klokken 12:30
URL:https://roedtbergen.no/aktivitet/stand-i-sentrum/2023-08-19/
LOCATION:Blå Stein\, Nedre Ole Bulls plass 1\, Bergen\, 5006\, Norge
END:VEVENT
BEGIN:VEVENT
DTSTART;TZID=Europe/Oslo:20230819T120000
DTEND;TZID=Europe/Oslo:20230819T140000
DTSTAMP:20260425T180908
CREATED:20230816T111951Z
LAST-MODIFIED:20230816T111951Z
UID:10000288-1692446400-1692453600@roedtbergen.no
SUMMARY:Stand på Fanatorget
DESCRIPTION:Rødt Bergen Fana møter Fanabuene og forteller om det beste partiet med den beste politikken. Bli med på stand på Fanatorget.
URL:https://roedtbergen.no/aktivitet/stand-pa-fanatorget/
LOCATION:Fanatorget\, Aurdalslia 10\, Sandsli\, 5253\, Norge
ORGANIZER;CN="R%C3%B8dt Bergen Fana":MAILTO:styret-rdt-fana@googlegroups.com
END:VEVENT
BEGIN:VEVENT
DTSTART;TZID=Europe/Oslo:20230819T120000
DTEND;TZID=Europe/Oslo:20230819T140000
DTSTAMP:20260425T180908
CREATED:20230808T040101Z
LAST-MODIFIED:20230808T063350Z
UID:10000153-1692446400-1692453600@roedtbergen.no
SUMMARY:Stand og utdeling ved Vitalitetssenteret
DESCRIPTION:Hver lørdag frem til valget har Rødt Møhlenpris stand ved Vitalitetssenteret.
URL:https://roedtbergen.no/aktivitet/stand-og-utdeling-ved-vitalitetssenteret/2023-08-19/
LOCATION:Vitalitetssenteret\, Wolfs Gate 12\, Bergen\, Norge
ORGANIZER;CN="R%C3%B8dt Bergen M%C3%B8hlenpris":MAILTO:asmundroy@gmail.com
END:VEVENT
BEGIN:VEVENT
DTSTART;TZID=Europe/Oslo:20230819T120000
DTEND;TZID=Europe/Oslo:20230819T140000
DTSTAMP:20260425T180908
CREATED:20230807T041351Z
LAST-MODIFIED:20230808T062813Z
UID:10000101-1692446400-1692453600@roedtbergen.no
SUMMARY:Stand på Laksevåg senter
DESCRIPTION:Rødt Bergen Laksevåg og Loddefjord har stand inne på Laksevåg senter
URL:https://roedtbergen.no/aktivitet/stand-pa-laksevag-senter/
LOCATION:Laksevåg Senter\, Kringsjåveien 89\, Laksevåg\, 5163\, Norge
END:VEVENT
BEGIN:VEVENT
DTSTART;TZID=Europe/Oslo:20230819T120000
DTEND;TZID=Europe/Oslo:20230819T140000
DTSTAMP:20260425T180908
CREATED:20230807T041126Z
LAST-MODIFIED:20230808T063555Z
UID:10000186-1692446400-1692453600@roedtbergen.no
SUMMARY:Stand på Oasen
DESCRIPTION:Rødt Bergen Fyllingsdalen har stand på Oasen hver lørdag frem til valget. Aktiviteten er enten inne på Oasen eller ved Bybanestoppet.
URL:https://roedtbergen.no/aktivitet/stand-pa-oasen/2023-08-19/
LOCATION:Bybanestoppet ved Oasen\, Folke Bernadottes vei 52\, Fyllingsdalen\, 5147\, Norge
ORGANIZER;CN="R%C3%B8dt  Bergen Fyllingsdalen":MAILTO:sirituftlundemoen@gmail.com
END:VEVENT
BEGIN:VEVENT
DTSTART;TZID=Europe/Oslo:20230819T120000
DTEND;TZID=Europe/Oslo:20230819T140000
DTSTAMP:20260425T180908
CREATED:20230719T070808Z
LAST-MODIFIED:20230826T150632Z
UID:10000163-1692446400-1692453600@roedtbergen.no
SUMMARY:Valgbod på Torgallmeningen\, 12.00 til 14.00
DESCRIPTION:Valgboden til Rødt Bergen holder åpen hver dag mellom 12.00 og 18.00\, fra fredag den 18. august til 10. september. \nHer kan du melde deg som vaktansvarlig eller frivillig på skiftet som varer fra 12.00 til 14.00. Vaktansvarlig henter nøkkelen og sørger for at rutinene for åpning av valgboden følges. Denne informasjonen kommer i bekreftelseseposten når man melder seg på. For at valgboden skal kunne være åpen innen 12.00 er det viktig at alle møter opp i god tid\, kl. 11.45. \nVel møtt!
URL:https://roedtbergen.no/aktivitet/valgbod/2023-08-19/
LOCATION:Torgallmeningen\, Torgallmeningen 1\, Bergen\, Vestland\, 5000\, Norge
ORGANIZER;CN="R%C3%B8dt Bergen":MAILTO:bergen@roedt.no
END:VEVENT
BEGIN:VEVENT
DTSTART;TZID=Europe/Oslo:20230818T160000
DTEND;TZID=Europe/Oslo:20230818T180000
DTSTAMP:20260425T180908
CREATED:20230815T124000Z
LAST-MODIFIED:20230826T150517Z
UID:10000264-1692374400-1692381600@roedtbergen.no
SUMMARY:Valgbod på Torgallmeningen\, 16.00 til 18.00
DESCRIPTION:Valgboden til Rødt Bergen holder åpen hver dag mellom 12.00 og 18.00\, fra fredag den 18. august til 10. september. \nHer kan du melde deg som vaktansvarlig eller frivillig på skiftet som varer fra 16.00 til 18.00. Det er viktig at man er punktlig\, sånn at deltakerne på forrige skift slipper å stå for lenge. Vaktansvarlig sørger for at rutinene for stenging følges og at nøkkelen leveres tilbake. Mer informasjon om dette kommer i bekreftelseseposten når man melder seg på. \nVel møtt!
URL:https://roedtbergen.no/aktivitet/valgbod-pa-torgallmeningen-16-00-til-18-00/2023-08-18/
LOCATION:Torgallmeningen\, Torgallmeningen 1\, Bergen\, Vestland\, 5000\, Norge
ORGANIZER;CN="R%C3%B8dt Bergen":MAILTO:bergen@roedt.no
END:VEVENT
BEGIN:VEVENT
DTSTART;TZID=Europe/Oslo:20230818T140000
DTEND;TZID=Europe/Oslo:20230818T160000
DTSTAMP:20260425T180908
CREATED:20230815T123925Z
LAST-MODIFIED:20230826T150545Z
UID:10000240-1692367200-1692374400@roedtbergen.no
SUMMARY:Valgbod på Torgallmeningen\, 14.00 til 16.00
DESCRIPTION:Valgboden til Rødt Bergen holder åpen hver dag mellom 12.00 og 18.00\, fra fredag den 18. august til 10. september. \nHer kan du melde deg som vaktansvarlig eller frivillig på skiftet som varer fra 14.00 til 16.00. Det er viktig at man er punktlig\, sånn at deltakerne på forrige skift slipper å stå for lenge. Hvis valgboden må stenge tidlig\, sørger vaktansvarlig for at rutinene for stenging følges og at nøkkelen leveres tilbake. Mer informasjon om dette kommer i bekreftelseseposten når man melder seg på. \nVel møtt!
URL:https://roedtbergen.no/aktivitet/valgbod-pa-torgallmeningen-14-00-til-16-00/2023-08-18/
LOCATION:Torgallmeningen\, Torgallmeningen 1\, Bergen\, Vestland\, 5000\, Norge
ORGANIZER;CN="R%C3%B8dt Bergen":MAILTO:bergen@roedt.no
END:VEVENT
BEGIN:VEVENT
DTSTART;TZID=Europe/Oslo:20230818T120000
DTEND;TZID=Europe/Oslo:20230818T140000
DTSTAMP:20260425T180908
CREATED:20230719T070808Z
LAST-MODIFIED:20230826T150632Z
UID:10000162-1692360000-1692367200@roedtbergen.no
SUMMARY:Valgbod på Torgallmeningen\, 12.00 til 14.00
DESCRIPTION:Valgboden til Rødt Bergen holder åpen hver dag mellom 12.00 og 18.00\, fra fredag den 18. august til 10. september. \nHer kan du melde deg som vaktansvarlig eller frivillig på skiftet som varer fra 12.00 til 14.00. Vaktansvarlig henter nøkkelen og sørger for at rutinene for åpning av valgboden følges. Denne informasjonen kommer i bekreftelseseposten når man melder seg på. For at valgboden skal kunne være åpen innen 12.00 er det viktig at alle møter opp i god tid\, kl. 11.45. \nVel møtt!
URL:https://roedtbergen.no/aktivitet/valgbod/2023-08-18/
LOCATION:Torgallmeningen\, Torgallmeningen 1\, Bergen\, Vestland\, 5000\, Norge
ORGANIZER;CN="R%C3%B8dt Bergen":MAILTO:bergen@roedt.no
END:VEVENT
BEGIN:VEVENT
DTSTART;TZID=Europe/Oslo:20230817T200000
DTEND;TZID=Europe/Oslo:20230817T223000
DTSTAMP:20260425T180908
CREATED:20230808T115540Z
LAST-MODIFIED:20230808T120611Z
UID:10000190-1692302400-1692311400@roedtbergen.no
SUMMARY:Felles visning av allmøte og partilederdebatt
DESCRIPTION:Bli med på felles visning på kontoret! Vi varmer opp med allmøte fra Rødt sentralt kl 20:00 før det blir partilederdebatt sendt fra Arendal kl 21:20. Det blir god stemning med partikamerater og felleskap på kontoret i Hans Tanks gate 17 mens vi heier frem vår nye partileder!
URL:https://roedtbergen.no/aktivitet/felles-visning-av-allmote-og-partilederdebatt/
LOCATION:Partikontoret\, Hans Tanks Gate 17
END:VEVENT
BEGIN:VEVENT
DTSTART;TZID=Europe/Oslo:20230817T190000
DTEND;TZID=Europe/Oslo:20230817T210000
DTSTAMP:20260425T180908
CREATED:20230719T104536Z
LAST-MODIFIED:20230808T062942Z
UID:10000027-1692298800-1692306000@roedtbergen.no
SUMMARY:Valgkampskolering: Hvordan stå på stand/i valgbod
DESCRIPTION:Vi runder av valgkampskoleringen med lynkurs i hvordan man står på stand og i valgbod. Bli med! \nInnleder: Mailiss Solheim-Åkerblom \nPåmelding er ikke nødvendig for å delta\, men meld deg gjerne på likevel så vi får estimert antall gjester.
URL:https://roedtbergen.no/aktivitet/valgkampskolering-hvordan-sta-pa-stand-i-valgbod-2/
LOCATION:Partikontoret\, Hans Tanks Gate 17
END:VEVENT
BEGIN:VEVENT
DTSTART;TZID=Europe/Oslo:20230814T170000
DTEND;TZID=Europe/Oslo:20230814T180000
DTSTAMP:20260425T180908
CREATED:20230805T041938Z
LAST-MODIFIED:20230808T063446Z
UID:10000158-1692032400-1692036000@roedtbergen.no
SUMMARY:Åpent hus for frivillige
DESCRIPTION:Gode frivillige.\nTusen takk for super innsats i helga. Vi trenger dere og vi trenger enda fler. Har du spørsmål\, lyst på kaffe\, forslag til aksjoner\, lysten på en diskusjon\,\, lurer på hva som skjer; kom på allmøte for frivillige helt frivillig hver mandag på Rødt kontoret.\nMøt andre valgkampaktivister til planlegging av uken og hyggelig samvær hver mandag klokken 17
URL:https://roedtbergen.no/aktivitet/aktivistsamling/2023-08-14/
LOCATION:Rødt Bergen\, Hans Tanks Gate 17\, Bergen\, 5008\, Norge
ORGANIZER;CN="R%C3%B8dt Bergen":MAILTO:bergen@roedt.no
END:VEVENT
BEGIN:VEVENT
DTSTART;TZID=Europe/Oslo:20230812T120000
DTEND;TZID=Europe/Oslo:20230812T140000
DTSTAMP:20260425T180908
CREATED:20230808T040101Z
LAST-MODIFIED:20230808T063350Z
UID:10000152-1691841600-1691848800@roedtbergen.no
SUMMARY:Stand og utdeling ved Vitalitetssenteret
DESCRIPTION:Hver lørdag frem til valget har Rødt Møhlenpris stand ved Vitalitetssenteret.
URL:https://roedtbergen.no/aktivitet/stand-og-utdeling-ved-vitalitetssenteret/2023-08-12/
LOCATION:Vitalitetssenteret\, Wolfs Gate 12\, Bergen\, Norge
ORGANIZER;CN="R%C3%B8dt Bergen M%C3%B8hlenpris":MAILTO:asmundroy@gmail.com
END:VEVENT
END:VCALENDAR