BEGIN:VCALENDAR
VERSION:2.0
PRODID:-//Rødt Bergen Ressurser - ECPv6.15.20//NONSGML v1.0//EN
CALSCALE:GREGORIAN
METHOD:PUBLISH
X-WR-CALNAME:Rødt Bergen Ressurser
X-ORIGINAL-URL:https://roedtbergen.no
X-WR-CALDESC:Arrangement for Rødt Bergen Ressurser
REFRESH-INTERVAL;VALUE=DURATION:PT1H
X-Robots-Tag:noindex
X-PUBLISHED-TTL:PT1H
BEGIN:VTIMEZONE
TZID:Europe/Oslo
BEGIN:DAYLIGHT
TZOFFSETFROM:+0100
TZOFFSETTO:+0200
TZNAME:CEST
DTSTART:20240331T010000
END:DAYLIGHT
BEGIN:STANDARD
TZOFFSETFROM:+0200
TZOFFSETTO:+0100
TZNAME:CET
DTSTART:20241027T010000
END:STANDARD
BEGIN:DAYLIGHT
TZOFFSETFROM:+0100
TZOFFSETTO:+0200
TZNAME:CEST
DTSTART:20250330T010000
END:DAYLIGHT
BEGIN:STANDARD
TZOFFSETFROM:+0200
TZOFFSETTO:+0100
TZNAME:CET
DTSTART:20251026T010000
END:STANDARD
BEGIN:DAYLIGHT
TZOFFSETFROM:+0100
TZOFFSETTO:+0200
TZNAME:CEST
DTSTART:20260329T010000
END:DAYLIGHT
BEGIN:STANDARD
TZOFFSETFROM:+0200
TZOFFSETTO:+0100
TZNAME:CET
DTSTART:20261025T010000
END:STANDARD
END:VTIMEZONE
BEGIN:VEVENT
DTSTART;TZID=Europe/Oslo:20250818T120000
DTEND;TZID=Europe/Oslo:20250818T140000
DTSTAMP:20260425T134318
CREATED:20250729T075946Z
LAST-MODIFIED:20250729T075946Z
UID:10000414-1755518400-1755525600@roedtbergen.no
SUMMARY:Valgbod
DESCRIPTION:Vi har åpen valgbod hver dag unntatt søndag fra 12-18 mellom 15. august og 7. september. Valgboden er stengt på søndager. I valgboden står vi alltid minst to personer\, prater med folk om Rødt og deler ut materiell. Øktene i valgboden er på to timer.
URL:https://roedtbergen.no/aktivitet/valgbod-3/2025-08-18/
LOCATION:Torgallmeningen\, Torgallmeningen 1\, Bergen\, Vestland\, 5000\, Norge
ORGANIZER;CN="Raudt Hordaland":MAILTO:hordaland@raudt.no
END:VEVENT
BEGIN:VEVENT
DTSTART;TZID=Europe/Oslo:20250818T140000
DTEND;TZID=Europe/Oslo:20250818T160000
DTSTAMP:20260425T134318
CREATED:20250729T075820Z
LAST-MODIFIED:20250729T075820Z
UID:10000395-1755525600-1755532800@roedtbergen.no
SUMMARY:Valgbod
DESCRIPTION:Vi har åpen valgbod hver dag unntatt søndag fra 12-18 mellom 15. august og 7. september. Valgboden er stengt på søndager. I valgboden står vi alltid minst to personer\, prater med folk om Rødt og deler ut materiell. Øktene i valgboden er på to timer.
URL:https://roedtbergen.no/aktivitet/valgbod-2/2025-08-18/
LOCATION:Torgallmeningen\, Torgallmeningen 1\, Bergen\, Vestland\, 5000\, Norge
ORGANIZER;CN="Raudt Hordaland":MAILTO:hordaland@raudt.no
END:VEVENT
BEGIN:VEVENT
DTSTART;TZID=Europe/Oslo:20250818T160000
DTEND;TZID=Europe/Oslo:20250818T180000
DTSTAMP:20260425T134318
CREATED:20250729T080056Z
LAST-MODIFIED:20250729T080056Z
UID:10000434-1755532800-1755540000@roedtbergen.no
SUMMARY:Valgbod
DESCRIPTION:Vi har åpen valgbod hver dag unntatt søndag fra 12-18 mellom 15. august og 7. september. Valgboden er stengt på søndager. I valgboden står vi alltid minst to personer\, prater med folk om Rødt og deler ut materiell. Øktene i valgboden er på to timer.
URL:https://roedtbergen.no/aktivitet/valgbod-4/2025-08-18/
LOCATION:Torgallmeningen\, Torgallmeningen 1\, Bergen\, Vestland\, 5000\, Norge
ORGANIZER;CN="Raudt Hordaland":MAILTO:hordaland@raudt.no
END:VEVENT
BEGIN:VEVENT
DTSTART;TZID=Europe/Oslo:20250818T161500
DTEND;TZID=Europe/Oslo:20250818T170000
DTSTAMP:20260425T134318
CREATED:20250817T093429Z
LAST-MODIFIED:20250817T093429Z
UID:10000513-1755533700-1755536400@roedtbergen.no
SUMMARY:Ettermiddagsutdeling Danmarks Plass
DESCRIPTION:Vi tar en kort ettermiddagsutdeling på bybanestoppet på Danmarks Plass.
URL:https://roedtbergen.no/aktivitet/ettermiddagsutdeling-danmarks-plass/
LOCATION:Danmarks Plass\, Danmarks Plass\, Bergen\, Norway
ORGANIZER;CN="R%C3%B8dt Bergen %C3%85rstad":MAILTO:eir_bakke@hotmail.com
END:VEVENT
BEGIN:VEVENT
DTSTART;TZID=Europe/Oslo:20250819T080000
DTEND;TZID=Europe/Oslo:20250819T090000
DTSTAMP:20260425T134318
CREATED:20250806T102221Z
LAST-MODIFIED:20250806T102221Z
UID:10000483-1755590400-1755594000@roedtbergen.no
SUMMARY:Morgenutdeling Møhlenpris
DESCRIPTION:Morgenutdeling på busstoppene ved Møhlenprissiden av Puddefjordsbroen
URL:https://roedtbergen.no/aktivitet/morgenutdeling-mohlenpris/
LOCATION:Industrihuset\, Bredalsmarken 15\, Bergen\, 5836\, Norway
ORGANIZER;CN="R%C3%B8dt Bergen M%C3%B8hlenpris":MAILTO:asmundroy@gmail.com
END:VEVENT
BEGIN:VEVENT
DTSTART;TZID=Europe/Oslo:20250819T120000
DTEND;TZID=Europe/Oslo:20250819T140000
DTSTAMP:20260425T134318
CREATED:20250729T075946Z
LAST-MODIFIED:20250729T075946Z
UID:10000415-1755604800-1755612000@roedtbergen.no
SUMMARY:Valgbod
DESCRIPTION:Vi har åpen valgbod hver dag unntatt søndag fra 12-18 mellom 15. august og 7. september. Valgboden er stengt på søndager. I valgboden står vi alltid minst to personer\, prater med folk om Rødt og deler ut materiell. Øktene i valgboden er på to timer.
URL:https://roedtbergen.no/aktivitet/valgbod-3/2025-08-19/
LOCATION:Torgallmeningen\, Torgallmeningen 1\, Bergen\, Vestland\, 5000\, Norge
ORGANIZER;CN="Raudt Hordaland":MAILTO:hordaland@raudt.no
END:VEVENT
BEGIN:VEVENT
DTSTART;TZID=Europe/Oslo:20250819T140000
DTEND;TZID=Europe/Oslo:20250819T160000
DTSTAMP:20260425T134318
CREATED:20250729T075820Z
LAST-MODIFIED:20250729T075820Z
UID:10000396-1755612000-1755619200@roedtbergen.no
SUMMARY:Valgbod
DESCRIPTION:Vi har åpen valgbod hver dag unntatt søndag fra 12-18 mellom 15. august og 7. september. Valgboden er stengt på søndager. I valgboden står vi alltid minst to personer\, prater med folk om Rødt og deler ut materiell. Øktene i valgboden er på to timer.
URL:https://roedtbergen.no/aktivitet/valgbod-2/2025-08-19/
LOCATION:Torgallmeningen\, Torgallmeningen 1\, Bergen\, Vestland\, 5000\, Norge
ORGANIZER;CN="Raudt Hordaland":MAILTO:hordaland@raudt.no
END:VEVENT
BEGIN:VEVENT
DTSTART;TZID=Europe/Oslo:20250819T160000
DTEND;TZID=Europe/Oslo:20250819T180000
DTSTAMP:20260425T134318
CREATED:20250729T080056Z
LAST-MODIFIED:20250729T080056Z
UID:10000435-1755619200-1755626400@roedtbergen.no
SUMMARY:Valgbod
DESCRIPTION:Vi har åpen valgbod hver dag unntatt søndag fra 12-18 mellom 15. august og 7. september. Valgboden er stengt på søndager. I valgboden står vi alltid minst to personer\, prater med folk om Rødt og deler ut materiell. Øktene i valgboden er på to timer.
URL:https://roedtbergen.no/aktivitet/valgbod-4/2025-08-19/
LOCATION:Torgallmeningen\, Torgallmeningen 1\, Bergen\, Vestland\, 5000\, Norge
ORGANIZER;CN="Raudt Hordaland":MAILTO:hordaland@raudt.no
END:VEVENT
BEGIN:VEVENT
DTSTART;TZID=Europe/Oslo:20250819T180000
DTEND;TZID=Europe/Oslo:20250819T200000
DTSTAMP:20260425T134318
CREATED:20250812T065331Z
LAST-MODIFIED:20250812T065331Z
UID:10000505-1755626400-1755633600@roedtbergen.no
SUMMARY:Postkasseutdeling Landås
DESCRIPTION:Vi deler ut løpesedler i postkasser på Landås. Oppmøte ved Sollien barnehage kl. 18.00\, tirsdag 19. august.
URL:https://roedtbergen.no/aktivitet/postkasseutdeling-landas/
LOCATION:Sollien Barnehage\, Sollien 36\, Bergen\, 5096\, Norway
ORGANIZER;CN="R%C3%B8dt Bergen %C3%85rstad":MAILTO:eir_bakke@hotmail.com
END:VEVENT
BEGIN:VEVENT
DTSTART;TZID=Europe/Oslo:20250820T073000
DTEND;TZID=Europe/Oslo:20250820T090000
DTSTAMP:20260425T134318
CREATED:20250817T093651Z
LAST-MODIFIED:20250817T093651Z
UID:10000514-1755675000-1755680400@roedtbergen.no
SUMMARY:Morgenutdeling Nonneseter
DESCRIPTION:Vi møter folk morgenen etter TV2-debatten fra Bergen på bybanestoppet på Nonneseter.
URL:https://roedtbergen.no/aktivitet/morgenutdeling-nonneseter/
LOCATION:Nonneseter Bybanestopp\, Kaigaten 1B\, Bergen\, 5015
ORGANIZER;CN="R%C3%B8dt Bergen Sentrum":MAILTO:per.arne@roedt.no
END:VEVENT
BEGIN:VEVENT
DTSTART;TZID=Europe/Oslo:20250820T120000
DTEND;TZID=Europe/Oslo:20250820T140000
DTSTAMP:20260425T134318
CREATED:20250729T075946Z
LAST-MODIFIED:20250729T075946Z
UID:10000416-1755691200-1755698400@roedtbergen.no
SUMMARY:Valgbod
DESCRIPTION:Vi har åpen valgbod hver dag unntatt søndag fra 12-18 mellom 15. august og 7. september. Valgboden er stengt på søndager. I valgboden står vi alltid minst to personer\, prater med folk om Rødt og deler ut materiell. Øktene i valgboden er på to timer.
URL:https://roedtbergen.no/aktivitet/valgbod-3/2025-08-20/
LOCATION:Torgallmeningen\, Torgallmeningen 1\, Bergen\, Vestland\, 5000\, Norge
ORGANIZER;CN="Raudt Hordaland":MAILTO:hordaland@raudt.no
END:VEVENT
BEGIN:VEVENT
DTSTART;TZID=Europe/Oslo:20250820T140000
DTEND;TZID=Europe/Oslo:20250820T160000
DTSTAMP:20260425T134318
CREATED:20250729T075820Z
LAST-MODIFIED:20250729T075820Z
UID:10000397-1755698400-1755705600@roedtbergen.no
SUMMARY:Valgbod
DESCRIPTION:Vi har åpen valgbod hver dag unntatt søndag fra 12-18 mellom 15. august og 7. september. Valgboden er stengt på søndager. I valgboden står vi alltid minst to personer\, prater med folk om Rødt og deler ut materiell. Øktene i valgboden er på to timer.
URL:https://roedtbergen.no/aktivitet/valgbod-2/2025-08-20/
LOCATION:Torgallmeningen\, Torgallmeningen 1\, Bergen\, Vestland\, 5000\, Norge
ORGANIZER;CN="Raudt Hordaland":MAILTO:hordaland@raudt.no
END:VEVENT
BEGIN:VEVENT
DTSTART;TZID=Europe/Oslo:20250820T160000
DTEND;TZID=Europe/Oslo:20250820T180000
DTSTAMP:20260425T134318
CREATED:20250729T080056Z
LAST-MODIFIED:20250729T080056Z
UID:10000436-1755705600-1755712800@roedtbergen.no
SUMMARY:Valgbod
DESCRIPTION:Vi har åpen valgbod hver dag unntatt søndag fra 12-18 mellom 15. august og 7. september. Valgboden er stengt på søndager. I valgboden står vi alltid minst to personer\, prater med folk om Rødt og deler ut materiell. Øktene i valgboden er på to timer.
URL:https://roedtbergen.no/aktivitet/valgbod-4/2025-08-20/
LOCATION:Torgallmeningen\, Torgallmeningen 1\, Bergen\, Vestland\, 5000\, Norge
ORGANIZER;CN="Raudt Hordaland":MAILTO:hordaland@raudt.no
END:VEVENT
BEGIN:VEVENT
DTSTART;TZID=Europe/Oslo:20250821T120000
DTEND;TZID=Europe/Oslo:20250821T140000
DTSTAMP:20260425T134318
CREATED:20250729T075946Z
LAST-MODIFIED:20250729T075946Z
UID:10000417-1755777600-1755784800@roedtbergen.no
SUMMARY:Valgbod
DESCRIPTION:Vi har åpen valgbod hver dag unntatt søndag fra 12-18 mellom 15. august og 7. september. Valgboden er stengt på søndager. I valgboden står vi alltid minst to personer\, prater med folk om Rødt og deler ut materiell. Øktene i valgboden er på to timer.
URL:https://roedtbergen.no/aktivitet/valgbod-3/2025-08-21/
LOCATION:Torgallmeningen\, Torgallmeningen 1\, Bergen\, Vestland\, 5000\, Norge
ORGANIZER;CN="Raudt Hordaland":MAILTO:hordaland@raudt.no
END:VEVENT
BEGIN:VEVENT
DTSTART;TZID=Europe/Oslo:20250821T140000
DTEND;TZID=Europe/Oslo:20250821T160000
DTSTAMP:20260425T134318
CREATED:20250729T075820Z
LAST-MODIFIED:20250729T075820Z
UID:10000398-1755784800-1755792000@roedtbergen.no
SUMMARY:Valgbod
DESCRIPTION:Vi har åpen valgbod hver dag unntatt søndag fra 12-18 mellom 15. august og 7. september. Valgboden er stengt på søndager. I valgboden står vi alltid minst to personer\, prater med folk om Rødt og deler ut materiell. Øktene i valgboden er på to timer.
URL:https://roedtbergen.no/aktivitet/valgbod-2/2025-08-21/
LOCATION:Torgallmeningen\, Torgallmeningen 1\, Bergen\, Vestland\, 5000\, Norge
ORGANIZER;CN="Raudt Hordaland":MAILTO:hordaland@raudt.no
END:VEVENT
BEGIN:VEVENT
DTSTART;TZID=Europe/Oslo:20250821T160000
DTEND;TZID=Europe/Oslo:20250821T180000
DTSTAMP:20260425T134318
CREATED:20250729T080056Z
LAST-MODIFIED:20250729T080056Z
UID:10000437-1755792000-1755799200@roedtbergen.no
SUMMARY:Valgbod
DESCRIPTION:Vi har åpen valgbod hver dag unntatt søndag fra 12-18 mellom 15. august og 7. september. Valgboden er stengt på søndager. I valgboden står vi alltid minst to personer\, prater med folk om Rødt og deler ut materiell. Øktene i valgboden er på to timer.
URL:https://roedtbergen.no/aktivitet/valgbod-4/2025-08-21/
LOCATION:Torgallmeningen\, Torgallmeningen 1\, Bergen\, Vestland\, 5000\, Norge
ORGANIZER;CN="Raudt Hordaland":MAILTO:hordaland@raudt.no
END:VEVENT
BEGIN:VEVENT
DTSTART;TZID=Europe/Oslo:20250821T180000
DTEND;TZID=Europe/Oslo:20250821T200000
DTSTAMP:20260425T134318
CREATED:20250806T102339Z
LAST-MODIFIED:20250806T102339Z
UID:10000484-1755799200-1755806400@roedtbergen.no
SUMMARY:Postkasseutdeling Møhlenpris/Dokken
DESCRIPTION:Oppmøte ved Nobel Bopel.
URL:https://roedtbergen.no/aktivitet/postkasseutdeling-mohlenpris-dokken/
LOCATION:Nobel Bopel\, Welhavens gate 64\, Bergen\, 5006\, Norge
ORGANIZER;CN="R%C3%B8dt Bergen M%C3%B8hlenpris":MAILTO:asmundroy@gmail.com
END:VEVENT
BEGIN:VEVENT
DTSTART;TZID=Europe/Oslo:20250822T120000
DTEND;TZID=Europe/Oslo:20250822T140000
DTSTAMP:20260425T134318
CREATED:20250729T075946Z
LAST-MODIFIED:20250729T075946Z
UID:10000418-1755864000-1755871200@roedtbergen.no
SUMMARY:Valgbod
DESCRIPTION:Vi har åpen valgbod hver dag unntatt søndag fra 12-18 mellom 15. august og 7. september. Valgboden er stengt på søndager. I valgboden står vi alltid minst to personer\, prater med folk om Rødt og deler ut materiell. Øktene i valgboden er på to timer.
URL:https://roedtbergen.no/aktivitet/valgbod-3/2025-08-22/
LOCATION:Torgallmeningen\, Torgallmeningen 1\, Bergen\, Vestland\, 5000\, Norge
ORGANIZER;CN="Raudt Hordaland":MAILTO:hordaland@raudt.no
END:VEVENT
BEGIN:VEVENT
DTSTART;TZID=Europe/Oslo:20250822T140000
DTEND;TZID=Europe/Oslo:20250822T160000
DTSTAMP:20260425T134318
CREATED:20250729T075820Z
LAST-MODIFIED:20250729T075820Z
UID:10000399-1755871200-1755878400@roedtbergen.no
SUMMARY:Valgbod
DESCRIPTION:Vi har åpen valgbod hver dag unntatt søndag fra 12-18 mellom 15. august og 7. september. Valgboden er stengt på søndager. I valgboden står vi alltid minst to personer\, prater med folk om Rødt og deler ut materiell. Øktene i valgboden er på to timer.
URL:https://roedtbergen.no/aktivitet/valgbod-2/2025-08-22/
LOCATION:Torgallmeningen\, Torgallmeningen 1\, Bergen\, Vestland\, 5000\, Norge
ORGANIZER;CN="Raudt Hordaland":MAILTO:hordaland@raudt.no
END:VEVENT
BEGIN:VEVENT
DTSTART;TZID=Europe/Oslo:20250822T160000
DTEND;TZID=Europe/Oslo:20250822T180000
DTSTAMP:20260425T134318
CREATED:20250729T080056Z
LAST-MODIFIED:20250729T080056Z
UID:10000438-1755878400-1755885600@roedtbergen.no
SUMMARY:Valgbod
DESCRIPTION:Vi har åpen valgbod hver dag unntatt søndag fra 12-18 mellom 15. august og 7. september. Valgboden er stengt på søndager. I valgboden står vi alltid minst to personer\, prater med folk om Rødt og deler ut materiell. Øktene i valgboden er på to timer.
URL:https://roedtbergen.no/aktivitet/valgbod-4/2025-08-22/
LOCATION:Torgallmeningen\, Torgallmeningen 1\, Bergen\, Vestland\, 5000\, Norge
ORGANIZER;CN="Raudt Hordaland":MAILTO:hordaland@raudt.no
END:VEVENT
BEGIN:VEVENT
DTSTART;TZID=Europe/Oslo:20250823T110000
DTEND;TZID=Europe/Oslo:20250823T130000
DTSTAMP:20260425T134318
CREATED:20250804T181415Z
LAST-MODIFIED:20250804T181415Z
UID:10000475-1755946800-1755954000@roedtbergen.no
SUMMARY:Stand på Sletten Senter
DESCRIPTION:Rødt bergen Årstad har stand på/ved Sletten senter hver lørdag fram til valget.
URL:https://roedtbergen.no/aktivitet/stand-pa-sletten-senter/2025-08-23/
LOCATION:Sletten Senter\, Vilhelm Bjerknes' vei 4\, Bergen\, 5081\, Norge
ORGANIZER;CN="R%C3%B8dt Bergen %C3%85rstad":MAILTO:eir_bakke@hotmail.com
END:VEVENT
BEGIN:VEVENT
DTSTART;TZID=Europe/Oslo:20250823T113000
DTEND;TZID=Europe/Oslo:20250823T123000
DTSTAMP:20260425T134318
CREATED:20250822T125305Z
LAST-MODIFIED:20250822T125305Z
UID:10000522-1755948600-1755952200@roedtbergen.no
SUMMARY:Stand på Hylkje
DESCRIPTION:Tredjekandidat Jeanette og aktivister møtes på Kiwi Hylkje og prater med innbyggerne der om både Nordhordlanstunnellen og utbyggingen av REMA 1000-lageret i Hylkjelia.
URL:https://roedtbergen.no/aktivitet/stand-pa-hylkje/
LOCATION:Kiwi Hylkje\, Hylkebakken 3\, Hylkje\, 5109\, Norway
ORGANIZER;CN="Raudt Hordaland":MAILTO:hordaland@raudt.no
END:VEVENT
BEGIN:VEVENT
DTSTART;TZID=Europe/Oslo:20250823T120000
DTEND;TZID=Europe/Oslo:20250823T140000
DTSTAMP:20260425T134318
CREATED:20250729T075946Z
LAST-MODIFIED:20250729T075946Z
UID:10000419-1755950400-1755957600@roedtbergen.no
SUMMARY:Valgbod
DESCRIPTION:Vi har åpen valgbod hver dag unntatt søndag fra 12-18 mellom 15. august og 7. september. Valgboden er stengt på søndager. I valgboden står vi alltid minst to personer\, prater med folk om Rødt og deler ut materiell. Øktene i valgboden er på to timer.
URL:https://roedtbergen.no/aktivitet/valgbod-3/2025-08-23/
LOCATION:Torgallmeningen\, Torgallmeningen 1\, Bergen\, Vestland\, 5000\, Norge
ORGANIZER;CN="Raudt Hordaland":MAILTO:hordaland@raudt.no
END:VEVENT
BEGIN:VEVENT
DTSTART;TZID=Europe/Oslo:20250823T130000
DTEND;TZID=Europe/Oslo:20250823T150000
DTSTAMP:20260425T134318
CREATED:20250806T102107Z
LAST-MODIFIED:20250806T102107Z
UID:10000480-1755954000-1755961200@roedtbergen.no
SUMMARY:Stand og utdeling på Vitalitetssenteret
DESCRIPTION:
URL:https://roedtbergen.no/aktivitet/stand-og-utdeling-pa-vitalitetssenteret/2025-08-23/
LOCATION:Vitalitetssenteret\, Wolfs Gate 12\, Bergen\, Norge
ORGANIZER;CN="R%C3%B8dt Bergen M%C3%B8hlenpris":MAILTO:asmundroy@gmail.com
END:VEVENT
BEGIN:VEVENT
DTSTART;TZID=Europe/Oslo:20250823T130000
DTEND;TZID=Europe/Oslo:20250823T150000
DTSTAMP:20260425T134318
CREATED:20250820T154252Z
LAST-MODIFIED:20250820T154408Z
UID:10000517-1755954000-1755961200@roedtbergen.no
SUMMARY:Stand på Biblioteksplassen
DESCRIPTION:
URL:https://roedtbergen.no/aktivitet/stand-pa-biblioteksplassen-2/
LOCATION:Valborg Platous Plass\, Valborg Platous Plass 1\, Bergen\, Norway
ORGANIZER;CN="R%C3%B8dt Bergen Sentrum":MAILTO:per.arne@roedt.no
END:VEVENT
BEGIN:VEVENT
DTSTART;TZID=Europe/Oslo:20250823T140000
DTEND;TZID=Europe/Oslo:20250823T150000
DTSTAMP:20260425T134318
CREATED:20250816T065847Z
LAST-MODIFIED:20250822T065922Z
UID:10000509-1755957600-1755961200@roedtbergen.no
SUMMARY:Stand på Oasen
DESCRIPTION:Vi har stand ved Bybanestoppet og på terminalen ved Oasen
URL:https://roedtbergen.no/aktivitet/stand-pa-oasen-4/
LOCATION:Bybanestoppet ved Oasen\, Folke Bernadottes vei 52\, Fyllingsdalen\, 5147\, Norge
ORGANIZER;CN="R%C3%B8dt  Bergen Fyllingsdalen":MAILTO:sirituftlundemoen@gmail.com
END:VEVENT
BEGIN:VEVENT
DTSTART;TZID=Europe/Oslo:20250823T140000
DTEND;TZID=Europe/Oslo:20250823T160000
DTSTAMP:20260425T134318
CREATED:20250729T075820Z
LAST-MODIFIED:20250729T075820Z
UID:10000400-1755957600-1755964800@roedtbergen.no
SUMMARY:Valgbod
DESCRIPTION:Vi har åpen valgbod hver dag unntatt søndag fra 12-18 mellom 15. august og 7. september. Valgboden er stengt på søndager. I valgboden står vi alltid minst to personer\, prater med folk om Rødt og deler ut materiell. Øktene i valgboden er på to timer.
URL:https://roedtbergen.no/aktivitet/valgbod-2/2025-08-23/
LOCATION:Torgallmeningen\, Torgallmeningen 1\, Bergen\, Vestland\, 5000\, Norge
ORGANIZER;CN="Raudt Hordaland":MAILTO:hordaland@raudt.no
END:VEVENT
BEGIN:VEVENT
DTSTART;TZID=Europe/Oslo:20250823T160000
DTEND;TZID=Europe/Oslo:20250823T180000
DTSTAMP:20260425T134318
CREATED:20250729T080056Z
LAST-MODIFIED:20250729T080056Z
UID:10000439-1755964800-1755972000@roedtbergen.no
SUMMARY:Valgbod
DESCRIPTION:Vi har åpen valgbod hver dag unntatt søndag fra 12-18 mellom 15. august og 7. september. Valgboden er stengt på søndager. I valgboden står vi alltid minst to personer\, prater med folk om Rødt og deler ut materiell. Øktene i valgboden er på to timer.
URL:https://roedtbergen.no/aktivitet/valgbod-4/2025-08-23/
LOCATION:Torgallmeningen\, Torgallmeningen 1\, Bergen\, Vestland\, 5000\, Norge
ORGANIZER;CN="Raudt Hordaland":MAILTO:hordaland@raudt.no
END:VEVENT
BEGIN:VEVENT
DTSTART;TZID=Europe/Oslo:20250823T180000
DTEND;TZID=Europe/Oslo:20250823T230000
DTSTAMP:20260425T134318
CREATED:20250730T092604Z
LAST-MODIFIED:20250730T092604Z
UID:10000452-1755972000-1755990000@roedtbergen.no
SUMMARY:Fest For Folk Flest 2025
DESCRIPTION:Velkommen til Rødts åttende utgave av Fest for Folk Flest\, en kveld som kombinerer politikk\, kultur og fest!\nFesten arrangeres lørdag 23. august i Storelogen på Kvarteret (øverste etasje). Arrangementet er gratis og åpent for alle over 18 år.\nDørene åpner kl. 18 og kvelden skal fylles med panelsamtale om bolig\, palestinske innslag\, appeller og konsert. Og er du blant de første som kommer\, får du også med deg en goodiebag.\nFølg med de kommende ukene for programslipp og spennende overraskelser.\nRaudt Hordalands 1. kandidat Sofie Marhaug kommer. Kommer du?
URL:https://roedtbergen.no/aktivitet/fest-for-folk-flest-2025/
LOCATION:Kvarteret
ORGANIZER;CN="R%C3%B8dt Bergen %C3%85rstad":MAILTO:eir_bakke@hotmail.com
END:VEVENT
END:VCALENDAR