BEGIN:VCALENDAR
VERSION:2.0
PRODID:-//Rødt Bergen Ressurser - ECPv6.15.20//NONSGML v1.0//EN
CALSCALE:GREGORIAN
METHOD:PUBLISH
X-ORIGINAL-URL:https://roedtbergen.no
X-WR-CALDESC:Arrangement for Rødt Bergen Ressurser
REFRESH-INTERVAL;VALUE=DURATION:PT1H
X-Robots-Tag:noindex
X-PUBLISHED-TTL:PT1H
BEGIN:VTIMEZONE
TZID:Europe/Oslo
BEGIN:DAYLIGHT
TZOFFSETFROM:+0100
TZOFFSETTO:+0200
TZNAME:CEST
DTSTART:20240331T010000
END:DAYLIGHT
BEGIN:STANDARD
TZOFFSETFROM:+0200
TZOFFSETTO:+0100
TZNAME:CET
DTSTART:20241027T010000
END:STANDARD
BEGIN:DAYLIGHT
TZOFFSETFROM:+0100
TZOFFSETTO:+0200
TZNAME:CEST
DTSTART:20250330T010000
END:DAYLIGHT
BEGIN:STANDARD
TZOFFSETFROM:+0200
TZOFFSETTO:+0100
TZNAME:CET
DTSTART:20251026T010000
END:STANDARD
BEGIN:DAYLIGHT
TZOFFSETFROM:+0100
TZOFFSETTO:+0200
TZNAME:CEST
DTSTART:20260329T010000
END:DAYLIGHT
BEGIN:STANDARD
TZOFFSETFROM:+0200
TZOFFSETTO:+0100
TZNAME:CET
DTSTART:20261025T010000
END:STANDARD
END:VTIMEZONE
BEGIN:VEVENT
DTSTART;TZID=Europe/Oslo:20250825T120000
DTEND;TZID=Europe/Oslo:20250825T140000
DTSTAMP:20260425T123923
CREATED:20250729T075946Z
LAST-MODIFIED:20250729T075946Z
UID:10000420-1756123200-1756130400@roedtbergen.no
SUMMARY:Valgbod
DESCRIPTION:Vi har åpen valgbod hver dag unntatt søndag fra 12-18 mellom 15. august og 7. september. Valgboden er stengt på søndager. I valgboden står vi alltid minst to personer\, prater med folk om Rødt og deler ut materiell. Øktene i valgboden er på to timer.
URL:https://roedtbergen.no/aktivitet/valgbod-3/2025-08-25/
LOCATION:Torgallmeningen\, Torgallmeningen 1\, Bergen\, Vestland\, 5000\, Norge
ORGANIZER;CN="Raudt Hordaland":MAILTO:hordaland@raudt.no
END:VEVENT
BEGIN:VEVENT
DTSTART;TZID=Europe/Oslo:20250825T140000
DTEND;TZID=Europe/Oslo:20250825T160000
DTSTAMP:20260425T123923
CREATED:20250729T075820Z
LAST-MODIFIED:20250729T075820Z
UID:10000401-1756130400-1756137600@roedtbergen.no
SUMMARY:Valgbod
DESCRIPTION:Vi har åpen valgbod hver dag unntatt søndag fra 12-18 mellom 15. august og 7. september. Valgboden er stengt på søndager. I valgboden står vi alltid minst to personer\, prater med folk om Rødt og deler ut materiell. Øktene i valgboden er på to timer.
URL:https://roedtbergen.no/aktivitet/valgbod-2/2025-08-25/
LOCATION:Torgallmeningen\, Torgallmeningen 1\, Bergen\, Vestland\, 5000\, Norge
ORGANIZER;CN="Raudt Hordaland":MAILTO:hordaland@raudt.no
END:VEVENT
BEGIN:VEVENT
DTSTART;TZID=Europe/Oslo:20250825T160000
DTEND;TZID=Europe/Oslo:20250825T180000
DTSTAMP:20260425T123923
CREATED:20250729T080056Z
LAST-MODIFIED:20250729T080056Z
UID:10000440-1756137600-1756144800@roedtbergen.no
SUMMARY:Valgbod
DESCRIPTION:Vi har åpen valgbod hver dag unntatt søndag fra 12-18 mellom 15. august og 7. september. Valgboden er stengt på søndager. I valgboden står vi alltid minst to personer\, prater med folk om Rødt og deler ut materiell. Øktene i valgboden er på to timer.
URL:https://roedtbergen.no/aktivitet/valgbod-4/2025-08-25/
LOCATION:Torgallmeningen\, Torgallmeningen 1\, Bergen\, Vestland\, 5000\, Norge
ORGANIZER;CN="Raudt Hordaland":MAILTO:hordaland@raudt.no
END:VEVENT
BEGIN:VEVENT
DTSTART;TZID=Europe/Oslo:20250826T073000
DTEND;TZID=Europe/Oslo:20250826T083000
DTSTAMP:20260425T123923
CREATED:20250820T153827Z
LAST-MODIFIED:20250820T153827Z
UID:10000515-1756193400-1756197000@roedtbergen.no
SUMMARY:Morgenutdeling Nonneseter
DESCRIPTION:
URL:https://roedtbergen.no/aktivitet/morgenutdeling-nonneseter-2/
LOCATION:Nonneseter Bybanestopp\, Kaigaten 1B\, Bergen\, 5015
ORGANIZER;CN="R%C3%B8dt Bergen Sentrum":MAILTO:per.arne@roedt.no
END:VEVENT
BEGIN:VEVENT
DTSTART;TZID=Europe/Oslo:20250826T120000
DTEND;TZID=Europe/Oslo:20250826T140000
DTSTAMP:20260425T123923
CREATED:20250729T075946Z
LAST-MODIFIED:20250729T075946Z
UID:10000421-1756209600-1756216800@roedtbergen.no
SUMMARY:Valgbod
DESCRIPTION:Vi har åpen valgbod hver dag unntatt søndag fra 12-18 mellom 15. august og 7. september. Valgboden er stengt på søndager. I valgboden står vi alltid minst to personer\, prater med folk om Rødt og deler ut materiell. Øktene i valgboden er på to timer.
URL:https://roedtbergen.no/aktivitet/valgbod-3/2025-08-26/
LOCATION:Torgallmeningen\, Torgallmeningen 1\, Bergen\, Vestland\, 5000\, Norge
ORGANIZER;CN="Raudt Hordaland":MAILTO:hordaland@raudt.no
END:VEVENT
BEGIN:VEVENT
DTSTART;TZID=Europe/Oslo:20250826T140000
DTEND;TZID=Europe/Oslo:20250826T160000
DTSTAMP:20260425T123923
CREATED:20250729T075820Z
LAST-MODIFIED:20250729T075820Z
UID:10000402-1756216800-1756224000@roedtbergen.no
SUMMARY:Valgbod
DESCRIPTION:Vi har åpen valgbod hver dag unntatt søndag fra 12-18 mellom 15. august og 7. september. Valgboden er stengt på søndager. I valgboden står vi alltid minst to personer\, prater med folk om Rødt og deler ut materiell. Øktene i valgboden er på to timer.
URL:https://roedtbergen.no/aktivitet/valgbod-2/2025-08-26/
LOCATION:Torgallmeningen\, Torgallmeningen 1\, Bergen\, Vestland\, 5000\, Norge
ORGANIZER;CN="Raudt Hordaland":MAILTO:hordaland@raudt.no
END:VEVENT
BEGIN:VEVENT
DTSTART;TZID=Europe/Oslo:20250826T150000
DTEND;TZID=Europe/Oslo:20250826T170000
DTSTAMP:20260425T123923
CREATED:20250730T132148Z
LAST-MODIFIED:20250730T132148Z
UID:10000454-1756220400-1756227600@roedtbergen.no
SUMMARY:Stand på Øyrane Torg
DESCRIPTION:Raudt Bergen Arna og Åsane har stand på Øyrane Torg. Oppmøte ved Rema 1000. Se etter hyggelige folk med Rødt-vester
URL:https://roedtbergen.no/aktivitet/stand-pa-oyrane-torg-3/
LOCATION:Øyrane Torg
ORGANIZER;CN="Raudt Bergen Arna og %C3%85sane":MAILTO:torsteintopp@hotmail.com
END:VEVENT
BEGIN:VEVENT
DTSTART;TZID=Europe/Oslo:20250826T160000
DTEND;TZID=Europe/Oslo:20250826T180000
DTSTAMP:20260425T123923
CREATED:20250729T080056Z
LAST-MODIFIED:20250729T080056Z
UID:10000441-1756224000-1756231200@roedtbergen.no
SUMMARY:Valgbod
DESCRIPTION:Vi har åpen valgbod hver dag unntatt søndag fra 12-18 mellom 15. august og 7. september. Valgboden er stengt på søndager. I valgboden står vi alltid minst to personer\, prater med folk om Rødt og deler ut materiell. Øktene i valgboden er på to timer.
URL:https://roedtbergen.no/aktivitet/valgbod-4/2025-08-26/
LOCATION:Torgallmeningen\, Torgallmeningen 1\, Bergen\, Vestland\, 5000\, Norge
ORGANIZER;CN="Raudt Hordaland":MAILTO:hordaland@raudt.no
END:VEVENT
BEGIN:VEVENT
DTSTART;TZID=Europe/Oslo:20250826T160000
DTEND;TZID=Europe/Oslo:20250826T180000
DTSTAMP:20260425T123923
CREATED:20250806T102729Z
LAST-MODIFIED:20250806T102729Z
UID:10000485-1756224000-1756231200@roedtbergen.no
SUMMARY:Ettermiddagsutdeling busstoppene på Møhlenpris
DESCRIPTION:Løpeseddelutdeling på Busstoppene ved Møhlenprissiden av Puddefjordsbroen
URL:https://roedtbergen.no/aktivitet/ettermiddagsutdeling-busstoppene-pa-mohlenpris/
LOCATION:Industrihuset\, Bredalsmarken 15\, Bergen\, 5836\, Norway
ORGANIZER;CN="R%C3%B8dt Bergen M%C3%B8hlenpris":MAILTO:asmundroy@gmail.com
END:VEVENT
BEGIN:VEVENT
DTSTART;TZID=Europe/Oslo:20250827T120000
DTEND;TZID=Europe/Oslo:20250827T140000
DTSTAMP:20260425T123923
CREATED:20250729T075946Z
LAST-MODIFIED:20250729T075946Z
UID:10000422-1756296000-1756303200@roedtbergen.no
SUMMARY:Valgbod
DESCRIPTION:Vi har åpen valgbod hver dag unntatt søndag fra 12-18 mellom 15. august og 7. september. Valgboden er stengt på søndager. I valgboden står vi alltid minst to personer\, prater med folk om Rødt og deler ut materiell. Øktene i valgboden er på to timer.
URL:https://roedtbergen.no/aktivitet/valgbod-3/2025-08-27/
LOCATION:Torgallmeningen\, Torgallmeningen 1\, Bergen\, Vestland\, 5000\, Norge
ORGANIZER;CN="Raudt Hordaland":MAILTO:hordaland@raudt.no
END:VEVENT
BEGIN:VEVENT
DTSTART;TZID=Europe/Oslo:20250827T140000
DTEND;TZID=Europe/Oslo:20250827T160000
DTSTAMP:20260425T123923
CREATED:20250729T075820Z
LAST-MODIFIED:20250729T075820Z
UID:10000403-1756303200-1756310400@roedtbergen.no
SUMMARY:Valgbod
DESCRIPTION:Vi har åpen valgbod hver dag unntatt søndag fra 12-18 mellom 15. august og 7. september. Valgboden er stengt på søndager. I valgboden står vi alltid minst to personer\, prater med folk om Rødt og deler ut materiell. Øktene i valgboden er på to timer.
URL:https://roedtbergen.no/aktivitet/valgbod-2/2025-08-27/
LOCATION:Torgallmeningen\, Torgallmeningen 1\, Bergen\, Vestland\, 5000\, Norge
ORGANIZER;CN="Raudt Hordaland":MAILTO:hordaland@raudt.no
END:VEVENT
BEGIN:VEVENT
DTSTART;TZID=Europe/Oslo:20250827T160000
DTEND;TZID=Europe/Oslo:20250827T180000
DTSTAMP:20260425T123923
CREATED:20250729T080056Z
LAST-MODIFIED:20250729T080056Z
UID:10000442-1756310400-1756317600@roedtbergen.no
SUMMARY:Valgbod
DESCRIPTION:Vi har åpen valgbod hver dag unntatt søndag fra 12-18 mellom 15. august og 7. september. Valgboden er stengt på søndager. I valgboden står vi alltid minst to personer\, prater med folk om Rødt og deler ut materiell. Øktene i valgboden er på to timer.
URL:https://roedtbergen.no/aktivitet/valgbod-4/2025-08-27/
LOCATION:Torgallmeningen\, Torgallmeningen 1\, Bergen\, Vestland\, 5000\, Norge
ORGANIZER;CN="Raudt Hordaland":MAILTO:hordaland@raudt.no
END:VEVENT
BEGIN:VEVENT
DTSTART;TZID=Europe/Oslo:20250828T120000
DTEND;TZID=Europe/Oslo:20250828T140000
DTSTAMP:20260425T123923
CREATED:20250729T075946Z
LAST-MODIFIED:20250729T075946Z
UID:10000423-1756382400-1756389600@roedtbergen.no
SUMMARY:Valgbod
DESCRIPTION:Vi har åpen valgbod hver dag unntatt søndag fra 12-18 mellom 15. august og 7. september. Valgboden er stengt på søndager. I valgboden står vi alltid minst to personer\, prater med folk om Rødt og deler ut materiell. Øktene i valgboden er på to timer.
URL:https://roedtbergen.no/aktivitet/valgbod-3/2025-08-28/
LOCATION:Torgallmeningen\, Torgallmeningen 1\, Bergen\, Vestland\, 5000\, Norge
ORGANIZER;CN="Raudt Hordaland":MAILTO:hordaland@raudt.no
END:VEVENT
BEGIN:VEVENT
DTSTART;TZID=Europe/Oslo:20250828T140000
DTEND;TZID=Europe/Oslo:20250828T160000
DTSTAMP:20260425T123923
CREATED:20250729T075820Z
LAST-MODIFIED:20250729T075820Z
UID:10000404-1756389600-1756396800@roedtbergen.no
SUMMARY:Valgbod
DESCRIPTION:Vi har åpen valgbod hver dag unntatt søndag fra 12-18 mellom 15. august og 7. september. Valgboden er stengt på søndager. I valgboden står vi alltid minst to personer\, prater med folk om Rødt og deler ut materiell. Øktene i valgboden er på to timer.
URL:https://roedtbergen.no/aktivitet/valgbod-2/2025-08-28/
LOCATION:Torgallmeningen\, Torgallmeningen 1\, Bergen\, Vestland\, 5000\, Norge
ORGANIZER;CN="Raudt Hordaland":MAILTO:hordaland@raudt.no
END:VEVENT
BEGIN:VEVENT
DTSTART;TZID=Europe/Oslo:20250828T160000
DTEND;TZID=Europe/Oslo:20250828T180000
DTSTAMP:20260425T123923
CREATED:20250729T080056Z
LAST-MODIFIED:20250729T080056Z
UID:10000443-1756396800-1756404000@roedtbergen.no
SUMMARY:Valgbod
DESCRIPTION:Vi har åpen valgbod hver dag unntatt søndag fra 12-18 mellom 15. august og 7. september. Valgboden er stengt på søndager. I valgboden står vi alltid minst to personer\, prater med folk om Rødt og deler ut materiell. Øktene i valgboden er på to timer.
URL:https://roedtbergen.no/aktivitet/valgbod-4/2025-08-28/
LOCATION:Torgallmeningen\, Torgallmeningen 1\, Bergen\, Vestland\, 5000\, Norge
ORGANIZER;CN="Raudt Hordaland":MAILTO:hordaland@raudt.no
END:VEVENT
BEGIN:VEVENT
DTSTART;TZID=Europe/Oslo:20250828T170000
DTEND;TZID=Europe/Oslo:20250828T173000
DTSTAMP:20260425T123923
CREATED:20250822T110756Z
LAST-MODIFIED:20250822T110756Z
UID:10000521-1756400400-1756402200@roedtbergen.no
SUMMARY:Stand på Laksevåg senter
DESCRIPTION:
URL:https://roedtbergen.no/aktivitet/stand-pa-laksevag-senter-4/
END:VEVENT
BEGIN:VEVENT
DTSTART;TZID=Europe/Oslo:20250828T173000
DTEND;TZID=Europe/Oslo:20250828T200000
DTSTAMP:20260425T123923
CREATED:20250816T070126Z
LAST-MODIFIED:20250822T110705Z
UID:10000512-1756402200-1756411200@roedtbergen.no
SUMMARY:Stand på Laksevåg senter
DESCRIPTION:Vi står på Laksevåg senter og prater med folk\, deler ut materiell\, etc
URL:https://roedtbergen.no/aktivitet/stand-pa-laksevag-senter-3/
LOCATION:Laksevåg Senter\, Kringsjåveien 89\, Laksevåg\, 5163\, Norge
END:VEVENT
BEGIN:VEVENT
DTSTART;TZID=Europe/Oslo:20250828T180000
DTEND;TZID=Europe/Oslo:20250828T200000
DTSTAMP:20260425T123923
CREATED:20250806T102839Z
LAST-MODIFIED:20250806T102839Z
UID:10000486-1756404000-1756411200@roedtbergen.no
SUMMARY:Postkasseutdeling Nygårdshøyden
DESCRIPTION:
URL:https://roedtbergen.no/aktivitet/postkasseutdeling-nygardshoyden-2/
LOCATION:Studentsenteret\, Parkveien 1\, Bergen\, 5007\, Norge
ORGANIZER;CN="R%C3%B8dt Bergen M%C3%B8hlenpris":MAILTO:asmundroy@gmail.com
END:VEVENT
BEGIN:VEVENT
DTSTART;TZID=Europe/Oslo:20250829T061500
DTEND;TZID=Europe/Oslo:20250829T064500
DTSTAMP:20260425T123923
CREATED:20250810T084716Z
LAST-MODIFIED:20250810T084716Z
UID:10000493-1756448100-1756449900@roedtbergen.no
SUMMARY:Morgenaksjon på Nesttun terminal
DESCRIPTION:Det vil bli gjennomført morgenaksjon på Nesttun terminal fredag 29. august kl. 0615-0645. Her vil vi dele ut flyers og energibarer til de som går på jobb.
URL:https://roedtbergen.no/aktivitet/morgenaksjon-pa-nesttun-terminal/
LOCATION:Nesttun terminal
ORGANIZER;CN="R%C3%B8dt Bergen Fana":MAILTO:styret-rdt-fana@googlegroups.com
END:VEVENT
BEGIN:VEVENT
DTSTART;TZID=Europe/Oslo:20250829T071500
DTEND;TZID=Europe/Oslo:20250829T074500
DTSTAMP:20260425T123923
CREATED:20250810T084959Z
LAST-MODIFIED:20250810T085141Z
UID:10000494-1756451700-1756453500@roedtbergen.no
SUMMARY:Morgenaksjon på Lagunen terminal
DESCRIPTION:Det vil bli gjennomført morgenaksjon på Lagunen terminal fredag 29. august kl. 0715-0745. Her vil vi dele ut flyers og energibarer til de som går på jobb.
URL:https://roedtbergen.no/aktivitet/morgenaksjon-lagunen-terminal/
LOCATION:Lagunen terminal
ORGANIZER;CN="R%C3%B8dt Bergen Fana":MAILTO:styret-rdt-fana@googlegroups.com
END:VEVENT
BEGIN:VEVENT
DTSTART;TZID=Europe/Oslo:20250829T073000
DTEND;TZID=Europe/Oslo:20250829T083000
DTSTAMP:20260425T123923
CREATED:20250827T063929Z
LAST-MODIFIED:20250827T063929Z
UID:10000525-1756452600-1756456200@roedtbergen.no
SUMMARY:Morgenaksjon Danmarks Plass
DESCRIPTION:Vi møtes ved Bybanestoppet på Danmarks plass
URL:https://roedtbergen.no/aktivitet/morgenaksjon-danmarks-plass/
LOCATION:Danmarks Plass\, Danmarks Plass\, Bergen\, Norway
ORGANIZER;CN="R%C3%B8dt Bergen %C3%85rstad":MAILTO:eir_bakke@hotmail.com
END:VEVENT
BEGIN:VEVENT
DTSTART;TZID=Europe/Oslo:20250829T120000
DTEND;TZID=Europe/Oslo:20250829T140000
DTSTAMP:20260425T123923
CREATED:20250729T075946Z
LAST-MODIFIED:20250729T075946Z
UID:10000424-1756468800-1756476000@roedtbergen.no
SUMMARY:Valgbod
DESCRIPTION:Vi har åpen valgbod hver dag unntatt søndag fra 12-18 mellom 15. august og 7. september. Valgboden er stengt på søndager. I valgboden står vi alltid minst to personer\, prater med folk om Rødt og deler ut materiell. Øktene i valgboden er på to timer.
URL:https://roedtbergen.no/aktivitet/valgbod-3/2025-08-29/
LOCATION:Torgallmeningen\, Torgallmeningen 1\, Bergen\, Vestland\, 5000\, Norge
ORGANIZER;CN="Raudt Hordaland":MAILTO:hordaland@raudt.no
END:VEVENT
BEGIN:VEVENT
DTSTART;TZID=Europe/Oslo:20250829T140000
DTEND;TZID=Europe/Oslo:20250829T160000
DTSTAMP:20260425T123923
CREATED:20250729T075820Z
LAST-MODIFIED:20250729T075820Z
UID:10000405-1756476000-1756483200@roedtbergen.no
SUMMARY:Valgbod
DESCRIPTION:Vi har åpen valgbod hver dag unntatt søndag fra 12-18 mellom 15. august og 7. september. Valgboden er stengt på søndager. I valgboden står vi alltid minst to personer\, prater med folk om Rødt og deler ut materiell. Øktene i valgboden er på to timer.
URL:https://roedtbergen.no/aktivitet/valgbod-2/2025-08-29/
LOCATION:Torgallmeningen\, Torgallmeningen 1\, Bergen\, Vestland\, 5000\, Norge
ORGANIZER;CN="Raudt Hordaland":MAILTO:hordaland@raudt.no
END:VEVENT
BEGIN:VEVENT
DTSTART;TZID=Europe/Oslo:20250829T160000
DTEND;TZID=Europe/Oslo:20250829T180000
DTSTAMP:20260425T123923
CREATED:20250729T080056Z
LAST-MODIFIED:20250729T080056Z
UID:10000444-1756483200-1756490400@roedtbergen.no
SUMMARY:Valgbod
DESCRIPTION:Vi har åpen valgbod hver dag unntatt søndag fra 12-18 mellom 15. august og 7. september. Valgboden er stengt på søndager. I valgboden står vi alltid minst to personer\, prater med folk om Rødt og deler ut materiell. Øktene i valgboden er på to timer.
URL:https://roedtbergen.no/aktivitet/valgbod-4/2025-08-29/
LOCATION:Torgallmeningen\, Torgallmeningen 1\, Bergen\, Vestland\, 5000\, Norge
ORGANIZER;CN="Raudt Hordaland":MAILTO:hordaland@raudt.no
END:VEVENT
BEGIN:VEVENT
DTSTART;TZID=Europe/Oslo:20250830T110000
DTEND;TZID=Europe/Oslo:20250830T130000
DTSTAMP:20260425T123923
CREATED:20250804T181415Z
LAST-MODIFIED:20250804T181415Z
UID:10000476-1756551600-1756558800@roedtbergen.no
SUMMARY:Stand på Sletten Senter
DESCRIPTION:Rødt bergen Årstad har stand på/ved Sletten senter hver lørdag fram til valget.
URL:https://roedtbergen.no/aktivitet/stand-pa-sletten-senter/2025-08-30/
LOCATION:Sletten Senter\, Vilhelm Bjerknes' vei 4\, Bergen\, 5081\, Norge
ORGANIZER;CN="R%C3%B8dt Bergen %C3%85rstad":MAILTO:eir_bakke@hotmail.com
END:VEVENT
BEGIN:VEVENT
DTSTART;TZID=Europe/Oslo:20250830T110000
DTEND;TZID=Europe/Oslo:20250830T140000
DTSTAMP:20260425T123923
CREATED:20250830T090240Z
LAST-MODIFIED:20250830T090245Z
UID:10000534-1756551600-1756562400@roedtbergen.no
SUMMARY:Stand på Oasen
DESCRIPTION:
URL:https://roedtbergen.no/aktivitet/stand-pa-bybanestoppet-og-bussterminalen-oasen-2/
LOCATION:Oasen\, Folke Bernadottes vei 52\, Bergen\, 5147\, Norway
ORGANIZER;CN="R%C3%B8dt  Bergen Fyllingsdalen":MAILTO:sirituftlundemoen@gmail.com
END:VEVENT
BEGIN:VEVENT
DTSTART;TZID=Europe/Oslo:20250830T120000
DTEND;TZID=Europe/Oslo:20250830T130000
DTSTAMP:20260425T123923
CREATED:20250828T105550Z
LAST-MODIFIED:20250830T091048Z
UID:10000529-1756555200-1756558800@roedtbergen.no
SUMMARY:Utdeling ved Stå opp for naturen-dagen (Øvre Vågsallmenningen)
DESCRIPTION:Det er behov for aktivister til å dele ut løpesedler.
URL:https://roedtbergen.no/aktivitet/utdeling-ved-sta-opp-dagen/
LOCATION:Øvre Vågsallmenningen\, Vågsallmenningen 7\, Bergen\, 5014\, Norway
ORGANIZER;CN="R%C3%B8dt Bergen Sentrum":MAILTO:per.arne@roedt.no
END:VEVENT
BEGIN:VEVENT
DTSTART;TZID=Europe/Oslo:20250830T120000
DTEND;TZID=Europe/Oslo:20250830T140000
DTSTAMP:20260425T123923
CREATED:20250729T075946Z
LAST-MODIFIED:20250729T075946Z
UID:10000425-1756555200-1756562400@roedtbergen.no
SUMMARY:Valgbod
DESCRIPTION:Vi har åpen valgbod hver dag unntatt søndag fra 12-18 mellom 15. august og 7. september. Valgboden er stengt på søndager. I valgboden står vi alltid minst to personer\, prater med folk om Rødt og deler ut materiell. Øktene i valgboden er på to timer.
URL:https://roedtbergen.no/aktivitet/valgbod-3/2025-08-30/
LOCATION:Torgallmeningen\, Torgallmeningen 1\, Bergen\, Vestland\, 5000\, Norge
ORGANIZER;CN="Raudt Hordaland":MAILTO:hordaland@raudt.no
END:VEVENT
BEGIN:VEVENT
DTSTART;TZID=Europe/Oslo:20250830T120000
DTEND;TZID=Europe/Oslo:20250830T140000
DTSTAMP:20260425T123923
CREATED:20250810T085340Z
LAST-MODIFIED:20250810T085340Z
UID:10000495-1756555200-1756562400@roedtbergen.no
SUMMARY:Stand Nesttun sentrum
DESCRIPTION:
URL:https://roedtbergen.no/aktivitet/stand-nesttun-sentrum/
LOCATION:Nesttun sentrum
ORGANIZER;CN="R%C3%B8dt Bergen Fana":MAILTO:styret-rdt-fana@googlegroups.com
END:VEVENT
BEGIN:VEVENT
DTSTART;TZID=Europe/Oslo:20250830T120000
DTEND;TZID=Europe/Oslo:20250830T140000
DTSTAMP:20260425T123923
CREATED:20250827T110124Z
LAST-MODIFIED:20250827T110124Z
UID:10000526-1756555200-1756562400@roedtbergen.no
SUMMARY:Stand/utdeling Støletorget
DESCRIPTION:Kontaktperson er Marte Teigen (m. 472 94 650)
URL:https://roedtbergen.no/aktivitet/stand-utdeling-stoletorget/
ORGANIZER;CN="R%C3%B8dt Bergen":MAILTO:bergen@roedt.no
END:VEVENT
END:VCALENDAR