BEGIN:VCALENDAR
VERSION:2.0
PRODID:-//Rødt Bergen Ressurser - ECPv6.15.20//NONSGML v1.0//EN
CALSCALE:GREGORIAN
METHOD:PUBLISH
X-WR-CALNAME:Rødt Bergen Ressurser
X-ORIGINAL-URL:https://roedtbergen.no
X-WR-CALDESC:Arrangement for Rødt Bergen Ressurser
REFRESH-INTERVAL;VALUE=DURATION:PT1H
X-Robots-Tag:noindex
X-PUBLISHED-TTL:PT1H
BEGIN:VTIMEZONE
TZID:Europe/Oslo
BEGIN:DAYLIGHT
TZOFFSETFROM:+0100
TZOFFSETTO:+0200
TZNAME:CEST
DTSTART:20220327T010000
END:DAYLIGHT
BEGIN:STANDARD
TZOFFSETFROM:+0200
TZOFFSETTO:+0100
TZNAME:CET
DTSTART:20221030T010000
END:STANDARD
BEGIN:DAYLIGHT
TZOFFSETFROM:+0100
TZOFFSETTO:+0200
TZNAME:CEST
DTSTART:20230326T010000
END:DAYLIGHT
BEGIN:STANDARD
TZOFFSETFROM:+0200
TZOFFSETTO:+0100
TZNAME:CET
DTSTART:20231029T010000
END:STANDARD
BEGIN:DAYLIGHT
TZOFFSETFROM:+0100
TZOFFSETTO:+0200
TZNAME:CEST
DTSTART:20240331T010000
END:DAYLIGHT
BEGIN:STANDARD
TZOFFSETFROM:+0200
TZOFFSETTO:+0100
TZNAME:CET
DTSTART:20241027T010000
END:STANDARD
END:VTIMEZONE
BEGIN:VTIMEZONE
TZID:UTC
BEGIN:STANDARD
TZOFFSETFROM:+0000
TZOFFSETTO:+0000
TZNAME:UTC
DTSTART:20220101T000000
END:STANDARD
END:VTIMEZONE
BEGIN:VEVENT
DTSTART;TZID=Europe/Oslo:20230909T120000
DTEND;TZID=Europe/Oslo:20230909T140000
DTSTAMP:20260425T130628
CREATED:20230904T153113Z
LAST-MODIFIED:20230904T153114Z
UID:10000308-1694260800-1694268000@roedtbergen.no
SUMMARY:Stand på Støletorget
DESCRIPTION:Rødt Sandviken har stand på Støletorget kl 12. Bli med!
URL:https://roedtbergen.no/aktivitet/stand-pa-stoletorget-3-2/
LOCATION:Støletorget\, Støletorget 1\, Bergen\, Norge
END:VEVENT
BEGIN:VEVENT
DTSTART;TZID=Europe/Oslo:20230905T180000
DTEND;TZID=Europe/Oslo:20230905T200000
DTSTAMP:20260425T130628
CREATED:20230830T120730Z
LAST-MODIFIED:20230830T120815Z
UID:10000320-1693936800-1693944000@roedtbergen.no
SUMMARY:Postkasseaksjon i Ytre Sandviken
DESCRIPTION:Det blir mange løpesedler i mange postkasser i Ytre Sandviken denne uken\, med oppmøte på Hellen skole kl. 18 på tirsdag.
URL:https://roedtbergen.no/aktivitet/postkasseaksjon-i-ytre-sandviken/
LOCATION:Hellen skole\, Helleveien 118\, Bergen\, 5043\, Norge
END:VEVENT
BEGIN:VEVENT
DTSTART;TZID=Europe/Oslo:20230902T000000
DTEND;TZID=Europe/Oslo:20230902T140000
DTSTAMP:20260425T130628
CREATED:20230824T092513Z
LAST-MODIFIED:20230824T092612Z
UID:10000307-1693612800-1693663200@roedtbergen.no
SUMMARY:Stand på Støletorget
DESCRIPTION:Rødt Sandviken har stand på Støletorget kl 12. Bli med!
URL:https://roedtbergen.no/aktivitet/stand-pa-stoletorget-3/2023-09-02/
LOCATION:Støletorget\, Støletorget 1\, Bergen\, Norge
END:VEVENT
BEGIN:VEVENT
DTSTART;TZID=Europe/Oslo:20230826T000000
DTEND;TZID=Europe/Oslo:20230826T140000
DTSTAMP:20260425T130628
CREATED:20230824T092513Z
LAST-MODIFIED:20230824T092612Z
UID:10000306-1693008000-1693058400@roedtbergen.no
SUMMARY:Stand på Støletorget
DESCRIPTION:Rødt Sandviken har stand på Støletorget kl 12. Bli med!
URL:https://roedtbergen.no/aktivitet/stand-pa-stoletorget-3/2023-08-26/
LOCATION:Støletorget\, Støletorget 1\, Bergen\, Norge
END:VEVENT
BEGIN:VEVENT
DTSTART;TZID=UTC:20230805T110000
DTEND;TZID=UTC:20230805T123000
DTSTAMP:20260425T130628
CREATED:20230802T090415Z
LAST-MODIFIED:20230802T090430Z
UID:10000035-1691233200-1691238600@roedtbergen.no
SUMMARY:Stand på Støletorget
DESCRIPTION:Rødt Bergen Sandviken markerer valgkampåpningen med stand på Støletorget før vi drar til Rødt Bergens valgkampåpning.  \n 
URL:https://roedtbergen.no/aktivitet/stand-pa-stoletorget/
LOCATION:Støletorget\, Støletorget 1\, Bergen\, Norge
END:VEVENT
END:VCALENDAR